BEGIN:VCALENDAR
VERSION:2.0
PRODID:-//ISPE BR - ECPv5.12.2//NONSGML v1.0//EN
CALSCALE:GREGORIAN
METHOD:PUBLISH
X-WR-CALNAME:ISPE BR
X-ORIGINAL-URL:https://ispe.org.br
X-WR-CALDESC:Events for ISPE BR
REFRESH-INTERVAL;VALUE=DURATION:PT1H
X-Robots-Tag:noindex
X-PUBLISHED-TTL:PT1H
BEGIN:VTIMEZONE
TZID:America/Sao_Paulo
BEGIN:STANDARD
TZOFFSETFROM:-0300
TZOFFSETTO:-0300
TZNAME:-03
DTSTART:20260101T000000
END:STANDARD
END:VTIMEZONE
BEGIN:VEVENT
DTSTART;TZID=America/Sao_Paulo:20260622T080000
DTEND;TZID=America/Sao_Paulo:20260623T170000
DTSTAMP:20260419T143244
CREATED:20251123T142052Z
LAST-MODIFIED:20260302T121508Z
UID:3510-1782115200-1782234000@ispe.org.br
SUMMARY:Treinamento Online: Águas para Indústria Farmacêutica
DESCRIPTION:Dia 22 de junho: das 8h às 17h\nDia 23 de junho: das 8h às 12h \nCarga Horária: 12 horas\nInvestimento:\nAntecipado até 10/05/2026\nAssociado ISPE: R$ 700\,00\nNão sócios: R$ 970\,00 \nSem desconto após 10/05/2026\nAssociado ISPE: R$ 920\,00\nNão sócios: R$ 1.200\,00 \nEstudantes de Graduação (Sujeito à disponibilidade de vaga): R$ 300\,00 (Necessária documentação comprobatória)\nInspetores Órgãos Reguladores: Cortesia (Sujeito à disponibilidade de vaga) / (Necessária documentação comprobatória) \nConteúdo: \nNeste treinamento serão abordados os principais temas relacionados ao projeto\, especificação\, instalação e qualificação dos sistemas de Águas para Indústria Farmacêutica\, com aprofundamento nas principais tecnologias de geração e configurações dos sistemas de armazenamento e distribuição.\nSerão abordados os seguintes temas:\n• Uso de água na Indústria Farmacêutica;\n• Normas e regulamentos;\n• Contaminantes;\n• Tipos de águas;\n• Monitoramento e limites de alerta;\n• Sanitização;\n• Componentes do Sistema (Pré-tratamento\, Tratamento\, Polimento\, Armazenamento\, Distribuição e Monitoramento);\n• Exemplos de configurações de loops de águas;\n• Vapor Puro;\n• Ciclo da documentação (Etapas de qualificação e URS). \nObjetivos: \nProfissionais que desejam adquirir conhecimento sobre as boas práticas no desenvolvimento de projetos de águas e vapor puro\, apresentando as tecnologias mais aplicadas para geração e pontos de atenção no desenvolvimento das configurações do sistema de geração\, estocagem e distribuição. \nPúblico Alvo:\nTreinamento voltado a profissionais dos departamentos de engenharia\, manutenção e validação. \nInstrutora:\nAnnelise Gitti Costa de Campos – Nordika do Brasil\nGraduada em Engenharia Química pela FASB. Possui 15 anos de experiência em desenvolvimentos de projetos nacionais e internacionais de engenharia conceitual\, básico e detalhado. É especializada em projetos da área de processos\, utilidades limpas e utilidades industriais. Já atuou em projetos para indústrias farmacêuticas (Eurofarma\, Cristália\, Instituto Butantan\, Brainfarma\, entre outras)\, alimentícia (Recofarma) e cosmética (Natura e Colgate).\nHoje Annelise é Engenheira de Processo da Nordika do Brasil.
URL:https://ispe.org.br/evento/treinamento-online-aguas-para-industria-farmaceutica-2/
LOCATION:ZOOM – Link será enviado posteriormente
ATTACH;FMTTYPE=image/png:https://ispe.org.br/wp-content/uploads/2025/11/aguas-ap-2.png
END:VEVENT
END:VCALENDAR