BEGIN:VCALENDAR
VERSION:2.0
PRODID:-//ISPE BR - ECPv5.12.2//NONSGML v1.0//EN
CALSCALE:GREGORIAN
METHOD:PUBLISH
X-WR-CALNAME:ISPE BR
X-ORIGINAL-URL:https://ispe.org.br
X-WR-CALDESC:Events for ISPE BR
REFRESH-INTERVAL;VALUE=DURATION:PT1H
X-Robots-Tag:noindex
X-PUBLISHED-TTL:PT1H
BEGIN:VTIMEZONE
TZID:America/Sao_Paulo
BEGIN:STANDARD
TZOFFSETFROM:-0300
TZOFFSETTO:-0300
TZNAME:-03
DTSTART:20260101T000000
END:STANDARD
END:VTIMEZONE
BEGIN:VEVENT
DTSTART;TZID=America/Sao_Paulo:20260608T080000
DTEND;TZID=America/Sao_Paulo:20260610T120000
DTSTAMP:20260419T143201
CREATED:20251123T141222Z
LAST-MODIFIED:20260302T121246Z
UID:3506-1780905600-1781092800@ispe.org.br
SUMMARY:Treinamento Online: Documentação Técnica da Qualidade - Visão Teórica & Prática
DESCRIPTION:Carga Horária: 12 horas\nInvestimento:\nAntecipado até 10/05/2026\nAssociado ISPE: R$ 700\,00\nNão sócios: R$ 970\,00 \nSem desconto após 10/05/2026\nAssociado ISPE: R$ 920\,00\nNão sócios: R$ 1.200\,00 \nEstudantes de Graduação (Sujeito à disponibilidade de vaga): R$ 300\,00 (Necessária documentação comprobatória)\nInspetores Órgãos Reguladores: Cortesia (Sujeito à disponibilidade de vaga) / (Necessária documentação comprobatória) \nConteúdo Programático:\nO treinamento Documentação Técnica da Qualidade na Indústria Farmacêutica – Requisitos Regulatórios Anvisa e Diretrizes da ISO 10013 foi desenvolvido para capacitar profissionais das Ciências da Vida na estruturação\, padronização\, implementação e gestão do sistema de documentação da qualidade\, assegurando conformidade com as boas práticas farmacêuticas\, integridade de dados e atendimento aos requisitos regulatórios e normativos aplicáveis.\nO curso está fundamentado nos requisitos de Boas Práticas de Fabricação estabelecidos pela Anvisa\, com ênfase na RDC 658/22\, e nas diretrizes da ISO 10013\, que orienta o desenvolvimento\, controle e melhoria da documentação de sistemas de gestão da qualidade. Essa abordagem integrada visa garantir documentação adequada ao uso pretendido\, consistente com os processos operacionais\, suportando a rastreabilidade\, a tomada de decisão e a melhoria contínua do Sistema de Qualidade Farmacêutica.\nAo longo do treinamento\, os participantes serão habilitados a definir a arquitetura documental do Sistema de Qualidade\, estabelecer critérios técnicos para elaboração\, revisão\, aprovação\, distribuição e controle de documentos e registros\, bem como\, a diferenciar e aplicar corretamente os diversos tipos de documentos da qualidade\, tais como políticas\, manuais\, procedimentos\, instruções de trabalho\, formulários e registros. O curso aborda ainda os requisitos relacionados à gestão do ciclo de vida documental\, controle de versões\, retenção\, arquivamento e descarte\, com foco em conformidade regulatória e integridade de dados.\nA capacitação enfatiza a documentação como elemento estruturante do controle de processos\, da padronização operacional e da evidência objetiva de conformidade\, destacando sua interface com processos críticos como desvios\, CAPAs\, controle de mudanças\, qualificação\, validação\, treinamentos e auditorias. São discutidas expectativas regulatórias\, principais deficiências observadas em inspeções e boas práticas para assegurar clareza\, consistência e usabilidade da documentação técnica.\nA metodologia adotada combina fundamentos normativos\, interpretação regulatória e aplicação prática\, com exemplos reais da indústria farmacêutica\, análises de documentos\, estudos de caso e discussões orientadas às expectativas de auditorias e inspeções. Essa abordagem contribui para o fortalecimento da cultura da qualidade\, a redução de desvios relacionados à documentação\, o aumento da maturidade do Sistema de Qualidade e a preparação dos profissionais para uma atuação técnica\, crítica e alinhada às melhores práticas internacionais. \nEmenta:\n• Fundamentos e Contexto Regulatório; \n• A Informação Documentada e o Sistema de Qualidade Farmacêutico;\nImportância da Documentação;\nInformação Documentada;\nConceitos de Integridade de Dados;\nGerenciamento do Ciclo de Vida da Documentação Farmacêutica;\nBoas Práticas de Documentação. \n• Bases Normativas:\nISO 10013/2021;\nPIC/S (Revisão do Capítulo 4)\nAnvisa – RDC 658/22 (Documentação e Conformidade) \n• Hierarquia da Documentação;\n• Sistema de Documentação Farmacêutico;\n• Conceitos de Integridade de Dados;\n• POP dos POPs; \n•Principais Tipos de Documentos Farmacêuticos:\nManual da Qualidade;\nArquivo Mestre de Planta (Site Master Plan);\nPlano Mestre de Validação (Validation Master Plan);\nProcedimento Operacional Padrão (POP);\nInstruções de Trabalho;\nFormulários e Registros;\nFórmulas Padrão;\nEspecificações;\nInstruções de Manufatura e Embalagem. \n• Softwares de Documentação Farmacêuticos;\n• Exercício Prático (Estudos de Caso);\n• Networking. \nObjetivos:\nAo final do treinamento\, os participantes serão capazes de:\n• Interpretar e aplicar os requisitos de documentação e controle documental estabelecidos pela RDC 658/22 da Anvisa\, assegurando aderência às Boas Práticas de Fabricação.\n• Aplicar as diretrizes da ISO 10013 na definição da arquitetura documental\, hierarquia de documentos e critérios técnicos para elaboração\, revisão\, aprovação\, distribuição e controle de documentos e registros.\n• Estruturar e manter um sistema de documentação robusto\, consistente e adequado ao uso pretendido\, alinhado aos processos operacionais e às necessidades do negócio.\n• Diferenciar e aplicar corretamente os diversos tipos de documentos da qualidade (políticas\, manuais\, procedimentos\, instruções de trabalho\, formulários e registros).\n• Gerenciar o ciclo de vida documental\, incluindo controle de versões\, rastreabilidade\, retenção\, arquivamento e descarte\, em conformidade com requisitos regulatórios e normativos.\n• Assegurar a integridade de dados e a confiabilidade das informações documentadas\, suportando investigações\, tomada de decisão e melhoria contínua.\n• Identificar e mitigar riscos associados à documentação inadequada\, incompleta ou inconsistente\, reduzindo desvios\, retrabalhos e observações em auditorias e inspeções.\n• Preparar e manter a documentação técnica da qualidade de forma adequada às expectativas de auditorias internas\, externas e inspeções regulatórias.\n• Contribuir para o fortalecimento da cultura da qualidade e para a maturidade do Sistema de Qualidade Farmacêutica. \nPúblico-alvo:\nEste curso é direcionado a profissionais da indústria farmacêutica e de ciências da vida que atuam direta ou indiretamente na elaboração\, gestão\, utilização ou auditoria da documentação técnica da qualidade\, incluindo:\n• Profissionais de Garantia da Qualidade e Controle da Qualidade;\n• Profissionais das áreas de Produção\, Engenharia\, Manutenção e Utilidades;\n• Profissionais de Validação\, Qualificação e Tecnologia Farmacêutica;\n• Profissionais de Assuntos Regulatórios;\n• Profissionais de Treinamento\, Compliance\, Auditoria e Autoinspeção. \nInstrutor:\nRicardo Miranda (RM Consulting)\nFarmacêutico Bioquímico\, formado pela Universidade de São Paulo\, Pós-graduação CEAG- Fundação Getúlio Vargas; MBA em Gestão Econômica e Estratégica de Projetos\, Certificação como CPIM pelo APICS ® Institute e Formação Black Belt pelo Instituto Vanzolini – USP.\nAtuou por mais de 35 anos em várias áreas técnicas da indústria farmacêutica (qualidade\, desenvolvimento\, produção\, engenharia\, excelência operacional\, gerenciamento de projetos\, logística e supply).\nMais de 25 anos atuando na área de logística de temperatura controlada nas Américas e Presidente do Comitê de Cadeia Fria ISPE Brasil.\nPresidente da ISPE Brasil.\nProfessor e Coordenador de Curso de Extensão e Pós-graduação.\nConsultor Sênior na RM Consulting.
URL:https://ispe.org.br/evento/treinamento-online-documentacao-tecnica-da-qualidade-visao-teorica-pratica/
LOCATION:ZOOM – Link será enviado posteriormente
ATTACH;FMTTYPE=image/png:https://ispe.org.br/wp-content/uploads/2025/11/documentacao-ap-2.png
END:VEVENT
END:VCALENDAR