BEGIN:VCALENDAR
VERSION:2.0
PRODID:-//ISPE BR - ECPv5.12.2//NONSGML v1.0//EN
CALSCALE:GREGORIAN
METHOD:PUBLISH
X-WR-CALNAME:ISPE BR
X-ORIGINAL-URL:https://ispe.org.br
X-WR-CALDESC:Events for ISPE BR
REFRESH-INTERVAL;VALUE=DURATION:PT1H
X-Robots-Tag:noindex
X-PUBLISHED-TTL:PT1H
BEGIN:VTIMEZONE
TZID:America/Sao_Paulo
BEGIN:STANDARD
TZOFFSETFROM:-0300
TZOFFSETTO:-0300
TZNAME:-03
DTSTART:20260101T000000
END:STANDARD
END:VTIMEZONE
BEGIN:VEVENT
DTSTART;TZID=America/Sao_Paulo:20260504T080000
DTEND;TZID=America/Sao_Paulo:20260506T120000
DTSTAMP:20260419T131408
CREATED:20251123T135718Z
LAST-MODIFIED:20260331T172722Z
UID:3500-1777881600-1778068800@ispe.org.br
SUMMARY:Treinamento Online: Gestão de Desvios\, Não Conformidades e CAPAs na Indústria Farmacêutica - Perspectiva ICH Q10 (Sistema de Qualidade Farmacêutica)\, Gestão de Riscos (ICH Q9) e RDC 658/22 Anvisa
DESCRIPTION:Carga Horária: 12 horas\nInvestimento:\nAntecipado até 10/04/2026\nAssociado ISPE: R$ 700\,00\nNão sócios: R$ 970\,00 \nSem desconto após 10/04/2026\nAssociado ISPE: R$ 920\,00\nNão sócios: R$ 1.200\,00 \nEstudantes de Graduação (Sujeito à disponibilidade de vaga): R$ 300\,00 (Necessária documentação comprobatória)\nInspetores Órgãos Reguladores: Cortesia (Sujeito à disponibilidade de vaga) / (Necessária documentação comprobatória) \nConteúdo Programático:\nO treinamento Gestão de Desvios\, Não Conformidades e CAPAs na Indústria Farmacêutica – Perspectiva de Risco e Sistema de Qualidade Farmacêutica foi desenvolvido para capacitar profissionais das Ciências da Vida na estruturação\, implementação e gestão eficaz dos processos de tratamento de desvios\, não conformidades e ações corretivas e preventivas (CAPA)\, em conformidade com as boas práticas farmacêuticas e com os requisitos regulatórios vigentes.\nO curso está fundamentado nos princípios do ICH Q10 – Sistema de Qualidade Farmacêutica\, integrando de forma prática a Gestão de Riscos da Qualidade\, conforme o ICH Q9\, e os requisitos estabelecidos pela RDC 658/22 da Anvisa. Essa abordagem integrada visa assegurar investigações proporcionais ao risco\, CAPAs eficazes e sustentáveis\, a manutenção do estado de controle dos processos e a melhoria contínua do Sistema de Qualidade Farmacêutica.\nAo longo do treinamento\, os participantes serão habilitados a identificar\, classificar\, investigar e tratar desvios e não conformidades de forma estruturada\, utilizando metodologias consolidadas de análise de causa raiz e ferramentas de avaliação e priorização de riscos. O curso enfatiza a tomada de decisão baseada em risco\, a definição de CAPAs adequadas à criticidade do evento e a avaliação da efetividade das ações implementadas.\nA metodologia combina fundamentos conceituais e aplicação prática\, com exemplos reais da indústria farmacêutica\, estudos de caso e discussões orientadas às expectativas regulatórias. Essa abordagem contribui para a redução de recorrência de desvios\, o fortalecimento da cultura da qualidade\, o aumento da robustez das investigações e a preparação dos profissionais para auditorias e inspeções regulatórias\, promovendo uma atuação segura\, consistente e alinhada às melhores práticas internacionais. \nEmenta:\n• Fundamentos e Contexto Regulatório;\n• Gestão de Desvios e Não Conformidades; \n• CAPA (Ações Corretivas e Preventivas):\nOs 7 Elementos do Sistema CAPA;\nAvaliação de Maturidade do Sistema CAPA; \n• Gestão de Riscos aplicada a Desvios\, NCs e CAPA:\nCriticidade dos Desvios e NCs\nMatriz de Risco & Impacto; \n• Documentação do Sistema de Desvios\, NCs e CAPA; \n• Investigação das Não Conformidades e Desvios:\nFerramentas da qualidade para a determinação de causas raízes;\n5 Porquês;\nDiagrama de Causa e Efeito (Ishikawa\, Espinha de Peixe);\nAnálise da Árvore de Falhas (FTA); \n• Erro Humano:\nConceitos;\nCategorização;\nComprovação;\nFerramenta prática para determinação de erro humano; \n• Elaboração do Plano de Ação & CAPAs:\nUso do PDCA para determinação dos CAPAs;\nUso do DMAIC para determinação dos CAPAs;\n5W2H\nElaboração do Plano de Ação & CAPAs; \n• Acompanhamento e Verificação da Eficácia das Ações;\n• Métricas e KPIs;\n• Gestão do Conhecimento (ICHQ12): Cultura de Qualidade e Melhoria Contínua;\n• Exercício Prático (Estudos de Caso);\n• Networking. \nObjetivos:\nAo final do treinamento\, os participantes serão capazes de:\n• Compreender o papel da gestão de desvios\, não conformidades e CAPAs dentro do Sistema de Qualidade Farmacêutica\, conforme o ICH Q10.\n• Aplicar os princípios de gestão de riscos à qualidade\, de acordo com o ICH Q9\, para priorização\, investigação e tomada de decisão.\n• Interpretar e aplicar os requisitos da RDC 658/22\, assegurando conformidade regulatória com a Anvisa.\n• Conduzir investigações eficazes de desvios e não conformidades\, utilizando metodologias estruturadas de análise de causa raiz.\n• Desenvolver\, implementar e monitorar CAPAs eficazes\, sustentáveis e baseadas em risco.\n• Integrar a gestão de desvios e CAPAs aos processos de melhoria contínua\, gestão do conhecimento e revisão pela direção.\n• Preparar a organização para inspeções regulatórias\, auditorias internas e externas \nPúblico-alvo:\n• Estudantes das áreas de Engenharia\, Tecnologia\, Farmácia\, etc.\n• Profissionais de Garantia da Qualidade\, Controle da Qualidade\, Produção\, Engenharia\, Assuntos Regulatórios\, Validação\, Supply Chain etc.\n• Gestores\, coordenadores\, supervisores e especialistas da indústria farmacêutica e de ciências da vida. \nInstrutor:\nRicardo Miranda (RM Consulting)\nFarmacêutico Bioquímico\, formado pela Universidade de São Paulo\, Pós-graduação CEAG- Fundação Getúlio Vargas; MBA em Gestão Econômica e Estratégica de Projetos\, Certificação como CPIM pelo APICS ® Institute e Formação Black Belt pelo Instituto Vanzolini – USP.\nAtuou por mais de 35 anos em várias áreas técnicas da indústria farmacêutica (qualidade\, desenvolvimento\, produção\, engenharia\, excelência operacional\, gerenciamento de projetos\, logística e supply).\nMais de 25 anos atuando na área de logística de temperatura controlada nas Américas e Presidente do Comitê de Cadeia Fria ISPE Brasil.\nPresidente da ISPE Brasil.\nProfessor e Coordenador de Curso de Extensão e Pós-graduação.\nConsultor Sênior na RM Consulting. \nVAGAS ESGOTADAS
URL:https://ispe.org.br/evento/treinamento-online-gestao-de-desvios-nao-conformidades-e-capas-na-industria-farmaceutica-perspectiva-ich-q10-sistema-de-qualidade-farmaceutica-gestao-de-riscos-ich-q9-e-rdc-658-22-anvisa/
LOCATION:ZOOM – Link será enviado posteriormente
ATTACH;FMTTYPE=image/png:https://ispe.org.br/wp-content/uploads/2025/11/gestao-de-desvio-ap-2.png
END:VEVENT
END:VCALENDAR