BEGIN:VCALENDAR
VERSION:2.0
PRODID:-//ISPE BR - ECPv5.12.2//NONSGML v1.0//EN
CALSCALE:GREGORIAN
METHOD:PUBLISH
X-WR-CALNAME:ISPE BR
X-ORIGINAL-URL:https://ispe.org.br
X-WR-CALDESC:Events for ISPE BR
REFRESH-INTERVAL;VALUE=DURATION:PT1H
X-Robots-Tag:noindex
X-PUBLISHED-TTL:PT1H
BEGIN:VTIMEZONE
TZID:America/Sao_Paulo
BEGIN:STANDARD
TZOFFSETFROM:-0300
TZOFFSETTO:-0300
TZNAME:-03
DTSTART:20250101T000000
END:STANDARD
END:VTIMEZONE
BEGIN:VEVENT
DTSTART;TZID=America/Sao_Paulo:20251006T080000
DTEND;TZID=America/Sao_Paulo:20251007T120000
DTSTAMP:20260420T032033
CREATED:20241122T223043Z
LAST-MODIFIED:20250910T230617Z
UID:2872-1759737600-1759838400@ispe.org.br
SUMMARY:Treinamento Online: "Validação de Planilhas Eletrônicas"
DESCRIPTION:Carga Horária: 8 horas\nInvestimento:\nAntecipado até 31/08/2025\nAssociado ISPE: R$ 430\,00\nNão sócios: R$ 600\,00 \nSem desconto após 31/08/2025\nAssociado ISPE: R$ 570\,00\nNão sócios: R$ 750\,00 \nEstudantes de Graduação (Sujeito à disponibilidade de vaga): R$ 215\,00 (Necessária documentação comprobatória)\nInspetores Órgãos Reguladores: Cortesia (Sujeito à disponibilidade de vaga) / (Necessária documentação comprobatória) \nConteúdo:\nConheça as principais estratégias e metodologias relativas à Validação de Planilhas Eletrônicas e a\naceitação ou não das autoridades regulatórias sobre o tema. \nComo podemos validar Planilhas Eletrônicas e diminuir o risco do uso das mesmas em termos de Segurança do Paciente\, Qualidade do Produto\, Integridade da Informação e sua Rastreabilidade:\n    • Metodologia\n    • Gerenciamento\n    • Segurança  \nSerão abordados neste treinamento: • Metodologia\, • Tipos de Planilhas (Usos de planilhas nas empresas da ciências da vida\, • Motivos relevantes para validar Planilhas Eletrônicas)\, • Estrutura de Gerenciamento\, • Papeis e Responsabilidades\, • Qualificação /Testes\, • Análise (Impacto)\, • Documentação\, • Classificação do Risco\, • Dicas de Segurança\, • Exercícios\, • Manutenção do Estado de Validado e • Aposentadoria. \nObjetivos:\nO objetivo é auxiliar profissionais no Desenvolvimento\, Operação e Manutenção de Validação de Planilhas Eletrônicas que estejam envolvidas no processual de pesquisa\, desenvolvimento\, manufatura\, controle da qualidade\, importação\, armazenagem e distribuição de produtos médicos de consumo humano\, das indústrias de Ciências da Vida\, no segmento: • Fabricação de Insumos Farmacêuticos Ativos; • Fabricação de Medicamentos; • Fabricação para Produtos Saneantes; • Fabricação para Produtos de Higiene Pessoal\, Cosméticos e Perfumes entre outros. Referência as normativas GAMP 5 /2⁰ Edição; Guia n° 33/2020 – Validação de Sistemas Computadorizados. \nPúblico-alvo:\nTreinamento voltado a todos os estudantes\, colaboradores e fornecedores de empresas de ciências da vida\, com maior destaque às seguintes áreas de atuação:\n• Validação de Sistemas Computadorizados.\n• Assuntos Regulatórios.\n• Farmacovigilância.\n• Pesquisa Clínica.\n• Amostragem de Materiais.\n• Estoque.\n• Pesagem.\n• Produção.\n• Controle de Qualidade.\n• Garantia da Qualidade.\n• SAC.\n• Recebimento/Distribuição. \nOrientadora:\nMarcele Guidastre \nPós-graduada em Análise de Sistemas pela Uni Lins (Centro Universitário de Lins)\, e de Gestão da Qualidade em (Validação de Sistema Computadorizados) com 28 anos de experiência\, nas atividades relacionadas\, adquiridos em empresas dos segmentos farmacêutico\, financeiro\, industrial\, entre outras. \nFormação DPO Master (Data Protection Officer)\, Certificada Faculdade FaCiencias e TIEXAMES. \nCursando Pós-graduação em Neurociência\, Comunicação e Desenvolvimento Humano\, Certificado Lato Sensu pela Faculdade Centro de Mediadores. \n• Auditora em Sistemas de Gestão da Qualidade;\n• Auditoria em Fornecedores;\n• Especialista em Governança de TI;\n• Especialista em Validação de Sistema Computadorizados;\n• Especialista em Validação de Planilhas Eletrônicas;\n• Especialista em Qualificação de Infraestrutura de TI;\n• Especialista em Quality by Design desde a construção civil\, seguido de processos;\n• Especialista em Comissionamento /Qualificação de Equipamentos;\n• Gestão de Projetos de todos os segmentos;\n• Implementadora da ISO 9001:2015 /Família ISO 27000;\n• Gerenciamento de projetos para implantação LGPD – Lei Geral de Proteção de Dados;\n• Membro do ISPE – Comitê de Risk Mapp\, Comitê Women In Pharma\, Comitê GAMP.\n• Membro AP® (Associação Nacional dos Profissionais de Privacidade de Dados) – Comitê de Governança e Segurança da Informação.
URL:https://ispe.org.br/evento/treinamento-online-validacao-de-planilhas-eletronicas-5/
LOCATION:ZOOM – Link será enviado posteriormente
ATTACH;FMTTYPE=image/png:https://ispe.org.br/wp-content/uploads/2024/11/validacao-de-planilhas-ap-3.png
END:VEVENT
BEGIN:VEVENT
DTSTART;TZID=America/Sao_Paulo:20251008T090000
DTEND;TZID=America/Sao_Paulo:20251009T170000
DTSTAMP:20260420T032033
CREATED:20241115T114538Z
LAST-MODIFIED:20250910T223745Z
UID:2820-1759914000-1760029200@ispe.org.br
SUMMARY:Treinamento Online: "Comissionamento e Qualificação"
DESCRIPTION:Carga Horária: 16 horas\nInvestimento: \nAntecipado até 31/08/2025\nAssociado ISPE: R$ 860\,00\nNão sócios: R$ 1.420\,00 \nSem desconto após 31/08/2025\nAssociado ISPE: R$ 1.135\,00\nNão sócios: R$ 1.530\,00 \nEstudantes de Graduação (Sujeito à disponibilidade de vaga): R$ 430\,00 (Necessária documentação comprobatória)\nInspetores Órgãos Reguladores: Cortesia (Sujeito à disponibilidade de vaga) / (Necessária documentação comprobatória) \nConteúdo:\nAtravés de um guia que aborda sólidos conceitos de Boas Práticas de Engenharia e Boas Práticas de Fabricação\, aliada ao conceito de comissionamento + qualificação este treinamento inclui:\n* Bases normativas e conceituais\n* Ciclo de Vida de Validação somando comissionamento e qualificação\n* Manutenção do estado validado \nObjetivos:\nEste treinamento abordará conceitos de como aplicar comissionamento e qualificação em um único ciclo de vida de validação. \nPúblico Alvo:\nProfissionais das áreas de engenharia\, prestadores de serviço\, consultores\, analista de validação e garantia da qualidade. \nInstrutora:\nAna Marie Kaneto \nEngenheira Elétrica e Tecnóloga em Construção Civil\, atua na indústria farmacêutica há 16 anos\, com experiência em comissionamento e qualificação de equipamentos\, sistemas de utilidades\, sistemas de automação\, validação de sistemas computadorizados\, qualificação de projetos.\nNos últimos oito anos coordena\, gerencia projetos e ministra treinamentos e palestras de Boas Práticas de Documentação\, Qualificação de Equipamentos\, Validação de Sistemas de Computadorizados para Automação.\nFaz parte dos CoPs de Comissionamento e Qualificação\, GAMP e Women in Pharma®.\nTesoureira ISPE Brasil – 2019/2020 e 2021/2022 e Diretora Vice-Presidente 2023/2024. Reeleita para 2025/2026.
URL:https://ispe.org.br/evento/treinamento-online-comissionamento-e-qualificacao-4/
LOCATION:ZOOM – Link será enviado posteriormente
ATTACH;FMTTYPE=image/png:https://ispe.org.br/wp-content/uploads/2024/11/comissionamento-ap-1.png
END:VEVENT
END:VCALENDAR