BEGIN:VCALENDAR
VERSION:2.0
PRODID:-//ISPE BR - ECPv5.12.2//NONSGML v1.0//EN
CALSCALE:GREGORIAN
METHOD:PUBLISH
X-WR-CALNAME:ISPE BR
X-ORIGINAL-URL:https://ispe.org.br
X-WR-CALDESC:Events for ISPE BR
REFRESH-INTERVAL;VALUE=DURATION:PT1H
X-Robots-Tag:noindex
X-PUBLISHED-TTL:PT1H
BEGIN:VTIMEZONE
TZID:America/Sao_Paulo
BEGIN:STANDARD
TZOFFSETFROM:-0300
TZOFFSETTO:-0300
TZNAME:-03
DTSTART:20250101T000000
END:STANDARD
END:VTIMEZONE
BEGIN:VEVENT
DTSTART;TZID=America/Sao_Paulo:20250825T090000
DTEND;TZID=America/Sao_Paulo:20250825T170000
DTSTAMP:20260420T075446
CREATED:20241115T113529Z
LAST-MODIFIED:20250621T115948Z
UID:2815-1756112400-1756141200@ispe.org.br
SUMMARY:Treinamento Online: "Qualificação de Projetos"
DESCRIPTION:Carga Horária: 8 horas\nInvestimento:\nAntecipado até 10/07/2025\nAssociado ISPE: R$ 430\,00\nNão sócios: R$ 600\,00 \nSem desconto após 10/07/2025\nAssociado ISPE: R$ 570\,00\nNão sócios: R$ 750\,00 \nEstudantes de Graduação (Sujeito à disponibilidade de vaga): R$ 215\,00 (Necessária documentação comprobatória)\nInspetores Órgãos Reguladores: Cortesia (Sujeito à disponibilidade de vaga) / (Necessária documentação comprobatória) \nConteúdo:\nAtravés de um guia que aborda sólidos conceitos de Boas Práticas de Engenharia e Boas Práticas de Fabricação\, aliada ao conceito de qualificação de projeto este treinamento incluí:\n   * Bases normativas e conceituais\n   * Quais aspectos devem ser considerados para Qualificar um Projeto nas Indústrias de Ciências da Vida \nObjetivos:\nAplicando os conceitos atuais de BPE e BPF e as regulamentações vigentes treinar/orientar os participantes a qualificar um projeto de engenharia\, equipamentos e sistemas voltados para as indústrias de ciências da vida. \nPúblico Alvo:\nTodas as áreas da Indústria de Ciências da Vida. \nInstrutora:\nAna Marie Kaneto \nEngenheira Elétrica e Tecnóloga em Construção Civil\, atua na indústria farmacêutica há 16 anos\, com experiência em comissionamento e qualificação de equipamentos\, sistemas de utilidades\, sistemas de automação\, validação de sistemas computadorizados\, qualificação de projetos.\nNos últimos oito anos coordena\, gerencia projetos e ministra treinamentos e palestras de Boas Práticas de Documentação\, Qualificação de Equipamentos\, Validação de Sistemas de Computadorizados para Automação.\nFaz parte dos CoPs de Comissionamento e Qualificação\, GAMP e Women in Pharma®.\nTesoureira ISPE Brasil – 2019/2020 e 2021/2022 e Diretora Vice-Presidente 2023/2024. Reeleita para 2025/2026.
URL:https://ispe.org.br/evento/treinamento-online-qualificacao-de-projetos-5/
LOCATION:ZOOM – Link será enviado posteriormente
ATTACH;FMTTYPE=image/png:https://ispe.org.br/wp-content/uploads/2024/11/qualificacao-de-projetos-2.png
END:VEVENT
BEGIN:VEVENT
DTSTART;TZID=America/Sao_Paulo:20250827T080000
DTEND;TZID=America/Sao_Paulo:20250828T120000
DTSTAMP:20260420T075446
CREATED:20250504T233900Z
LAST-MODIFIED:20250808T150847Z
UID:3167-1756281600-1756382400@ispe.org.br
SUMMARY:Treinamento Online: "Sub tópico GAMP – Visão baseado em risco para Sistemas de Laboratório com impacto BPx (Segunda Edição)"
DESCRIPTION:Carga Horária: 8 horas\nInvestimento:\nAntecipado até 10/07/2025\nAssociado ISPE: R$ 430\,00\nNão sócios: R$ 600\,00 \nSem desconto após 10/07/2025\nAssociado ISPE: R$ 570\,00\nNão sócios: R$ 750\,00 \nEstudantes de Graduação (Sujeito à disponibilidade de vaga): R$ 215\,00 (Necessária documentação comprobatória)\nInspetores Órgãos Reguladores: Cortesia (Sujeito à disponibilidade de vaga) / (Necessária documentação comprobatória) \nConteúdo: \nVisão geral do Guia da ISPE entitulado “A Risk-Based Approach to GxP Compliant Laboratory Computerized Systems (Second Edition)”\, provendo uma visão da categorização e dos riscos associados aos processos\, determinando o racional para a Validação de Sistemas Computadorizados de Laboratório.   \nObjetivos: \nAo final do treinamento\, o participante terá uma clara visão do que é necessário para atender ao ciclo de vida de Sistemas de Laboratório\, contemplando as Boas Práticas de Fabricação (BPF)\, as Boas Práticas de Laboratório (BPL) e as Boas Práticas Clínicas (BPC). \nPúblico Alvo: \nProfissionais de Laboratório\, de Qualidade Assegurada\, de Validação de Sistemas Computadorizados\, Técnicos em Informática e Automação que suportam e gerenciam este tipo de sistemas\, desenvolvedores de software e fornecedores de serviços para Laboratório. \nInstrutora:\nJozie Azevedo de Souza (Organon Farmacêutica)\nDiretora responsável pela área de Business Technology\, que contempla as sub áreas de informática\, automação e validação de sistemas computadorizados\, para Latina América.
URL:https://ispe.org.br/evento/treinamento-online-sub-topico-gamp-visao-baseado-em-risco-para-sistemas-de-laboratorio-com-impacto-bpx-segunda-edicao/
LOCATION:ZOOM – Link será enviado posteriormente
ATTACH;FMTTYPE=image/png:https://ispe.org.br/wp-content/uploads/2025/05/sub-ago-ap-2.png
END:VEVENT
END:VCALENDAR