BEGIN:VCALENDAR
VERSION:2.0
PRODID:-//ISPE BR - ECPv5.12.2//NONSGML v1.0//EN
CALSCALE:GREGORIAN
METHOD:PUBLISH
X-WR-CALNAME:ISPE BR
X-ORIGINAL-URL:https://ispe.org.br
X-WR-CALDESC:Events for ISPE BR
REFRESH-INTERVAL;VALUE=DURATION:PT1H
X-Robots-Tag:noindex
X-PUBLISHED-TTL:PT1H
BEGIN:VTIMEZONE
TZID:America/Sao_Paulo
BEGIN:STANDARD
TZOFFSETFROM:-0300
TZOFFSETTO:-0300
TZNAME:-03
DTSTART:20250101T000000
END:STANDARD
END:VTIMEZONE
BEGIN:VEVENT
DTSTART;TZID=America/Sao_Paulo:20250530T073000
DTEND;TZID=America/Sao_Paulo:20250530T173000
DTSTAMP:20260420T093245
CREATED:20250404T233836Z
LAST-MODIFIED:20250407T143335Z
UID:3059-1748590200-1748626200@ispe.org.br
SUMMARY:Seminário Presencial e Online Técnico de HVAC: "Climatização em Áreas Controladas: URS\, Antecâmaras\, Filtros\, Sistemas\, Testes"
DESCRIPTION:VAGAS PRESENCIAIS LIMITADAS\nCarga Horária: 8 horas\nInvestimento para participação Presencial: \nAntecipado até 30/04/2025\nAssociado ISPE: R$ 475\,00\nNão sócios: R$ 635\,00 \nSem desconto após 30/04/2025\nAssociado ISPE: R$ 600\,00\nNão sócios: R$ 790\,00 \nInvestimento para participação Online:\nAntecipado até 30/04/2025\nAssociado ISPE: R$ 575\,00\nNão sócios: R$ 735\,00 \nSem desconto após 30/04/2025\nAssociado ISPE: R$ 700\,00\nNão sócios: R$ 890\,00 \nEstudantes de Graduação (Sujeito à disponibilidade de vaga): R$ 255\,00 (Necessária documentação comprobatória)\nInspetores Órgãos Reguladores: Cortesia (Sujeito à disponibilidade de vaga / Necessária documentação comprobatória) \nObservações:\nCoffees incluídos\nMaterial e Certificado Eletrônicos incluídos\nAlmoço e Estacionamento à parte \nAbordagem: \nTécnica\, operacional trazendo o atualmente disponível no mercado  \nObjetivo:\nPossibilitar uma visão ampla do ciclo da instalação de HVAC/AVAC para Áreas Farmacêuticas em Instalações Novas e Existentes.\nEsclarecer dúvidas\nDespertar ideias \nPúblico Alvo:\nUsuários\, Equipe Técnica\, Equipe de Manutenção\, e Garantia da qualidade\, Pessoas que e estejam interessadas em aumentar o conhecimento visando da climatização para Sala Limpa. \nProgramação:\n7h30min\nCadastro \n8h30min\nInício do projeto \nSra. Elisa Liu – Consultora\nTópicos:\nPor que fazer URS\nEstrutura da URS\nDiferentes Tipos de Requisitos\nDiferença entre URS e Especificação Técnica \n9h45min -10h\nCoffee – break \n10h\nConceitos de utilização de Ante Câmaras (Pessoas e Materiais) sob GMP.\nSr. Carlos Eduardo Rein – Reintech\nTópicos:\n•Conceitos de utilização de Ante Câmaras (Pessoas e Materiais)\, sob ponto de vista de GMP\n•Lógica de ante câmaras\, tipos de classificações\, pressurizações e aplicações práticas \n11h10min\nFiltros Absolutos – Filtragem de ar\nSr. Jose Augusto S Senatore- AAF International\nTópicos:\nSistemas de filtragem do ar:\n•Impacto da ISO16890.\n•Desafios e oportunidades de redução de consumo de energia;\n•Integridade\, Conformidade e redução de risco. \n12h25min às 13h40min\nAlmoço \n13h45min\nSistemas de Climatização para áreas controladas \nSr. João Carlos Corrêa da Silva – RAC Sistemas\nTópicos:\nDescarbonização e Sustentabilidade.\nConceitos: Renovação de ar\, Número de trocas\, Cascata/Fluxo.\nTipos de sistema: Água gelada x Expansão direta.\nUnidade de tratamento de ar.\nDutos de distribuição\nVida Útil. \n15h\nTestes\, Comissionamento\nSr. Célio S. Martin – Consultor\nTópicos:\nA perspectiva do projeto\nRequisitos do usuário\nDefinições e etapas\nAvaliação de impacto (ISPE)\nGestão de critérios críticos\nEnsaios estáticos e dinâmicos  \n16h10min\nMesa redonda com todos os palestrantes para esclarecimentos de dúvidas.\nCoffee – break simultâneo\nNota:\nEsperamos neste momento esclarecer e debater todas as dúvidas levantadas inclusive as enviadas por escrito ao longo do evento.\nAs respostas serão priorizadas pelos palestrantes em função da relevância aos temas apresentados e dúvidas coincidentes. \n17h30min\nEncerramento  \nPalestrantes:\nSra. Elisa Liu – Consultora\nEngenheira Mecânica formada pela Escola Politécnica da USP.\nAtua há 27 anos nas áreas de Projeto\, Comissionamento\, Qualificação e Validação para indústrias de ciência da vida. Delegada Internacional na ISO TC 209 (Cleanrooms and Associated Controlled Environments)\, pela ABNT/SBCC. Gestora do CB-046 da ABNT (Salas Limpas e Ambiente Controlados). Delegada Internacional na ICCCS (International Confederation of Contamination Control Societies) pela SBCC (Sociedade Brasileira de Controle de Contaminação). Foi Diretora Técnica da SBCC nos biênios 2014-1015 e 2016-2017.  \nSr. Eduardo Rein – Reintech\nEngenheiro Industrial Mecânico\, MBA em Gestão Empresarial.\n36 anos de experiência em Projetos e Implantações de Salas Limpas e Áreas Biocontidas.\nPalestrante em Simpósios e Seminários Nacionais e Internacionais ( ISPE\, SBCC\, CONBRAVA\, ICCCS\, ANVISA\, MAPA\, BIOGIB )\nDiretor da SBCC por três Biênios e membro do ISPE e SB3 \nSr. José Augusto S. Senatore –  AAF International\nEngenheiro Mecânico que atua a mais de 25 anos no mercado de filtros de ar e equipamentos para controle da contaminação. Membro do CEE-138\, Ashrae\, participa\ndo comitê ISO TC-142 que é responsável pela elaboração de normas sobre sistemas de filtragem e limpeza do ar.\nAtualmente ocupa a posição de Diretor Global de Tecnologia e Inovação na AAF International. \nSr. João Carlos Corrêa da Silva – RAC Sistemas\nFormado pela FEI em engenharia mecânica com especialização em ar condicionado. Desde 2005 atuando intensamente no ISPE\, visando à solidificação e o crescimento desta entidade. Engenheiro Mecânico\, formado no ano de 1988 pela FEI e posteriormente\, formado em Administração Industrial pela Fundação Vanzolini em 1994. Diretor da RAC AR CONDICIONADO.\, empresa especializada em Sistemas de Climatização e Salas Limpas.\n• Diretor da SMACNA desde 2015\n• Membro do ISPE desde 2000\n• Líder do Comitê ISPE Brasil de HVAC\n• Palestrante do COMBRAVA em 2010. \nSr. Célio Soares Martin – Consultor\nConsultor em Sistemas de Ar-Condicionado para Controle de Contaminação em Salas Classificadas; engenheiro mecânico desde 1985\, dedicado à avaliação de equipamentos e sistemas\, comissionamento e qualificação de Salas Limpas e Estabelecimentos Assistenciais de Saúde. Vice-presidente do Departamento Nacional de Projetistas e Consultores da ABRAVA. Atual Diretor Técnico da SBCC (Sociedade Brasileira de Controle de Contaminação). Membro da ISPE desde 1999\, foi Diretor Secretário (2017/2018) e participa do Comitê de HVAC. Membro dos Grupos de Trabalho da ABNT\, espelhos da ISO\, revisando e traduzindo a norma ISO 14644 partes 1\, 2\, 3 e 16\, sobre Classificação\, Monitoramento\, Ensaios e Eficiência Energética em Salas Limpas \nApoio: SMACNA e ABRAVA \nLocal:\nSede da ABRAVA/SMACNA\nAv. Rio Branco – 1492 – Campos Elísios
URL:https://ispe.org.br/evento/seminario-presencial-e-online-tecnico-de-hvac-climatizacao-em-areas-controladas-urs-antecamaras-filtros-sistemas-testes/
LOCATION:Sede da ABRAVA / SMACNA\, Av. Rio Branco - 1492\, São Paulo\, São Paulo\, 01206-001\, Brazil
ATTACH;FMTTYPE=image/png:https://ispe.org.br/wp-content/uploads/2025/04/climatizacao-ap-1.png
END:VEVENT
END:VCALENDAR