BEGIN:VCALENDAR
VERSION:2.0
PRODID:-//ISPE BR - ECPv5.12.2//NONSGML v1.0//EN
CALSCALE:GREGORIAN
METHOD:PUBLISH
X-WR-CALNAME:ISPE BR
X-ORIGINAL-URL:https://ispe.org.br
X-WR-CALDESC:Events for ISPE BR
REFRESH-INTERVAL;VALUE=DURATION:PT1H
X-Robots-Tag:noindex
X-PUBLISHED-TTL:PT1H
BEGIN:VTIMEZONE
TZID:America/Sao_Paulo
BEGIN:STANDARD
TZOFFSETFROM:-0300
TZOFFSETTO:-0300
TZNAME:-03
DTSTART:20250101T000000
END:STANDARD
END:VTIMEZONE
BEGIN:VEVENT
DTSTART;TZID=America/Sao_Paulo:20250424T080000
DTEND;TZID=America/Sao_Paulo:20250424T100000
DTSTAMP:20260420T125014
CREATED:20250409T141750Z
LAST-MODIFIED:20250409T171509Z
UID:3119-1745481600-1745488800@ispe.org.br
SUMMARY:Webinar Gratuito: "Uso de softwares para gestão do ciclo de vida de sistemas e equipamentos e para validação sem papel"
DESCRIPTION:Webinar Gratuito \nObjetivos: \nDemonstrar principais tipos de softwares para gerenciamento do ciclo de vida de sistemas e equipamentos e para validação sem papel.\nVantagens e desvantagens entre sistemas do tipo ALM (Application LifeCycle Management)\, DMS (Document Management Systems) e VMS (Validation Management Systems).\nPrincipais desafios no uso de ferramentas pra validação sem papel.\nPontos chaves para considerar no ROI (Return On Investment) e no projeto para tomada de decisão quanto a implementação de softwares para gestão das validações. \nPúblico Alvo:\nProfissionais que gerenciam\, participam ou suportam atividades de qualificação ou validação nas indústrias de ciências da vida. \nPalestrante:\nMarcelo Macedo Nubile (Syntegon Telstar Brasil)\n15 anos de experiência atuando em indústrias farmacêuticas\, cosméticos\, radiofármacos e gases medicinais trabalhando nas áreas de: Produção\, Cadastro de materiais\, Garantia da Qualidade\, Qualificação e Validação\, Qualidade e Tecnologia da Informação.\nAtualmente é Gerente da área de Consultoria na Syntegon Telstar\, e também trabalhou em empresas como: Boehringer\, Abbvie\, AMGEN\, EMS e Brainfarma.\nMinistrou palestras e aulas de pós graduação em diferentes instituições.\nFarmacêutico\, com MBA em Gestão de Projetos e cursando MBA em Gestão e Governança da Tecnologia da Informação. \nMediadora: \nFabiana Toledo (Syntegon Telstar Brasil) \nPatrocínio:\nSyntegon Telstar Brasil
URL:https://ispe.org.br/evento/webinar-gratuito-uso-de-softwares-para-gestao-do-ciclo-de-vida-de-sistemas-e-equipamentos-e-para-validacao-sem-papel/
LOCATION:Zomm – Link será enviado automaticamente pelo Zoom quando realizar sua inscrição.
ATTACH;FMTTYPE=image/png:https://ispe.org.br/wp-content/uploads/2025/04/uso-ap.png
END:VEVENT
END:VCALENDAR