BEGIN:VCALENDAR
VERSION:2.0
PRODID:-//ISPE BR - ECPv5.12.2//NONSGML v1.0//EN
CALSCALE:GREGORIAN
METHOD:PUBLISH
X-WR-CALNAME:ISPE BR
X-ORIGINAL-URL:https://ispe.org.br
X-WR-CALDESC:Events for ISPE BR
REFRESH-INTERVAL;VALUE=DURATION:PT1H
X-Robots-Tag:noindex
X-PUBLISHED-TTL:PT1H
BEGIN:VTIMEZONE
TZID:America/Sao_Paulo
BEGIN:STANDARD
TZOFFSETFROM:-0300
TZOFFSETTO:-0300
TZNAME:-03
DTSTART:20240101T000000
END:STANDARD
END:VTIMEZONE
BEGIN:VEVENT
DTSTART;TZID=America/Sao_Paulo:20241111T153000
DTEND;TZID=America/Sao_Paulo:20241111T170000
DTSTAMP:20260421T071105
CREATED:20241025T123702Z
LAST-MODIFIED:20241108T155307Z
UID:2745-1731339000-1731344400@ispe.org.br
SUMMARY:Webinar Gratuito: “Roda da Vida: O Melhor Caminho para o Desequilíbrio Consciente”
DESCRIPTION:Webinar Gratuito \nDescubra o Poder da Roda da Vida!\nVocê\, profissional da saúde\, já se sentiu sobrecarregado e desequilibrado nas várias áreas da sua vida? Está na hora de dar um passo para a transformação!  \nJunte-se a nós para um webinar gratuito onde exploraremos a Roda da Vida. Vamos analisar cada área da sua vida\, identificar os desequilíbrios e descobrir quais ações você pode tomar para criar uma nova trajetória com mais consciência de suas decisões.  \nO que você vai aprender:\n– Como a Roda da Vida pode revelar áreas que precisam de atenção.\n– Entrar em contato com sua essência.\n– Estratégias práticas para redirecionar sua vida e estar alinhado com seus objetivos. \nNão perca essa oportunidade de transformar sua vida! Inscreva-se agora e comece sua jornada rumo ao equilíbrio e bem-estar. \nPalestrante:\nCarolina Körting \nDiretora de Gestão de Gerentes Clínicos | Empreendedora | Master Coach | Consteladora | Especialista em Eneagrama\nProfissional com mais de 20 anos de experiência na área farmacêutica\, especializada em pesquisa clínica. Desde 2014\, atuo como líder de equipe e atualmente sou Diretora de Gestão de Gerentes Clínicos na Thermo Fisher Scientific. Em dezembro de 2022\, ampliei minha atuação como empreendedora na CK Coaching tornando-me Master Coach\, Consteladora e Especialista em Eneagrama. Sou apaixonada pelo desenvolvimento humano e acredito que “Nós somos a história que decidimos contar da nossa história” Que história você anda cobrando sobre a sua história?” \nMediadora:\nLiana Montemor\nGrupo Polar
URL:https://ispe.org.br/evento/webinar-gratuito-roda-da-vida-o-melhor-caminho-para-o-desequilibrio-consciente/
LOCATION:ZOOM – Link será enviado posteriormente
ATTACH;FMTTYPE=image/png:https://ispe.org.br/wp-content/uploads/2024/10/roda-ap-1.png
END:VEVENT
END:VCALENDAR