BEGIN:VCALENDAR
VERSION:2.0
PRODID:-//ISPE BR - ECPv5.12.2//NONSGML v1.0//EN
CALSCALE:GREGORIAN
METHOD:PUBLISH
X-WR-CALNAME:ISPE BR
X-ORIGINAL-URL:https://ispe.org.br
X-WR-CALDESC:Events for ISPE BR
REFRESH-INTERVAL;VALUE=DURATION:PT1H
X-Robots-Tag:noindex
X-PUBLISHED-TTL:PT1H
BEGIN:VTIMEZONE
TZID:America/Sao_Paulo
BEGIN:STANDARD
TZOFFSETFROM:-0300
TZOFFSETTO:-0300
TZNAME:-03
DTSTART:20240101T000000
END:STANDARD
END:VTIMEZONE
BEGIN:VEVENT
DTSTART;TZID=America/Sao_Paulo:20241007T080000
DTEND;TZID=America/Sao_Paulo:20241009T120000
DTSTAMP:20260421T083319
CREATED:20230716T111356Z
LAST-MODIFIED:20240816T133833Z
UID:1964-1728288000-1728475200@ispe.org.br
SUMMARY:Treinamento Online: Estéreis\, Áreas Assépticas
DESCRIPTION:Carga Horária: 12 horas\nInvestimento: \nAntecipado até 20/08/2024\nAssociado ISPE: R$ 615\,00\nNão sócios: R$ 870\,00 \nSem desconto após 20/08/2024\nAssociado ISPE: R$ 810\,00\nNão sócios: R$ 1.053\,00 \nEstudantes de Graduação (Sujeito à disponibilidade de vaga): R$ 310\,00 (Necessária documentação comprobatória)\nInspetores Órgãos Reguladores: Cortesia (Sujeito à disponibilidade de vaga) / (Necessária documentação comprobatória) \nConteúdo: \nOverview sobre as técnicas assépticas\, requisitos das áreas\, aspectos de projeto\, monitoramento ambiental\, limpeza/sanitização e media fill. \nTópicos:\n– Conceitos básicos de área limpa/classificação de áreas\n– Conceito de processamento asséptico\n– Classificação de áreas\n– Paramentação\n– Monitoramento ambiental\n– Conceito de sistemas de barreira (RABS e isoladores)\n– Projeto: Arquitetura de processo\, fluxo de pessoas e materiais\, HVAC\n– Métodos de esterilização\n– Tecnologias Single-Use \nObjetivos:\nO treinamento tem como objetivo fornecer o conhecimento básico necessário para qualquer profissional que participa da cadeia de processo asséptico na indústria farmacêutica\, incluindo conceitos de área limpa\, classificação de áreas\, monitoramento ambiental\, arquitetura de processo\, tipos de sistemas de produção e métodos de esterilização. \nInstrutor:\nFernando A. Martin Gonçalves (MGC Life Science)\nEngenheiro Industrial Mecânico – UNIMEP\nPós-graduado em Administração de Empresas – FGV\nMBA em Gestão de Projetos – FGV\nPós-graduado em tecnologia de produção e gestão farmacêutica – Oswaldo Cruz\nLíder do Comitê de Contenção e Barreira Asséptica da ISPE Brasil\nPosição atual:\nGerente Técnico Comercial e especialista em contenção e barreira asséptica na empresa MGC Life Science.\nExperiência:\nDimensionamento e retrofit de linhas de envase de injetáveis; Qualificação de áreas e equipamentos industriais; Dimensionamento de equipamentos de processo para as indústrias farmacêutica\, farmoquímica\, química e alimentícia; Dimensionamento e adaptação de sistemas de contenção (“alta contenção” e barreira asséptica)\, soluções rígidas e flexíveis; Análise de risco para projeto de linhas de produção de compostos potentes (HPAPI); Projeto de sistemas de filtragem tangencial (MF\, UF\, NF e OR); Gestão de projetos industriais.
URL:https://ispe.org.br/evento/treinamento-online-estereis-areas-assepticas-2/
LOCATION:ZOOM – Link será enviado posteriormente
ATTACH;FMTTYPE=image/png:https://ispe.org.br/wp-content/uploads/2023/07/estereis-2.png
END:VEVENT
END:VCALENDAR