BEGIN:VCALENDAR
VERSION:2.0
PRODID:-//ISPE BR - ECPv5.12.2//NONSGML v1.0//EN
CALSCALE:GREGORIAN
METHOD:PUBLISH
X-WR-CALNAME:ISPE BR
X-ORIGINAL-URL:https://ispe.org.br
X-WR-CALDESC:Events for ISPE BR
REFRESH-INTERVAL;VALUE=DURATION:PT1H
X-Robots-Tag:noindex
X-PUBLISHED-TTL:PT1H
BEGIN:VTIMEZONE
TZID:America/Sao_Paulo
BEGIN:STANDARD
TZOFFSETFROM:-0300
TZOFFSETTO:-0300
TZNAME:-03
DTSTART:20240101T000000
END:STANDARD
END:VTIMEZONE
BEGIN:VEVENT
DTSTART;TZID=America/Sao_Paulo:20240826T090000
DTEND;TZID=America/Sao_Paulo:20240826T100000
DTSTAMP:20260421T124543
CREATED:20240812T125720Z
LAST-MODIFIED:20240815T135638Z
UID:2672-1724662800-1724666400@ispe.org.br
SUMMARY:Webinar Gratuito: "A importância da Saturação Relativa no Processo de Biodescontaminação com Vapor de Peróxido de Hidrogênio"
DESCRIPTION:Conteúdo: \nProcesso de Biodescontaminação; Peróxido de Hidrogênio e as 3 Leis da Natureza; Tecnologias de Medição de Vapor de Peróxido de Hidrogênio. \nPúblico Alvo: \nProfissionais responsáveis por Qualidade\, Processos e Produção em ambientes que passam por biodescontaminação; Microbiologistas; Especialistas em Biosegurança e Esterilização; Profissionais responsáveis pela operação\, manutenção\, projetos e fabricação de isoladores\, glove-boxes\, incubadoras\, câmaras de transferência entre outros equipamentos. \nObjetivos: \nAprenda como a Saturação Relativa (RS%) é crucial para entender\, monitorar e controlar as aplicações de biodescontaminação com vapor de peróxido de hidrogênio. \nPalestrante:\nEgidio Ferraz é Engenheiro Eletricista pela Escola Politécnica da USP e MBA em Gestão de Negócios pela Fundação Getúlio Vargas e tem 20 anos de experiência profissional em áreas como programação\, automação e instrumentação em diferentes segmentos industriais. Atualmente atua como Gerente de Vendas para o Sul da América Latina  na Vaisala\, empresa finlandesa líder em medições ambientais.
URL:https://ispe.org.br/evento/webinar-gratuito-a-importancia-da-saturacao-relativa-no-processo-de-biodescontaminacao-com-vapor-de-peroxido-de-hidrogenio/
ATTACH;FMTTYPE=image/png:https://ispe.org.br/wp-content/uploads/2024/08/importancia.png
END:VEVENT
BEGIN:VEVENT
DTSTART;TZID=America/Sao_Paulo:20240827T090000
DTEND;TZID=America/Sao_Paulo:20240827T110000
DTSTAMP:20260421T124543
CREATED:20240729T135746Z
LAST-MODIFIED:20240816T130911Z
UID:2643-1724749200-1724756400@ispe.org.br
SUMMARY:Webinar Gratuito: Inteligência Artificial na Indústria Farmacêutica – Aplicações Práticas
DESCRIPTION:Conteúdo: \nFundamentos da ciência de dados\, Aprendizado de máquina\, Quimioinformática\, Pesquisa e Desenvolvimento\, Aplicações práticas. \nPúblico Alvo: \nEste treinamento destina-se a todos os profissionais de ciências da vida que desejem possuir o conhecimento básico de inteligência artificial que já está em aplicação nas indústrias\, bem como\, conhecer a revolução que esta tecnologia traz nas metodologias existentes\n– Profissionais da Qualidade\n– Profissionais de Validação\n– Profissionais de Automação Industrial\n– Profissionais de Informática \nObjetivos: \nMostrar aplicações e ensinar a desenvolver modelos de inteligência artificial no dia a dia\, otimizando tarefas e obtendo insights a partir dos dados. \nPalestrante\nDiullio Pereira dos Santos – Msc. em Química – Cientista de Dados \nDoutorando em Química pela UFG com ênfase na modelagem de inteligência artificial para predição de propriedades físico-químicas na degradação de IFAs. Mestre em Química pela UnB\, Bacharel em Química Industrial pela UEG e pós-graduado em Controle de Qualidade e Desenvolvimento Analítico. Bacharel em Ciência de Dados pela Estácio e pós-graduado em Docência no ensino médio e superior.\nExperiências em desenvolvimento e validação de métodos analíticos\, estudos de dissolução\, estudo de compatibilidade\, análises de risco de nitrosaminas\, documentações COA e DMF\, investigações de pré-formulação\, estudo de permeação cutânea\, mudanças pós registro\, PATE\, dentre outros. Experiencias em análise de dados\, modelagem de banco de dados\, dashboards e desenvolvimento de softwares desktop\, web e mobile.
URL:https://ispe.org.br/evento/webinar-gratuito-inteligencia-artificial-na-industria-farmaceutica-aplicacoes-praticas/
ATTACH;FMTTYPE=image/png:https://ispe.org.br/wp-content/uploads/2024/07/inteligencia-ap.png
END:VEVENT
BEGIN:VEVENT
DTSTART;TZID=America/Sao_Paulo:20240829T080000
DTEND;TZID=America/Sao_Paulo:20240830T120000
DTSTAMP:20260421T124543
CREATED:20221124T001550Z
LAST-MODIFIED:20240816T131121Z
UID:1571-1724918400-1725019200@ispe.org.br
SUMMARY:Treinamento Online: Cloud Computing
DESCRIPTION:Carga Horária: 8 horas\nInvestimento:\nAntecipado até 30/04/2024\nAssociado ISPE: R$ 410\,00\nNão sócios: R$ 578\,00 \nSem desconto após 30/04/2024\nAssociado ISPE: R$ 540\,00\nNão sócios: R$ 700\,00 \nEstudantes de Graduação (Sujeito à disponibilidade de vaga): R$ 205\,00 (Necessária documentação comprobatória)\nInspetores Órgãos Reguladores: Cortesia (Sujeito à disponibilidade de vaga) / (Necessária documentação comprobatória) \nEmenta: \n– Princípios da Cloud Computing\n– A indústria 4.0 e a Cloud Computing\n– Impacto da Cloud Computing na Indústria de Ciências da Vida \nObjetivos:\nAo final do treinamento\, o participante terá a compreensão do impacto da utilização da nuvem no dia-a-dia da Indústria de Ciências da Vida\, conhecendo os princípios que regem este tipo de tecnologia\, bem como os processos necessários para garantir um ambiente seguro. \nConteúdo Programático: \n– Princípios de Cloud Computing:\n	O conceito de Cloud Computing\n	A Evolução da Cloud Computing\n	Como a Cloud Computing já impacta meu dia-dia\n– A Indústria 4.0 e a Cloud Computing\n	O conceito básico de Indústria 4.0\n	Como a Cloud Computing impacta a visão da Indústria 4.0\n	O futuro da Indústria e da Cloud Computing\n– Impacto da Cloud Computing na Indústria de Ciências da Vida\n	Riscos e Benefícios da Cloud Computing\n	Validação de Sistemas nos novos cenários tecnológicos\n	Como as Regulamentações são vistas neste novo cenário \nPúblico Alvo: \nEste treinamento destina-se a todos os profissionais de ciências da vida que desejem possuir o conhecimento básico da tecnologia em nuvem que já está em aplicação nas indústrias bem como conhecer a revolução que esta tecnologia traz nas metodologias existentes\n– Profissionais da Qualidade\n– Profissionais de Validação\n– Profissionais de Automação Industrial\n– Profissionais de Informática  \nInstrutora:\nJozie Azevedo de Souza (Organon)\nResponsável pela área de Informática para as Fábricas de Saúde Humana da Organon do Brasil e na Argentina.\nEngenheira Eletrotécnica e Analista de Sistemas com mais de 20 anos de experiência em Indústria Farmacêutica.\nParticipou da elaboração do Guia de Validação de Sistemas Computadorizados junto com profissionais da ANVISA publicado em Abril de 2010.\nLiderou o grupo responsável pelo capítulo de Validação de Sistemas do Guia de Qualificação e Validação do SINDUSFARMA.\nLiderou o grupo responsável pela elaboração do Guia de Integridade de Dados do SINDUSFARMA.
URL:https://ispe.org.br/evento/treinamento-online-cloud-computing-2/
LOCATION:ZOOM – Link será enviado posteriormente
ATTACH;FMTTYPE=image/png:https://ispe.org.br/wp-content/uploads/2022/11/cloud-agosto-ap-2.png
END:VEVENT
END:VCALENDAR