BEGIN:VCALENDAR
VERSION:2.0
PRODID:-//ISPE BR - ECPv5.12.2//NONSGML v1.0//EN
CALSCALE:GREGORIAN
METHOD:PUBLISH
X-WR-CALNAME:ISPE BR
X-ORIGINAL-URL:https://ispe.org.br
X-WR-CALDESC:Events for ISPE BR
REFRESH-INTERVAL;VALUE=DURATION:PT1H
X-Robots-Tag:noindex
X-PUBLISHED-TTL:PT1H
BEGIN:VTIMEZONE
TZID:America/Sao_Paulo
BEGIN:STANDARD
TZOFFSETFROM:-0300
TZOFFSETTO:-0300
TZNAME:-03
DTSTART:20240101T000000
END:STANDARD
END:VTIMEZONE
BEGIN:VEVENT
DTSTART;TZID=America/Sao_Paulo:20240408T083000
DTEND;TZID=America/Sao_Paulo:20240408T160000
DTSTAMP:20260422T033536
CREATED:20240303T024010Z
LAST-MODIFIED:20240402T144725Z
UID:2415-1712565000-1712592000@ispe.org.br
SUMMARY:Workshop Presencial e Gratuito: Geração de WFI\, Sistema de Ozônio para Águas Farmacêuticas
DESCRIPTION:Objetivos:\nApresentar soluções de sistemas de geração de WFI\, e apresentar formas de utilização do sistema de ozônio.  \nPùblico Alvo:\nEngenharia\, qualidade e produção. \nTurma Matutina\n8h30 às 9h\nRegistration and reception \n9h às 9h15min\nWelcome and introduction of speakers (Rafael Botari) \n9h15min às 10h\nValidation (Júlio Cesar Bracale) \n10h às 10h45min\nOzone presentation (Shlomo Sackstein) \n10h45min às 11h\nCoffee break \n11h às 12h\nHot vs Cold WFI production (Shlomo Sackstein) \nTurma Vespertina\n12h30min às 13h\nRegistration and reception \n13h às 13h15min\nWelcome and introduction of speakers (Rafael Botari) \n13h15min às 14h\nValidation (Júlio Cesar Bracale) \n14h às 15h\nHot vs Cold WFI production (Shlomo Sackstein) \n15h às 15h15min\nCoffee break \n15h15min às 16h\nOzone presentation (Shlomo Sackstein) \nPalestrantes:\nShlomo Sackstein – Biopuremax \nCEO da Biopuremax\, com bacharelado em Engenharia Mecânica pelo Technion – Instituto de Tecnologia de Israel e MBA em Administração de Empresas pela Universidade de Tel Aviv.\nA Biopuremax é um fornecedor  turn key de sistemas de água Biofarma nos quais a Biopuremax projeta e constrói sistemas de produção\, armazenamento e distribuição para PW\, HPW e WFI.\nShlomo projeta\, instala\, valida e opera sistemas de água de alta pureza há 25 anos na indústria biofarmacêutica em todo o mundo\, incluindo: América do Norte\, China\, Índia\, Europa\, Oriente Médio e Brasil.\nEle tem experiência em sistemas de pré-tratamento\, produção e armazenamento e distribuição para PW/HPW/WFI\, USP/EP.\nAutor de muitas publicações em publicações revisadas por pares reconhecidas internacionalmente\, incluindo: Pharmaceutical Engineering (ISPE)\, Pharmind\, Technopharm\, PDA Letter\, Cleanroom Technology Magazine e muito mais.\nShlomo Sackstein é um membro de longa data da ISPE e anteriormente membro do Subcomitê para Serviços Públicos Críticos da ISPE e desempenhou um papel importante na redação da última atualização da Linha de Base da ISPE\, Volume 4: Água e Vapor.\nAlém disso\, Shlomo é um membro ativo do conselho executivo do capítulo Israel PDA.\nAtualmente é presidente do comitê de padrões ISO TC282 / WG 3 Membrane Based Generation do padrão WFI 22519. \nJúlio Cesar Bracale – QQV Consultoria \nFarmacêutico Industrial com MBA em Gestão Empresarial e especialista em Boas Práticas de Fabricação e Validação para o atendimento das legislações vigentes e estratégias corporativas.\nConsultor técnico na QQV Consultoria com mais de 20 anos de experiências práticas em Validação de atuação em indústrias farmacêuticas\, cosméticas\, produtos médicos e saneantes\, com o planejamento\, implementação e o suporte técnico operacional para o atendimento compliance e startup de novos sites.\nMembro efetivo do Grupo de Técnico de Trabalho de Indústria Cosmética do CRF-PR desde 2017. Professor convidado para os cursos de pós-graduação da PUC/PR em Gestão da Qualidade e Produtividade e Gestão da Qualidade na Produção de Alimentos\, Medicamentos e Cosméticos\, para os módulos de Qualificação de Fornecedores e de Validação de Processos (2020 a 2024) e no Instituto de Cosmetologia para ministrar as aulas de Processos de Purificação e Conservação de Água para Indústrias Cosméticas para o curso de MBA de Engenharia Cosmética (2023 e 2024).\nMinistrante de cursos e palestras sobre as Boas Práticas de Fabricação e Validações e auditor em Boas Práticas de Fabricação para os segmentos de Ciências da Vida. \nObservações:\nHaverá tradução simultânea.\nWelcome coffee e Coffee-breaks serão servidos como cortesia.\nEstacionamento no local (não incluído): R$ 25\,00 (período de até 12 horas)\nForneceremos Certificado eletrônico de participação.\nVagas limitadas.
URL:https://ispe.org.br/evento/workshop-gratuito-geracao-de-wfi-sistema-de-ozonio-para-aguas-farmaceuticas/
LOCATION:Hotel Transamérica Executive Jardins\, Al. Lorena - 473\, São Paulo\, São Paulo\, 01424-000\, Brasil
ATTACH;FMTTYPE=image/png:https://ispe.org.br/wp-content/uploads/2024/03/workshop-geracao-de-wfi-ap.png
END:VEVENT
END:VCALENDAR