BEGIN:VCALENDAR
VERSION:2.0
PRODID:-//ISPE BR - ECPv5.12.2//NONSGML v1.0//EN
CALSCALE:GREGORIAN
METHOD:PUBLISH
X-WR-CALNAME:ISPE BR
X-ORIGINAL-URL:https://ispe.org.br
X-WR-CALDESC:Events for ISPE BR
REFRESH-INTERVAL;VALUE=DURATION:PT1H
X-Robots-Tag:noindex
X-PUBLISHED-TTL:PT1H
BEGIN:VTIMEZONE
TZID:America/Sao_Paulo
BEGIN:STANDARD
TZOFFSETFROM:-0300
TZOFFSETTO:-0300
TZNAME:-03
DTSTART:20230101T000000
END:STANDARD
END:VTIMEZONE
BEGIN:VEVENT
DTSTART;TZID=America/Sao_Paulo:20231130T080000
DTEND;TZID=America/Sao_Paulo:20231130T173000
DTSTAMP:20260422T083335
CREATED:20231002T111901Z
LAST-MODIFIED:20231129T113101Z
UID:2129-1701331200-1701365400@ispe.org.br
SUMMARY:Evento Presencial: ISPE Pharma 4.0™ - 1ª Conferência
DESCRIPTION:VAGAS ESGOTADAS \nCarga Horária: 8 horas \nInvestimento: \nAntecipado até 30/10/2023\nAssociado ISPE: R$ 500\,00\nNão sócios: R$ 650\,00\nEstudantes de Graduação (Sujeito à disponibilidade de vaga): R$ 290\,00 (Necessária documentação comprobatória) \nSem desconto após 30/10/2023\nAssociado ISPE: R$ 615\,00\nNão sócios: R$ 800\,00\nEstudantes de Graduação (Sujeito à disponibilidade de vaga): R$ 310\,00 (Necessária documentação comprobatória) \nInspetores Órgãos Reguladores: Cortesia (Sujeito à disponibilidade de vaga / Necessária documentação comprobatória) \nObservações:\nCoffees e Almoço incluídos\nMaterial e Certificado Eletrônicos incluídos\nEstacionamento à parte \nAgenda:\n8h – 8h20min\nCREDENCIAMENTO E WELCOME COFFEE	 \n8h20min – 8h30min\nABERTURA:\nRICARDO MIRANDA (PRESIDENTE ISPE BRASIL) \n8h30min – 9h\nPHARMA 4.0 – ISPE BRASIL\nDOUGLAS MARIOTONI (NORDIKA DO BRASIL) \n9h – 9h40min\nMATURIDADE DIGITAL EM RELAÇÃO À INDÚSTRIA 4.0\nDOUGLAS MARIOTONI (NORDIKA DO BRASIL)\nPROF. DR. SANDRO BREVAL (PHD IND 4.0 UNIVERSIDADE DO PORTO E PROF. FEDERAL AMAZONAS) \n9h40min – 10h30min\nPAINEL: “USE CASES” PAPERLESS MANUFACTURING\nANDERSON COQUEIRO (SIEMENS)\nTHABATA VINHA (BLAU FARMACÊUTICA)\nCLAUDIO NOGUEIRA (UNIÃO QUÍMICA)\nANDERSON MACIEL (IASTECH) \n10h30min – 11h\nCOFFEE BREAK E VISITA A ESTANDES \n11h – 11h50min\nPAINEL: ASPECTOS DA INDÚSTRIA 4.0 EM SISTEMAS HVAC E BMS\nJEFFERSON LOURENÇO (CLIMAPRESS)\nFERNANDO BRITTO (ADRIFERCO)\nRAFAEL RODRIGUES DE FREITAS (NÚCLEO DE TERAPIA AVANÇADA – NUTERA) \n11h50min – 12h30min\nWORKFORCE OF THE FUTURE\nSUEMI KAVAMUKAI (IASTECH)\nCELIA COSTA (PEOPLE STRATEGY) \n12h30min – 13h30min\nALMOÇO \n13h30min – 14h10min\nPAINEL: CPV E “USE CASES” COM PAT (PROCESS ANALYTICAL TECHNOLOGY)\nDOUGLAS MARIOTONI (NORDIKA DO BRASIL)\nMARCIA PREDA (NORDIKA DO BRASIL)\nHELDER CELANI (LIDPROJ) \n14h10min – 14h50min\nSEGURANÇA E GxP EM AMBIENTE CLOUD\nVINICIUS FUGII (IASTECH)\nJOSE MARIA CESÁRIO (AMAZON WEB SERVICES – AWS) \n14h50min – 15h40min\nUSO DE IA PARA PREVENÇÃO DE CONTAMINAÇÃO EM BIORREATORES\nRAFAEL MORAES (AMPLA INTELLIGENCE)\nFABIO BARRETO (OUROFINO SAÚDE ANIMAL) \n15h40min – 16h10min\nCOFFEE BREAK E VISITA A ESTANDES \n16h10min – 17h\nPANORAMA REGULATÓRIO EM RELAÇÃO À INDÚSTRIA 4.0\nMARCIA PREDA (NORDIKA DO BRASIL)\nVINICIUS BLANCO (COVISA) \n17h – 17h30min\nPERGUNTAS E RESPOSTAS COM PARTICIPAÇÃO DOS PALESTRANTES E COVISA
URL:https://ispe.org.br/evento/evento-presencial-ispe-pharma-4-0-1a-conferencia/
LOCATION:Hotel IBIS Congonhas: Rua Baronesa de Bela Vista – 801 – Vila Congonhas – SP – SP
ATTACH;FMTTYPE=image/png:https://ispe.org.br/wp-content/uploads/2023/10/conferenciaap.png
END:VEVENT
END:VCALENDAR