BEGIN:VCALENDAR
VERSION:2.0
PRODID:-//ISPE BR - ECPv5.12.2//NONSGML v1.0//EN
CALSCALE:GREGORIAN
METHOD:PUBLISH
X-WR-CALNAME:ISPE BR
X-ORIGINAL-URL:https://ispe.org.br
X-WR-CALDESC:Events for ISPE BR
REFRESH-INTERVAL;VALUE=DURATION:PT1H
X-Robots-Tag:noindex
X-PUBLISHED-TTL:PT1H
BEGIN:VTIMEZONE
TZID:America/Sao_Paulo
BEGIN:STANDARD
TZOFFSETFROM:-0300
TZOFFSETTO:-0300
TZNAME:-03
DTSTART:20230101T000000
END:STANDARD
END:VTIMEZONE
BEGIN:VEVENT
DTSTART;TZID=America/Sao_Paulo:20231025T183000
DTEND;TZID=America/Sao_Paulo:20231025T193000
DTSTAMP:20260422T200713
CREATED:20231002T130551Z
LAST-MODIFIED:20231002T131027Z
UID:2143-1698258600-1698262200@ispe.org.br
SUMMARY:Reunião Comitê de Sustentabilidade
DESCRIPTION:Retomada das Atividades do Comitê de Sustentabilidade \nLíder: \nSilmas Pareico (Nordika\, Advanced Engineering) \nTemas:\n• Convite de ingresso à ISPE e Comitê\n• Agenda de atividades\n• I Seminário de Sustentabilidade ISPE Brasil \nObservação:\nPré-requisito para participar dos Comitês: Ser associado ISPE
URL:https://ispe.org.br/evento/reuniao-comite-de-sustentabilidade/
ATTACH;FMTTYPE=image/png:https://ispe.org.br/wp-content/uploads/2023/10/comite-de-sustentabilidade-ap.png
END:VEVENT
END:VCALENDAR