BEGIN:VCALENDAR
VERSION:2.0
PRODID:-//ISPE BR - ECPv5.12.2//NONSGML v1.0//EN
CALSCALE:GREGORIAN
METHOD:PUBLISH
X-WR-CALNAME:ISPE BR
X-ORIGINAL-URL:https://ispe.org.br
X-WR-CALDESC:Events for ISPE BR
REFRESH-INTERVAL;VALUE=DURATION:PT1H
X-Robots-Tag:noindex
X-PUBLISHED-TTL:PT1H
BEGIN:VTIMEZONE
TZID:America/Sao_Paulo
BEGIN:STANDARD
TZOFFSETFROM:-0300
TZOFFSETTO:-0300
TZNAME:-03
DTSTART:20230101T000000
END:STANDARD
END:VTIMEZONE
BEGIN:VEVENT
DTSTART;TZID=America/Sao_Paulo:20230904T090000
DTEND;TZID=America/Sao_Paulo:20230904T110000
DTSTAMP:20260422T214624
CREATED:20230825T135023Z
LAST-MODIFIED:20230825T135111Z
UID:2042-1693818000-1693825200@ispe.org.br
SUMMARY:Webinar Gratuito: "Liderança Ágil e Humanizada"
DESCRIPTION:Abordagem:\nEssa palestra traz  uma abordagem de liderança que transcende o perfil de liderança fria\, distante e agressiva que ainda é muito presente nas organizações.  \nNa nossa jornada\, exploraremos como a sinergia entre práticas ágeis e um foco genuíno na humanidade podem revitalizar sua abordagem de liderança. Com exemplos reais\, análises profundas e insights respaldados por pesquisas\, você será conduzido a uma compreensão mais rica de como liderar com eficácia e compaixão. \nDesejamos oferecer estratégias tangíveis para cultivar relações de confiança\, promover a colaboração e nutrir a comunicação transparente em um contexto corporativo em constante mutação. Ao investir na intersecção entre liderança ágil e humanizada\, você descobrirá como encorajar sua equipe a abraçar transformações\, enfrentar desafios e atingir um desempenho excepcional. \nPalestrante:\nCarolina Nucci\nJornalista\, Engenheira\, Marketeira\, Vendedora\, TEDx Speaker\, mãe da Olívia\, PcD\, Sócia e CMO na @weme\, co-founder da @Libri e co-founder da Women in Sales.\nCom uma trajetória fora do comum\, Carol pivotou entre várias áreas de atuação ao longo de sua carreira. Começou como jornalista aos 16\, formou-se engenheira química pela Unicamp\, consolidou sua carreira em marketing B2C e B2B na 3M com pós-graduação pela ESPM e se especializou em Customer Centricity em Kellogg\, em Strategic Marketing Leadership em Stanford e em Service Design na This is Doing.\nHá 5 anos\, migrou para o mundo das startups e assumiu o marketing e vendas na weme\, conceituada consultoria de design\, inovação e tecnologia\, é uma das Colunistas e Knowledge Experts dos programas executivos da Startse. Recentemente voltou à sua jornada de empreendedorismo e se juntou para co-fundar a Women in Sales\, startup de impacto social que une serviços e tecnologia para impulsionar negócios inclusivos e mulheres em negócios. Sua jornada de mais de 20 anos em diversas áreas tanto em multinacionais como startups deu a ela várias experiências para compartilhar sobre marketing\, inovação\, design e customer centricity. \nMediadora:\nLiana Montemor (Grupo Polar)
URL:https://ispe.org.br/evento/webinar-gratuito-lideranca-agil-e-humanizada/
ATTACH;FMTTYPE=image/png:https://ispe.org.br/wp-content/uploads/2023/08/lideranca-ap.png
END:VEVENT
END:VCALENDAR