BEGIN:VCALENDAR
VERSION:2.0
PRODID:-//ISPE BR - ECPv5.12.2//NONSGML v1.0//EN
CALSCALE:GREGORIAN
METHOD:PUBLISH
X-WR-CALNAME:ISPE BR
X-ORIGINAL-URL:https://ispe.org.br
X-WR-CALDESC:Events for ISPE BR
REFRESH-INTERVAL;VALUE=DURATION:PT1H
X-Robots-Tag:noindex
X-PUBLISHED-TTL:PT1H
BEGIN:VTIMEZONE
TZID:America/Sao_Paulo
BEGIN:STANDARD
TZOFFSETFROM:-0300
TZOFFSETTO:-0300
TZNAME:-03
DTSTART:20230101T000000
END:STANDARD
END:VTIMEZONE
BEGIN:VEVENT
DTSTART;TZID=America/Sao_Paulo:20230731T090000
DTEND;TZID=America/Sao_Paulo:20230731T110000
DTSTAMP:20260422T200627
CREATED:20230614T115556Z
LAST-MODIFIED:20230614T115556Z
UID:1915-1690794000-1690801200@ispe.org.br
SUMMARY:Webinar Gratuito: "O poder da Imagem Pessoal na sua vida e na sua carreira"
DESCRIPTION:Conteúdo:\nImagem Profissional X Dress Code\nCores e suas Mensagens\nA Roupa como Ferramenta de Comunicação\nComo adequar seu Estilo Pessoal ao ambiente de trabalho \nPalestrante: \nJuliana Taionato\nConsultora de Imagem e Estilo formada pelo Centro Universitário Belas Artes\, graduada em moda pela FMU e com especialização em Marketing e Comunicação pela  Universidade Anhembi Morumbi.\nSão 12 anos no mundo da Moda\, atuando em confecções\,\nbackstages de desfiles no SPFW\, empreendendo na área de semijóias e moda fitness\, além de ter sido proprietária de um ateliê de moda festa por 3 anos.\nAtualmente atuando como Consultora de Imagem em workshops\, palestras\, treinamentos na área corporativa e atendendo mulheres que buscam autonomia\, praticidade e confiança para se vestir\, devolvendo a elas auto estima e confiança\, trabalhando sua imagem pessoal. \nMediadora:\nLiana Montemor (Grupo Polar)
URL:https://ispe.org.br/evento/webinar-gratuito-o-poder-da-imagem-pessoal-na-sua-vida-e-na-sua-carreira/
ATTACH;FMTTYPE=image/png:https://ispe.org.br/wp-content/uploads/2023/06/poder-ap.png
END:VEVENT
END:VCALENDAR