BEGIN:VCALENDAR
VERSION:2.0
PRODID:-//ISPE BR - ECPv5.12.2//NONSGML v1.0//EN
CALSCALE:GREGORIAN
METHOD:PUBLISH
X-WR-CALNAME:ISPE BR
X-ORIGINAL-URL:https://ispe.org.br
X-WR-CALDESC:Events for ISPE BR
REFRESH-INTERVAL;VALUE=DURATION:PT1H
X-Robots-Tag:noindex
X-PUBLISHED-TTL:PT1H
BEGIN:VTIMEZONE
TZID:America/Sao_Paulo
BEGIN:STANDARD
TZOFFSETFROM:-0300
TZOFFSETTO:-0300
TZNAME:-03
DTSTART:20230101T000000
END:STANDARD
END:VTIMEZONE
BEGIN:VEVENT
DTSTART;TZID=America/Sao_Paulo:20230529T080000
DTEND;TZID=America/Sao_Paulo:20230530T120000
DTSTAMP:20260422T213612
CREATED:20230209T131608Z
LAST-MODIFIED:20230209T131749Z
UID:1683-1685347200-1685448000@ispe.org.br
SUMMARY:Treinamento Online: Estéreis\, Áreas Assépticas
DESCRIPTION:Carga horária: 8 horas\nInvestimento:\nAntecipado até 20/04/2023\nAssociado ISPE: R$ 380\,00\nNão sócios: R$ 535\,00 \nSem desconto após 20/04/2023\nAssociado ISPE: R$ 500\,00\nNão sócios: R$ 650\,00 \nEstudantes de Graduação (Sujeito à disponibilidade de vaga): R$ 190\,00 (Necessária documentação comprobatória)\nInspetores Órgãos Reguladores: Cortesia (Necessária documentação comprobatória) \nConteúdo: \nOverview sobre as técnicas assépticas\, requisitos das áreas\, monitoramento ambiental\, limpeza e sanitização\, media fill. \nTópicos:\n– Conceitos básicos de área limpa/classificação de áreas\n– Conceito de processamento asséptico\n– Monitoramento ambiental\n– Conceito de sistemas abertos x semi-fechados x fechados\n– Projeto (arquitetura de processo\, fluxo de pessoas e materiais)\n– Métodos de esterilização \nObjetivos:\nO treinamento tem como objetivo fornecer o conhecimento básico necessário para qualquer profissional que participa da cadeia de processo asséptico na indústria farmacêutica\, incluindo conceitos de área limpa\, classificação de áreas\, monitoramento ambiental\, arquitetura de processo\, tipos de sistemas de produção e métodos de esterilização. \nInstrutor:\nFernando A. Martin Gonçalves (MGC Soluções)\nEngenheiro Industrial Mecânico – UNIMEP\nPós-graduado em Administração de Empresas – FGV\nMBA em Gestão de Projetos – FGV\nPós-graduado em tecnologia de produção e gestão farmacêutica – Oswaldo Cruz\nDiretor do comitê de contenção e barreira asséptica do ISPE Brasil\nPosição atual:\nGerente Técnico Comercial e especialista em contenção e barreira asséptica na empresa MGC Soluções\nExperiência:\nDimensionamento e retrofit de linhas de envase de injetáveis; Qualificação de áreas e equipamentos industriais; Dimensionamento de equipamentos de processo para as indústrias farmacêutica\, farmoquímica\, química e alimentícia; Dimensionamento e adaptação de sistemas de contenção (“alta contenção” e barreira asséptica)\, soluções rígidas e flexíveis; Análise de risco para projeto de linhas de produção de compostos potentes (HPAPI); Projeto de sistemas de filtragem tangencial (MF\, UF\, NF e OR); Gestão de projetos industriais.
URL:https://ispe.org.br/evento/treinamento-online-estereis-areas-assepticas/
LOCATION:ZOOM – Link será enviado posteriormente
ATTACH;FMTTYPE=image/jpeg:https://ispe.org.br/wp-content/uploads/2023/02/t-Estereis-Areas-Assepticas.jpg
END:VEVENT
BEGIN:VEVENT
DTSTART;TZID=America/Sao_Paulo:20230531T080000
DTEND;TZID=America/Sao_Paulo:20230601T120000
DTSTAMP:20260422T213612
CREATED:20230316T135542Z
LAST-MODIFIED:20230317T125822Z
UID:1768-1685520000-1685620800@ispe.org.br
SUMMARY:Treinamento Online: Calibração – Estruturação da Gestão e Gerenciamento
DESCRIPTION:Carga Horária: 8 horas\nInvestimento:\nAntecipado até 20/04/2023\nAssociado ISPE: R$ 380\,00\nNão sócios: R$ 535\,00 \nSem desconto após 20/04/2023\nAssociado ISPE: R$ 500\,00\nNão sócios: R$ 650\,00\nEstudantes de Graduação (Sujeito à disponibilidade de vaga): R$ 190\,00 (Necessária documentação comprobatória)\nInspetores Órgãos Reguladores: Cortesia (Necessária documentação comprobatória) \nConteúdo: \n1.	Introdução\n2.	VIM – Vocabulário Internacional de Metrologia – 2012\n3.	NBR ISO/IEC 17025:2017 – Conteúdo para Certificados de Calibração\n4.	Critérios de Aceitação para valores obtidos nas calibrações\n5.	RDC ANVISA nº 658/2022 – Requisitos para Calibração e Respectivas Instruções Normativas\n6.	Documentos e Evidências objetivas importantes\n7.	Dúvidas Frequentes\n8.	Observações Importantes\n9.	Dúvidas / Encerramento \nPúblico Alvo:\nEngenharia\, Qualidade\, Processos e pessoal envolvido com auditorias\, inspeções e calibração de instrumentos de medição na indústria \nObjetivos: \nProporcionar aos participantes o conhecimento necessário para estruturar um Sistema de Gestão da Calibração robusto e confiável\, em harmonia com os requisitos regulatórios e assuntos abordados em treinamentos de capacitação de inspetores ANVISA. \nInstrutor:\nIvan Canever – Grupo Inca Calibração – Consultoria\, Serviços e Cases.\nEspecialista Técnico nas áreas de Instrumentação de Controle\, Metrologia e Calibração com mais de trinta e cinco anos de experiência em plantas Petroquímicas\, Siderúrgicas\, Químicas e têxteis\, com mais de vinte e cinco anos dedicados à Indústria Farmacêutica\, com trabalhos focados em Gestão da Calibração\, legislação\, Gestão da Qualidade\, projetos de instrumentação\, planejamento de manutenção e economias\, análise crítica e qualificação de fornecedores. Amplo conhecimento em Normas e Legislação Metrológica\, controle de processos\, controle e garantia da qualidade e engenharia de processos em ciências da vida. Prêmios Nacionais e Internacionais por Projetos de Automação e Sistema de Gestão da Qualidade para Calibração de Instrumentos na Indústria Farmacêutica. Palestrante em treinamentos e seminários\, fóruns e eventos direcionados à Indústria de Ciências da Vida e seus provedores de serviços. Responsável por treinamento para capacitação em calibração de inspetores do órgão regulador (ANVISA / SUVISA / COVISA / CVS) desde 2008. Membro do Comitê GAMP e Coordenador do Subcomitê GAMP Calibração – ISPE Afiliada Brasil. Diretor Consultivo (3 mandatos) e Executivo (1 mandato) da ISPE Afiliada Brasil e Diretor responsável pelas Empresas Inca Service Calibração e Inca Consultoria e Qualidade Ltda.
URL:https://ispe.org.br/evento/treinamento-online-calibracao-estruturacao-da-gestao-e-gerenciamento-2/
LOCATION:ZOOM – Link será enviado posteriormente
ATTACH;FMTTYPE=image/png:https://ispe.org.br/wp-content/uploads/2023/03/calibracao-ap.png
END:VEVENT
END:VCALENDAR