BEGIN:VCALENDAR
VERSION:2.0
PRODID:-//ISPE BR - ECPv5.12.2//NONSGML v1.0//EN
CALSCALE:GREGORIAN
METHOD:PUBLISH
X-WR-CALNAME:ISPE BR
X-ORIGINAL-URL:https://ispe.org.br
X-WR-CALDESC:Events for ISPE BR
REFRESH-INTERVAL;VALUE=DURATION:PT1H
X-Robots-Tag:noindex
X-PUBLISHED-TTL:PT1H
BEGIN:VTIMEZONE
TZID:America/Sao_Paulo
BEGIN:STANDARD
TZOFFSETFROM:-0300
TZOFFSETTO:-0300
TZNAME:-03
DTSTART:20230101T000000
END:STANDARD
END:VTIMEZONE
BEGIN:VEVENT
DTSTART;TZID=America/Sao_Paulo:20230522T143000
DTEND;TZID=America/Sao_Paulo:20230522T163000
DTSTAMP:20260423T044808
CREATED:20230511T130417Z
LAST-MODIFIED:20230517T140948Z
UID:1853-1684765800-1684773000@ispe.org.br
SUMMARY:Webinar Gratuito: "Liderança e Representatividade Feminina - Um case de sucesso"
DESCRIPTION:Conteúdo:\nSerá apresentada a  iniciativa 25by2025 da IATA\, uma ação global e voluntária da indústria da aviação\, lançada em 2019 para melhorar a representatividade feminina em cargos de liderança e áreas técnicas\, sua importância e compartilhamento de algumas melhores práticas. \nPalestrante:\nSofia Abreu (IATA)\nSofia Abreu é apaixonada pela aviação e pela diversidade. Como parte do time IATA (Associação Internacional do Transporte Aéreo) Brasil há 15 anos\, ela lidera a comunicação interna e externa da associação. Como expert em treinamento\, Sofia é responsável por promover mais de 500 produtos e serviços que capacitam os profissionais da aviação para enfrentar os desafios do mercado em constante evolução. Sua paixão pela diversidade e inclusão na indústria aérea foi o que a motivou a divulgar e trazer novos signatários para a iniciativa 25by2025 da IATA. Sofia é mãe do Pedro e da Manu e ela adora correr com seu marido e a mascote Olivia.  \nMediadora:\nLiana Montemor (Grupo Polar)
URL:https://ispe.org.br/evento/webinar-gratuito-lideranca-e-representatividade-feminina-na-aviacao/
LOCATION:Online
ATTACH;FMTTYPE=image/png:https://ispe.org.br/wp-content/uploads/2023/05/lideranca-ap-1.png
END:VEVENT
BEGIN:VEVENT
DTSTART;TZID=America/Sao_Paulo:20230524T143000
DTEND;TZID=America/Sao_Paulo:20230524T153000
DTSTAMP:20260423T044808
CREATED:20230508T143341Z
LAST-MODIFIED:20230508T224915Z
UID:1844-1684938600-1684942200@ispe.org.br
SUMMARY:Webinar Gratuito: Integridade de Dados – Protegendo seus Dados de Monitoramento
DESCRIPTION:Conteúdo:\nManter a integridade dos dados é mais do que conformidade regulatória. Em aplicações de ciências da vida\, os dados geralmente representam um investimento significativo em pesquisa\, desenvolvimento\, amostras ou tecido doado. Nas ciências da vida\, os dados também podem representar a esperança dos pacientes por uma nova terapia ou medicamente. Todos os processos GxP requerem sistemas confiáveis para garantir a segurança do paciente. \nNeste webinar\, você aprenderá como manter a integridade dos dados em sistemas de monitoramento ambiental regulamentados pelas Boas Práticas (BPx\, GxP). Juntamente com as melhoras práticas\, forneceremos uma visão geral atualizada das expectativas regulatórias atuais e responderemos dúvidas sobre as práticas recomendadas de gerenciamento de dados para monitoramento compatível com GxP. \nPúblico Alvo:\nProfissionais de Controle de Qualidade\, TI\, Engenharia\, e outros com responsabilidade de manter integridade de dados em processos de monitoramento ambiental.\nObjetivos: Entendimento dos conceitos de integridade de dados para sistemas de monitoramento ambiental\, melhores práticas e atualização quanto às expectativas regulatórias atuais. \nPalestrante:\nPaul Daniel: Senior Regulatory Compliance Expert – VAISALA \nMediador:\nBruno Albuquerque: Gerente de Aplicações e Vendas – VAISALA \n*O webinar será apresentado em inglês\, sem tradução simultânea.
URL:https://ispe.org.br/evento/webinar-gratuito-integridade-de-dados-protegendo-seus-dados-de-monitoramento/
ATTACH;FMTTYPE=image/png:https://ispe.org.br/wp-content/uploads/2023/05/integridade-ap.png
END:VEVENT
END:VCALENDAR