BEGIN:VCALENDAR
VERSION:2.0
PRODID:-//ISPE BR - ECPv5.12.2//NONSGML v1.0//EN
CALSCALE:GREGORIAN
METHOD:PUBLISH
X-WR-CALNAME:ISPE BR
X-ORIGINAL-URL:https://ispe.org.br
X-WR-CALDESC:Events for ISPE BR
REFRESH-INTERVAL;VALUE=DURATION:PT1H
X-Robots-Tag:noindex
X-PUBLISHED-TTL:PT1H
BEGIN:VTIMEZONE
TZID:America/Sao_Paulo
BEGIN:STANDARD
TZOFFSETFROM:-0300
TZOFFSETTO:-0300
TZNAME:-03
DTSTART:20230101T000000
END:STANDARD
END:VTIMEZONE
BEGIN:VEVENT
DTSTART;TZID=America/Sao_Paulo:20230327T080000
DTEND;TZID=America/Sao_Paulo:20230328T120000
DTSTAMP:20260423T064406
CREATED:20221123T222152Z
LAST-MODIFIED:20221207T163508Z
UID:1493-1679904000-1680004800@ispe.org.br
SUMMARY:Treinamento Online: Estatística para Validação de Processos
DESCRIPTION:Carga Horária: 8 horas \nInvestimento:\nAntecipado  até 10/02/2023\nAssociado ISPE: R$ 380\,00\nNão sócios: R$ 535\,00 \nSem desconto após 10/02/2023\nAssociado ISPE: R$ 500\,00\nNão sócios: R$ 650\,00 \nEstudantes de Graduação (Sujeito à disponibilidade de vaga): R$ 190\,00 (Necessária documentação comprobatória) \nInspetores Órgãos Reguladores: Cortesia (Necessária documentação comprobatória) \nConteúdo:\n1.	Apresentação Inicial\n2.	Ciclo de Vida do Produto – Uma abordagem holística\n3.	Definição de Materiais:\n•	Características de Qualidade de Produtos – Perfil-Alvo de Qualidade do Produto/Atributos Críticos de Qualidade/Controles em\n        Processo.\n•	População e Amostra – O que queremos estudar e nosso material de estudo.\n•	Tipos de Variáveis e Característica de Qualidade – Qual o modo mais adequado de tratar os dados\, partindo de suas características?\n•	Distribuições de Probabilidade – Como traduzir o comportamento de fenômenos em modelos matemáticos de forma simples e intuitiva.\n4.	A Estatística nas Fases 2 e 3 – Metodologia e Prática:\n•	O que queremos provar em cada fase da Validação de Processos e como a Estatística pode nos auxiliar?\n•	Controle Estatístico de Processos – Definição conceitual e Objetivo.\n•	Amostragem – Reduzindo riscos e possíveis excessos\n•	Cartas-Controle – Aferindo a estabilidade do processo produtivo e agindo pro ativamente para controlar a variabilidade.\n•	Índices de Capabilidade – Comprovando a segurança do processo produtivo em atender às especificações.\n•	Testes de Comparação de Médias (Equivalência e ANOVA) e Variâncias – Como realizar comparações entre lotes de forma a aferir sua reprodutibilidade.\n•	Recapitulação da Aplicação das Ferramentas Estatísticas – Entendendo o racional\n5.	Fechamento \nObjetivos:\nQualificar profissionais da indústria farmacêutica para entender\, de forma didática e aplicada\, quais e de que forma ferramentas estatísticas são utilizadas para comprovar a adequabilidade da qualificação de performance de processos produtivos e manter seu estado de controle durante o ciclo de vida do produto. \nPúblico Alvo:\nProfissionais da indústria farmacêutica\, particularmente que trabalhem na área de Garantia da Qualidade e Pesquisa e Desenvolvimento. O conteúdo programático e a abordagem permitem que profissionais de outras áreas da indústria com interesse no monitoramento e avaliação de processos produtivos também possam aproveitar o curso. \nInstrutores:\nDorival Leão (Doutor em Engenharia Elétrica)\nGraduado em Estatística pela UNICAMP\, mestrado em Engenharia Elétrica pela UNICAMP\, e doutorado em Engenharia Elétrica pela UNICAMP. Além de empresário e consultor\, foi professor da USP – Universidade de São Paulo por mais de 16 anos. Possui sólida experiência na área de Probabilidade e Estatística\, atuando principalmente nos temas: estatística industrial\, fundamentos da teoria de probabilidade e cálculo estocástico.\nAtualmente\, é consultor estatístico e CEO do Grupo EstatCamp\, holding com 25 anos de atuação em desenvolvimento de software para soluções estatísticas (EstatAnalytics\, EstatPharma\, EstatAction\, EstatCloud e Portal Action)\, e colabora com empresas na melhoria de processos e na obtenção de resultados de negócios por meio de ferramentas estatísticas.\nLattes: http://lattes.cnpq.br/9633241446303620 \nAmanda D’Andrea (Doutora em Estatística)\nFormada em Estatística pela UFSCar e mestrado e doutorado em Estatística pela UFSCar e USP. Iniciou sua carreira atuando como professora de Estatística em grandes universidades: UNESP\, UFSCar e USP.\nAtualmente é estaticista no Grupo Estatcamp\, atuando\, principalmente\, no desenvolvimento e implantação de softwares na área de Validação de Processos e Verificação Continuada.\nLattes: http://lattes.cnpq.br/1678613581879501
URL:https://ispe.org.br/evento/treinamento-online-estatistica-para-validacao-de-processos-3/
LOCATION:ZOOM – Link será enviado posteriormente
END:VEVENT
END:VCALENDAR