BEGIN:VCALENDAR
VERSION:2.0
PRODID:-//ISPE BR - ECPv5.12.2//NONSGML v1.0//EN
CALSCALE:GREGORIAN
METHOD:PUBLISH
X-WR-CALNAME:ISPE BR
X-ORIGINAL-URL:https://ispe.org.br
X-WR-CALDESC:Events for ISPE BR
REFRESH-INTERVAL;VALUE=DURATION:PT1H
X-Robots-Tag:noindex
X-PUBLISHED-TTL:PT1H
BEGIN:VTIMEZONE
TZID:America/Sao_Paulo
BEGIN:STANDARD
TZOFFSETFROM:-0300
TZOFFSETTO:-0300
TZNAME:-03
DTSTART:20230101T000000
END:STANDARD
END:VTIMEZONE
BEGIN:VEVENT
DTSTART;TZID=America/Sao_Paulo:20230321T100000
DTEND;TZID=America/Sao_Paulo:20230321T120000
DTSTAMP:20260423T065247
CREATED:20230307T134304Z
LAST-MODIFIED:20230307T134304Z
UID:1753-1679392800-1679400000@ispe.org.br
SUMMARY:Webinar Gratuito: "Liderança Feminina x Liderança Humanizada e suas vantagens"
DESCRIPTION:Conteúdo:\nVenha fazer parte de um encontro para reforçar conceitos de Liderança Humanizada x Vantagens da Liderança Feminina e atitudes que na prática desenvolvem times de Alta Performance. \nA quem se destina:\nProfissionais que já ocupam ou almejam ocupar posições de Liderança e que querem reconhecer e impulsionar a Liderança Feminina nas Organizações. \nPalestrante:\nCarla Sapiensa\nMentora Autêntica com foco em Liderança e Desenvolvimento Feminino.\nCarla\, mulher de 40 anos\, mãe da Julia Bella de 5 anos e Gabriel Henrique de 2 anos.\nMentora Autêntica com foco em Liderança e Desenvolvimento Feminino.\nCompartilha de sua experiência e com a Mentoria ajuda mulheres através do Mentoring Autêntico baseado no método Paulo Erlich a encontrarem o seu propósito e através de um plano robusto alcançar suas Metas para alcançar sua felicidade com acolhimento\, leveza e realização.\nEm sua trajetória traz sua experiência de quase 20 anos com formação em Farmácia Industrial na Universidade de Mogi das Cruzes\, Pós Graduada em Qualidade e Produtividade na Fundação Vanzolini – USP\, Pós Graduada em Administração de Empresas com ênfase em Gestão de Pessoas – FGV\, MBA em Gerenciamento de Projetos pela FGV e estudante de Pós Graduação de Psicologia Positiva\, Ciência do Bem-Estar e Autorrealização pela PUC-RS.\nExperiência em diferentes áreas na Indústria\, desde Laboratório\, Garantia\, Validação\, Supply Chain\, Produção e Desenvolvimento Industrial.\nMais de 12 anos com cargo de Liderança e experiência em diferentes projetos de Start up de Centros de Distribuição\, fábrica e Transferência de Tecnologia.\nSeu propósito é Impulsionar Mulheres para ser e alcançar o que elas quiserem com Leveza e Realização.\nSaiba mais sobre a história de Carla e como ela pode te ajudar no site: https://www.carlasapiensa.com/
URL:https://ispe.org.br/evento/webinar-gratuito-lideranca-feminina-x-lideranca-humanizada-e-suas-vantagens/
ATTACH;FMTTYPE=image/jpeg:https://ispe.org.br/wp-content/uploads/2023/03/c-Lideranca-Feminina-x-Lideranca-Humanizada-e-suas-vantagens.jpg
END:VEVENT
BEGIN:VEVENT
DTSTART;TZID=America/Sao_Paulo:20230322T090000
DTEND;TZID=America/Sao_Paulo:20230322T160000
DTSTAMP:20260423T065247
CREATED:20221123T221037Z
LAST-MODIFIED:20230210T135139Z
UID:1483-1679475600-1679500800@ispe.org.br
SUMMARY:Treinamento Online: Especificação de Requerimentos de Usuários
DESCRIPTION:Carga Horária: 6 horas \nInvestimento:\nAntecipado  até 10/02/2023\nAssociado ISPE: R$ 380\,00\nNão sócios: R$ 535\,00 \nSem desconto após 10/02/2023\nAssociado ISPE: R$ 500\,00\nNão sócios: R$ 650\,00 \nEstudantes de Graduação (Sujeito à disponibilidade de vaga): R$ 190\,00 (Necessária documentação comprobatória) \nInspetores Órgãos Reguladores: Cortesia (Necessária documentação comprobatória) \nConteúdo:\nAtravés de dois guias que abordam sólidos conceitos de Boas Práticas de Engenharia e Boas Práticas de Fabricação\, aliados às necessidades de cada área e de regulamentações este treinamento inclui:\n   • Bases normativas e conceituais\n   • Aspectos importantes na elaboração\n   • Responsabilidades de cada área\n   • Importância do Requisito de Usuários\n   • Impactos de não se ter um Requisito de Usuários ou de se ter um documento pobre \nObjetivos:\nEste treinamento abordará conceitos de como elaborar um Requisito de Usuários atendendo às necessidades da Indústria de Ciências da Vida. \nPúblico Alvo:\nTodas as áreas da Indústria de Ciências da Vida. \nInstrutora:\nAna Marie Kaneto (PQE Group)\nEngenheira Elétrica e Tecnóloga em Construção Civil\, atua na indústria farmacêutica há 16 anos\, com experiência em comissionamento e qualificação de equipamentos\, sistemas de utilidades\, sistemas de automação\, validação de sistemas computadorizados\, qualificação de projetos.\nNos últimos oito anos coordena\, gerencia projetos e ministra treinamentos e palestras de Boas Práticas de Documentação\, Qualificação de Equipamentos\, Validação de Sistemas de Computadorizados para Automação.\nFaz parte dos CoPs de Comissionamento e Qualificação\, GAMP e Women in Pharma®.\nDiretora Vice-Presidente e Tesoureira ISPE Brasil – 2019/2020 e 2021/2022 e Reeleita para 2023/2024.
URL:https://ispe.org.br/evento/treinamento-online-especificacao-de-requerimentos-de-usuarios-2/
LOCATION:ZOOM – Link será enviado posteriormente
ATTACH;FMTTYPE=image/png:https://ispe.org.br/wp-content/uploads/2022/11/URS.png
END:VEVENT
BEGIN:VEVENT
DTSTART;TZID=America/Sao_Paulo:20230323T090000
DTEND;TZID=America/Sao_Paulo:20230323T110000
DTSTAMP:20260423T065247
CREATED:20230209T143006Z
LAST-MODIFIED:20230308T143243Z
UID:1692-1679562000-1679569200@ispe.org.br
SUMMARY:Webinar Gratuito: "Gestão de Água na Indústria Farmacêutica: ISO 46001:2019 - Sistema de gestão de eficiência hídrica: Certificação inédita da Chiesi como a primeira empresa farmacêutica certificada"
DESCRIPTION:Programação:\n1ª Parte 9h às 9h30min (Daniel Zolezi) – Apresentação da ISO 46001 e seus benefícios\n2ª Parte 9h30min às 10h (Willian Motta) – Explicação da norma (Parco Engenharia)\n3ª Parte 10h às 10h30min (Francisco da Silva Rozante) – Case certificação inédita Chiesi\n4ª Parte 10h30min às 11h (Todos) –  Período para responder perguntas dos participantes \nPalestrantes:\nFrancisco da Silva Rozante\nChiesi Farmacêutica\nGerente de Engenharia e Manutenção \nDaniel Rodrigo Bilharino Zolezi\nParco Engenharia\nConsultor e Auditor ESG\, SGI\, Gestão de Energia\, Gestão Hídrica\, Gestão de Ativos e Gestão de Riscos \nWillian Barbosa Motta\nParco Engenharia\nConsultor e Auditor ESG\, SGI\, Gestão de Energia\, Gestão Hídrica\, Gestão de Ativos e Gestão de Riscos
URL:https://ispe.org.br/evento/webinar-gratuito-iso-460012019-sistema-de-gestao-de-eficiencia-hidrica-certificacao-inedita-da-chiesi-como-a-primeira-empresa-farmaceutica-certificada/
ATTACH;FMTTYPE=image/jpeg:https://ispe.org.br/wp-content/uploads/2023/02/w-ISO-46001-1.jpg
END:VEVENT
END:VCALENDAR