BEGIN:VCALENDAR
VERSION:2.0
PRODID:-//ISPE BR - ECPv5.12.2//NONSGML v1.0//EN
CALSCALE:GREGORIAN
METHOD:PUBLISH
X-WR-CALNAME:ISPE BR
X-ORIGINAL-URL:https://ispe.org.br
X-WR-CALDESC:Events for ISPE BR
REFRESH-INTERVAL;VALUE=DURATION:PT1H
X-Robots-Tag:noindex
X-PUBLISHED-TTL:PT1H
BEGIN:VTIMEZONE
TZID:America/Sao_Paulo
BEGIN:STANDARD
TZOFFSETFROM:-0300
TZOFFSETTO:-0300
TZNAME:-03
DTSTART:20230101T000000
END:STANDARD
END:VTIMEZONE
BEGIN:VEVENT
DTSTART;TZID=America/Sao_Paulo:20230301T080000
DTEND;TZID=America/Sao_Paulo:20230302T120000
DTSTAMP:20260423T013222
CREATED:20221123T142215Z
LAST-MODIFIED:20230131T184604Z
UID:1469-1677657600-1677758400@ispe.org.br
SUMMARY:Treinamento Online: Qualificação e Homologação de Fornecedores
DESCRIPTION:Carga Horária: 8 horas \nInvestimento: \nAntecipado até 10/02/2023\nAssociado ISPE: R$ 380\,00\nNão sócios: R$ 535\,00 \nSem desconto após 10/02/2023\nAssociado ISPE: R$ 500\,00\nNão sócios: R$ 650\,00 \nEstudantes de Graduação (Sujeito à disponibilidade de vaga): R$ 190\,00 (Necessária documentação comprobatória) \nInspetores Órgãos Reguladores: Cortesia (Necessária documentação comprobatória) \nIntrodução:\nO curso de Qualificação e Gestão de Fornecedores Farmacêuticos – Visão de Gerenciamento de Riscos e Ciclo de Vida do Fornecedor provê ao público a capacitação para desenvolver o programa de qualificação (de acordo com as RDCs Anvisa\, ICH Q8 e Q9 e ISO 9001)\, qualificar e auditar\, além de gerir a performance dos fornecedores farmacêuticos qualificados através de indicadores de desempenho\, otimizando as relações entre as empresas e disponibilizando materiais e produtos de qualidade nos prazos acordados.\n* Capacitar os participantes na elaboração e gestão do programa de qualificação de fornecedores farmacêuticos.\n* Conhecer as principais legislações aplicáveis.\n* Utilização das ferramentas de auditoria e indicadores de performance.\n* Mesa Redonda Virtual. \nAgenda: \n•	Abertura\n•	Conceitos da Qualificação de Fornecedores\n•	Requisitos Regulatórios\n•	Visão de Gerenciamento de Riscos do Fornecedor & Processo\n•	Elaboração do Programa de Certificação de Fornecedores\n•	A Equipe de Auditoria\n•	Auditoria Documental e Seus Riscos\n•	Auditoria In-loco\, quando se faz necessária\n•	Auditoria Remota (Virtual)\n•	Desenvolvimento dos Modelos de Avaliação dos Fornecedores\n•	Homologação dos Fornecedores\n•	Indicadores de Performance\n•	Critérios Para Manutenção da Certificação\n•	Programas Automatizados de Gestão de Fornecedores\n•	Mesa Redonda\n•	Encerramento \nInstrutor:\nRicardo Miranda (RM Consulting)\nFarmacêutico Bioquímico\, formado pela Universidade de São Paulo\, Pós-graduação CEAG- Fundação Getúlio Vargas; MBA em Gestão Econômica e Estratégica de Projetos\, Certificação como CPIM pelo APICS ® Institute e Certificação Black Belt pelo Instituto Vanzolini – USP.\nAtuou em várias áreas técnicas da indústria farmacêutica (qualidade\, desenvolvimento\, produção\, engenharia\, excelência operacional\, logística e supply).\nMais de 20 anos atuando na área de logística de temperatura controlada nas Américas e Presidente do Comitê de Cadeia Fria ISPE-Brasil.\nProfessor de Pós-graduação.\nConsultor Sênior na RM Consulting.
URL:https://ispe.org.br/evento/treinamento-online-qualificacao-e-homologacao-de-fornecedores/
LOCATION:ZOOM – Link será enviado posteriormente
ATTACH;FMTTYPE=image/jpeg:https://ispe.org.br/wp-content/uploads/2022/11/t-Qualificacao-e-Homologacao-de-Fornecedores-23-1.jpg
END:VEVENT
END:VCALENDAR