BEGIN:VCALENDAR
VERSION:2.0
PRODID:-//ISPE BR - ECPv5.12.2//NONSGML v1.0//EN
CALSCALE:GREGORIAN
METHOD:PUBLISH
X-WR-CALNAME:ISPE BR
X-ORIGINAL-URL:https://ispe.org.br
X-WR-CALDESC:Events for ISPE BR
REFRESH-INTERVAL;VALUE=DURATION:PT1H
X-Robots-Tag:noindex
X-PUBLISHED-TTL:PT1H
BEGIN:VTIMEZONE
TZID:America/Sao_Paulo
BEGIN:STANDARD
TZOFFSETFROM:-0300
TZOFFSETTO:-0300
TZNAME:-03
DTSTART:20220101T000000
END:STANDARD
END:VTIMEZONE
BEGIN:VEVENT
DTSTART;TZID=America/Sao_Paulo:20221010T090000
DTEND;TZID=America/Sao_Paulo:20221010T160000
DTSTAMP:20260423T200108
CREATED:20220830T143946Z
LAST-MODIFIED:20220830T143946Z
UID:1305-1665392400-1665417600@ispe.org.br
SUMMARY:Treinamento Online: Especificação de Requerimentos de Usuários
DESCRIPTION:Valores:  \nAntecipado até dia 15/09/2022 \nAssociado ISPE: R$ 350\,00 \nNão sócios: R$ 500\,00 \nSem desconto após dia 15/09/2022 \nAssociado ISPE: R$ 450\,00 \nNão sócios: R$ 600\,00 \nEstudantes de Graduação (Sujeito à disponibilidade de vaga): R$ 171\,00 (Necessária documentação comprobatória) \n  \nConteúdo: \nAtravés de dois guias que abordam sólidos conceitos de Boas Práticas de Engenharia e Boas Práticas de Fabricação\, aliados às necessidades de cada área e de regulamentações este treinamento inclui:\n• Bases normativas e conceituais\n• Aspectos importantes na elaboração\n• Responsabilidades de cada área\n• Importância do Requisito de Usuários\n• Impactos de não se ter um Requisito de Usuários ou de se ter um documento pobre \nObjetivos: \nEste treinamento abordará conceitos de como elaborar um Requisito de Usuários atendendo às necessidades da Indústria de Ciências da Vida. \nPúblico Alvo: \nTodas as áreas da Indústria de Ciências da Vida. \nOrientadora: \nAna Marie Kaneto (PQE Group) \nEngenheira Elétrica e Tecnóloga em Construção Civil\, atua na indústria farmacêutica há 16 anos\, com experiência em comissionamento e qualificação de equipamentos\, sistemas de utilidades\, sistemas de automação\, validação de sistemas computadorizados\, qualificação de projetos.\nNos últimos oito anos coordena\, gerencia projetos e ministra treinamentos e palestras de Boas Práticas de Documentação\, Qualificação de Equipamentos\, Validação de Sistemas de Computadorizados para Automação.\nFaz parte dos CoPs de Comissionamento e Qualificação\, GAMP e Women in Pharma®. \n 
URL:https://ispe.org.br/evento/treinamento-online-especificacao-de-requerimentos-de-usuarios/
END:VEVENT
BEGIN:VEVENT
DTSTART;TZID=America/Sao_Paulo:20221013T140000
DTEND;TZID=America/Sao_Paulo:20221013T160000
DTSTAMP:20260423T200108
CREATED:20220817T125819Z
LAST-MODIFIED:20220817T125819Z
UID:1282-1665669600-1665676800@ispe.org.br
SUMMARY:Webinar Gratuito: "Protagonismo de Carreira" - ações e ideias que impactam diretamente a sua jornada de crescimento profissional
DESCRIPTION:Palestrante: \nAnna Moreno Damico é profissional de marketing\, branding e comunicação\, com sólida carreira corporativa em consultorias estratégicas. Já trabalhou em São Paulo\, Nova York e atualmente mora em Boston\, com seu marido e quatro filhos\, onde lidera um time global e diverso. Dedicada a formar a próxima geração de líderes\, Anna também é especialista em carreira\, oferecendo curadoria de conteúdo sobre liderança e mercado de trabalho\, além de orientação\, cursos e aulas exclusivas. Anna acredita em liderança pelo exemplo e na construção de relacionamentos verdadeiros para viver a máxima de suas duas frases preferidas: “Feito é melhor que perfeito”\, e “Se não eu\, quem?”   \nNas (raras) horas vagas\, Anna gosta de curtir os filhos\, estudar sobre desenvolvimento humano e produzir conteúdo sobre liderança e gestão no seu Instagram @annamorenodamico 
URL:https://ispe.org.br/evento/webinar-gratuito-protagonismo-de-carreira-acoes-e-ideias-que-impactam-diretamente-a-sua-jornada-de-crescimento-profissional/
ATTACH;FMTTYPE=image/jpeg:https://ispe.org.br/wp-content/uploads/2022/08/comite-woman-in-pharma-wip-protagonismo.jpg
END:VEVENT
BEGIN:VEVENT
DTSTART;TZID=America/Sao_Paulo:20221014T090000
DTEND;TZID=America/Sao_Paulo:20221014T160000
DTSTAMP:20260423T200108
CREATED:20220830T150604Z
LAST-MODIFIED:20220830T150604Z
UID:1311-1665738000-1665763200@ispe.org.br
SUMMARY:Treinamento Online: Qualificação de Projetos
DESCRIPTION:Valores:  \nAntecipado até dia 15/09/2022 \nAssociado ISPE: R$ 350\,00 \nNão sócios: R$ 500\,00 \nSem desconto após dia 15/09/2022 \nAssociado ISPE: R$ 450\,00 \nNão sócios: R$ 600\,00 \nEstudantes de Graduação (Sujeito à disponibilidade de vaga): R$ 171\,00 (Necessária documentação comprobatória) \nInspetores Órgãos Reguladores: Cortesia (Necessária documentação comprobatória) \nConteúdo: \nAtravés de um guia que aborda sólidos conceitos de Boas Práticas de Engenharia e Boas Práticas de Fabricação\, aliada ao conceito de qualificação de projeto este treinamento inclui: \n   * Bases normativas e conceituais   * Quais aspectos devem ser considerados para Qualificar um Projeto nas Indústrias de Ciências da Vida \nObjetivos: \nAplicando os conceitos atuais de BPE e BPF e as regulamentações vigentes treinar/orientar os participantes a qualificar um projeto de engenharia\, equipamentos e sistemas voltados para as indústrias de ciências da vida. \nPúblico Alvo: \nTodas as áreas da Indústria de Ciências da Vida. \nOrientadora: \nAna Marie Kaneto (PQE Group) \nEngenheira Elétrica e Tecnóloga em Construção Civil\, atua na indústria farmacêutica há 15 anos\, com experiência em comissionamento e qualificação de equipamentos\, sistemas de utilidades\, sistemas de automação\, validação de sistemas computadorizados\, qualificação de projetos.Nos últimos sete anos coordena\, gerencia projetos e ministra treinamentos e palestras de Boas Práticas de Documentação\, Qualificação de Equipamentos\, Validação de Sistemas de Computadorizados para Automação.Faz parte dos CoPs de Comissionamento e Qualificação\, GAMP. \nTesoureira ISPE Brasil – 2019/2020 e Reeleita para o Biênio 2021/2022. \nDiretora Vice-Presidente da ISPE Brasil para 2022. \n 
URL:https://ispe.org.br/evento/treinamento-online-qualificacao-de-projetos-2/
END:VEVENT
END:VCALENDAR