BEGIN:VCALENDAR
VERSION:2.0
PRODID:-//ISPE BR - ECPv5.12.2//NONSGML v1.0//EN
CALSCALE:GREGORIAN
METHOD:PUBLISH
X-WR-CALNAME:ISPE BR
X-ORIGINAL-URL:https://ispe.org.br
X-WR-CALDESC:Events for ISPE BR
REFRESH-INTERVAL;VALUE=DURATION:PT1H
X-Robots-Tag:noindex
X-PUBLISHED-TTL:PT1H
BEGIN:VTIMEZONE
TZID:America/Sao_Paulo
BEGIN:STANDARD
TZOFFSETFROM:-0300
TZOFFSETTO:-0300
TZNAME:-03
DTSTART:20220101T000000
END:STANDARD
END:VTIMEZONE
BEGIN:VEVENT
DTSTART;TZID=America/Sao_Paulo:20221003T090000
DTEND;TZID=America/Sao_Paulo:20221004T123000
DTSTAMP:20260423T181711
CREATED:20220331T184348Z
LAST-MODIFIED:20220811T132032Z
UID:1024-1664787600-1664886600@ispe.org.br
SUMMARY:Treinamento Online: Cloud Computing
DESCRIPTION:Valores:  \nAntecipado  até 31/08/2022 \nAssociado ISPE: 350\,00 \nNão sócios: R$ 500\,00 \nSem desconto após 31/08/2022 \nAssociado ISPE: 450\,00 \nNão sócios: R$ 600\,00 \nEstudantes de Graduação (Sujeito à disponibilidade de vaga): R$ 171\,00 (Necessária documentação comprobatória) \nInspetores Órgãos Reguladores: Cortesia (Necessária documentação comprobatória) \n  \nEmenta:  \n– Princípios da Cloud Computing \n– A indústria 4.0 e a Cloud Computing \n– Impacto da Cloud Computing na Indústria de Ciências da Vida \nObjetivos:  \nAo final do treinamento\, o participante terá a compreensão do impacto da utilização da nuvem no dia-a-dia da Indústria de Ciências da Vida\, conhecendo os princípios que regem este tipo de tecnologia\, bem como os processos necessários para garantir um ambiente seguro. \nConteúdo Programático:  \n– Princípios de Cloud Computing: \nO conceito de Cloud Computing \nA Evolução da Cloud Computing \nComo a Cloud Computing já impacta meu dia-dia \n– A Indústria 4.0 e a Cloud Computing \nO conceito básico de Indústria 4.0 \nComo a Cloud Computing impacta a visão da Indústria 4.0 \nO futuro da Indústria e da Cloud Computing \n– Impacto da Cloud Computing na Indústria de Ciências da Vida \nRiscos e Benefícios da Cloud Computing \nValidação de Sistemas nos novos cenários tecnológicos \nComo as Regulamentações são vistas neste novo cenário \nPúblico Alvo:  \nEste treinamento destina-se a todos os profissionais de ciências da vida que desejem possuir o conhecimento básico da tecnologia em nuvem que já está em aplicação nas indústrias bem como conhecer a revolução que esta tecnologia traz nas metodologias existentes \n– Profissionais da Qualidade \n– Profissionais de Validação \n– Profissionais de Automação Industrial \n– Profissionais de Informática \nOrientadora:  \nJozie Azevedo de Souza (Responsável pela área de Informática para as Fábricas de Saúde Humana da Organon do Brasil e na Argentina) \nEngenheira Eletrotécnica e Analista de Sistemas com mais de 20 anos de experiência em Indústria Farmacêutica. \nPossuí experiência em implementações de grandes projetos de sistemas computadorizados e automatizados\, bem como no gerenciamento do ciclo de vida destes sistemas. \nParticipou da elaboração do Guia de Validação de Sistemas Computadorizados junto com profissionais da ANVISA publicado em Abril de 2010. \nLiderou o grupo responsável pelo capítulo de Validação de Sistemas do Guia de Qualificação e Validação da  SINDUSFARMA. \nLiderou o grupo responsável pela elaboração do Guia de Integridade de Dados da SINDUSFARMA. \nResponsável pela área de Informática para as Fábricas de Saúde Humana da Organon no Brasil e na Argentina.
URL:https://ispe.org.br/evento/treinamento-online-cloud-computing/
LOCATION:ZOOM – Link será enviado posteriormente
ATTACH;FMTTYPE=image/jpeg:https://ispe.org.br/wp-content/uploads/2022/03/t-cloud-2-1.jpg
END:VEVENT
BEGIN:VEVENT
DTSTART;TZID=America/Sao_Paulo:20221005T080000
DTEND;TZID=America/Sao_Paulo:20221006T120000
DTSTAMP:20260423T181711
CREATED:20220830T154050Z
LAST-MODIFIED:20220830T165006Z
UID:1316-1664956800-1665057600@ispe.org.br
SUMMARY:Treinamento Online: Ferramentas da Qualidade Farmacêutica – Visão Prática e Utilização em Rotina
DESCRIPTION:Valores:  \nAntecipado até dia 15/09/2022 \nAssociado ISPE: R$ 350\,00 \nNão sócios: R$ 500\,00 \nSem desconto após dia 15/09/2022 \nAssociado ISPE: R$ 450\,00 \nNão sócios: R$ 600\,00 \nEstudantes de Graduação (Sujeito à disponibilidade de vaga): R$ 171\,00 (Necessária documentação comprobatória) \nInspetores Órgãos Reguladores: Cortesia (Necessária documentação comprobatória) \n  \nResenha: \nO curso de Ferramentas da Qualidade Farmacêutica – Visão Prática e Utilização em Rotina provê ao público a capacitação teórica (metodologia e funcionalidade) e utilização prática das Ferramentas da Qualidade\, através de uma visão de Risco e  enfoque Lean & 6 Sigma\, habilitando os participantes à sua aplicação em diversas situações\, como análise de Não Conformidades\, Investigações\, Controle de Mudanças\, Priorizações de Ações Corretivas e Preventivas\, etc.\, além da redução do tempo despendido e aumento da performance das análises estatístico-farmacêuticas através do uso de técnicas comprovadas no mundo das Ciências da Vida. \nConteúdo Programático: \n\n\n\n·        Conceitos das Ferramentas de Qualidade\n\n\n·        Ciclo PDCA\n\n\n·        Brainstorming (*)\n\n\n·        Fluxograma & Mapeamento de Processos (*)\n\n\n·        Histograma (*)\n\n\n·        Diagrama de Pareto (*)\n\n\n·        Folha de Verificação (*)\n\n\n·        Diagrama de Dispersão (*)\n\n\n·        Diagrama de Causa e Efeito (*)\n\n\n·        5 Porquês (*)\n\n\n·        Matriz de Decisão (*)\n\n\n·        Matriz GUT (*)\n\n\n·        5W2H (*)\n\n\n·        SIPOC (*)\n\n\n·        As novas Ferramentas da Qualidade\n\n\n·        Lean & 6 Sigma\n\n\n\n  \nObjetivos: \n\nCapacitar os participantes na compreensão e aplicação das Ferramentas de Qualidade Farmacêutica nos diversos setores das empresas.\nConhecer as principais ferramentas e escolha das mais efetivas em função da situação em análise.\nUtilização das ferramentas\, através de templates\, que serão fornecidos\, em casos reais da indústria farmacêutica.\nMesa Redonda Virtual.\n\nOrientador: \nRicardo Miranda (RM Consulting) \nFarmacêutico Bioquímico\, formado pela Universidade de São Paulo\, Pós-graduação CEAG- Fundação Getúlio Vargas; MBA em Gestão Econômica e Estratégica de Projetos\, Certificação como CPIM pelo APICS ® Institute e Formação Black Belt pelo Instituto Vanzolini – USP. \nAtuou por mais de 35 anos em várias áreas técnicas da indústria farmacêutica (qualidade\, desenvolvimento\, produção\, engenharia\, excelência operacional\, logística e supply). \nMais de 20 anos atuando na área de logística de temperatura controlada nas Américas e Presidente do Comitê de Cadeia Fria ISPE Brasil. \nProfessor de Pós-graduação. \nConsultor Sênior na RM Consulting.
URL:https://ispe.org.br/evento/treinamento-online-ferramentas-da-qualidade-farmaceutica-visao-pratica-e-utilizacao-em-rotina/
END:VEVENT
BEGIN:VEVENT
DTSTART;TZID=America/Sao_Paulo:20221005T143000
DTEND;TZID=America/Sao_Paulo:20221005T163000
DTSTAMP:20260423T181711
CREATED:20220923T120843Z
LAST-MODIFIED:20220923T120843Z
UID:1357-1664980200-1664987400@ispe.org.br
SUMMARY:Webinar Gratuito: RABS e isoladores na produção de injetáveis – Uma introdução
DESCRIPTION:Conteúdo: \nIntrodução a tecnologia e conceito\, requisitos de regulamentação\, tipos de sistema (RABS e isoladores)\, comparativo (RABS x Isoladores)\, visão geral da aplicação e tendências de uso. \nPalestrante: \nFernando Gonçalves (MGC Soluções) \nMediador:  \nFelipe Gonçalves (MGC Soluções) \n 
URL:https://ispe.org.br/evento/webinar-gratuito-rabs-e-isoladores-na-producao-de-injetaveis-uma-introducao/
ATTACH;FMTTYPE=image/jpeg:https://ispe.org.br/wp-content/uploads/2022/09/w-RABS-e-isoladores-na-producao-de-injetavei.jpg
END:VEVENT
END:VCALENDAR