BEGIN:VCALENDAR
VERSION:2.0
PRODID:-//ISPE BR - ECPv5.12.2//NONSGML v1.0//EN
CALSCALE:GREGORIAN
METHOD:PUBLISH
X-WR-CALNAME:ISPE BR
X-ORIGINAL-URL:https://ispe.org.br
X-WR-CALDESC:Events for ISPE BR
REFRESH-INTERVAL;VALUE=DURATION:PT1H
X-Robots-Tag:noindex
X-PUBLISHED-TTL:PT1H
BEGIN:VTIMEZONE
TZID:America/Sao_Paulo
BEGIN:STANDARD
TZOFFSETFROM:-0300
TZOFFSETTO:-0300
TZNAME:-03
DTSTART:20220101T000000
END:STANDARD
END:VTIMEZONE
BEGIN:VEVENT
DTSTART;TZID=America/Sao_Paulo:20220822T080000
DTEND;TZID=America/Sao_Paulo:20220823T120000
DTSTAMP:20260423T200126
CREATED:20220606T180521Z
LAST-MODIFIED:20220629T230216Z
UID:1153-1661155200-1661256000@ispe.org.br
SUMMARY:Treinamento Online: Qualificação e Gestão de Fornecedores Farmacêuticos – Visão de Gerenciamento de Riscos e Ciclo de Vida do Fornecedor
DESCRIPTION:Valores:  \nAntecipado até dia 29/07/2022 \nAssociado ISPE: R$ 350\,00 \nNão sócios: R$ 500\,00 \nSem desconto após dia 29/07/2022 \nAssociado ISPE: R$ 450\,00 \nNão sócios: R$ 600\,00 \nEstudantes de Graduação (Sujeito à disponibilidade de vaga): R$ 171\,00 (Necessária documentação comprobatória) \nInspetores Órgãos Reguladores: Cortesia (Necessária documentação comprobatória) \n  \nEmenta: \nO curso de Qualificação e Gestão de Fornecedores Farmacêuticos – Visão de Gerenciamento de Riscos e Ciclo de Vida do Fornecedor provê ao público a capacitação para desenvolver o programa de qualificação (de acordo com as RDCs Anvisa\, ICH Q8 e Q9 e ISO 9001)\, qualificar e auditar\, além de gerir a performance dos fornecedores farmacêuticos qualificados através de indicadores de desempenho\, otimizando as relações entre as empresas e disponibilizando materiais e produtos de qualidade nos prazos acordados. \nObjetivos: \n\nCapacitar os participantes na elaboração e gestão do programa de qualificação de fornecedores farmacêuticos.\nConhecer as principais legislações aplicáveis.\nUtilização das ferramentas de auditoria e indicadores de performance.\nMesa Redonda Virtual\n\nOrientador: Ricardo Miranda (RM Consulting) \nFarmacêutico Bioquímico\, formado pela Universidade de São Paulo\, Pós-graduação CEAG- Fundação Getúlio Vargas; MBA em Gestão Econômica e Estratégica de Projetos\, Certificação como CPIM pelo APICS ® Institute e Certificação Black Belt pelo Instituto Vanzolini – USP. \nAtuou em várias áreas técnicas da indústria farmacêutica (qualidade\, desenvolvimento\, produção\, engenharia\, excelência operacional\, logística e supply). \nMais de 20 anos atuando na área de logística de temperatura controlada nas Américas e Presidente do Comitê de Cadeia Fria ISPE-Brasil. \nProfessor de Pós-graduação. \nConsultor Sênior na RM Consulting.
URL:https://ispe.org.br/evento/treinamento-online-qualificacao-e-gestao-de-fornecedores-farmaceuticos-visao-de-gerenciamento-de-riscos-e-ciclo-de-vida-do-fornecedor/
LOCATION:ZOOM – Link será enviado posteriormente
ATTACH;FMTTYPE=image/jpeg:https://ispe.org.br/wp-content/uploads/2022/06/t-qualificacao-e-gestao.jpg
END:VEVENT
BEGIN:VEVENT
DTSTART;TZID=America/Sao_Paulo:20220825T080000
DTEND;TZID=America/Sao_Paulo:20220826T120000
DTSTAMP:20260423T200126
CREATED:20220530T201709Z
LAST-MODIFIED:20220629T230143Z
UID:1112-1661414400-1661515200@ispe.org.br
SUMMARY:Treinamento Online: Análise de Risco para prevenção de Contaminação Cruzada
DESCRIPTION:Investimento:  \nAntecipado  até 29/07/2022 \nAssociado ISPE: 350\,00 \nNão sócios: R$ 500\,00 \n  \nSem desconto após 29/07/2022 \nAssociado ISPE: 450\,00 \nNão sócios: R$ 600\,00 \nEstudantes de Graduação (Sujeito à disponibilidade de vaga): R$ 171\,00 (Necessária documentação comprobatória) \nInspetores Órgãos Reguladores: Cortesia (Necessária documentação comprobatória) \n  \nConteúdo:  \nManufatura de produtos Farmacêuticos baseada em Análise de Risco (ISPE Baseline Guide volume 07). \n  \nObjetivos: \nEntender os conceitos básicos envolvidos que possibilitem ao participante\, ao final do curso\, os pontos a considerar minimamente quando da formulação de uma estratégia de análise de Risco na Empresa com base no ICH Q9. \n  \nPúblico Alvo:  \nProfissionais envolvidos na manufatura de Produtos farmacêuticos em Plantas multiprodutos . \n  \nPalestrantes:     \nMarcos Pereira (Johnson & Johnson) \nDiretor de Qualidade da Johnson e Johnson e Responsável Técnico pela Divisão Farmacêutica do Grupo no Brasil. \nCom mais de 35 anos de experiência no Setor\, Marcos teve responsabilidades em todas as áreas do Sistema da Qualidade e Manufatura de Produtos Farmacêuticos\, Produtos Para Saúde e Cosméticos e em sua função de Responsável Técnico atua nas áreas de Conformidade e Assuntos Regulatórios. \nEspecialista na análise de risco na Gestão da Qualidade aplicada em todos os subsistemas em especial na prevenção da contaminação em plantas multiprodutos. \nMarcos e graduado pela Universidade Federal de Ouro Preto (1986) com especialização em Gestão da Qualidade pela UNICAMP\, em Gestão Empresarial pela FIA – USP e MBA pela Fundação Getúlio Vargas. \n  \nMarcele Guidastre (Consultora) \nPós-Graduada em Análise de Sistema\, pela Uni Lins (Centro Universitário de Lins)\, atuando como Analista de Sistemas e de Gestão da Qualidade em (Validação de Sistema Computadorizados) com 23 anos de experiência\, nas atividades relacionadas\, adquiridos em empresas de ciências da vida dos segmentos\, como Farmacêuticos\, Financeiro\, Automação Industrial\, entre outras. Auditora em Sistemas de Gestão da Qualidade\, Analista de Qualidade e Validação de Sistema Computadorizados\, Planilhas Eletrônicas na função de (QA/e-Compliance)\, Analista de Qualidade para TI (IT Quality Manager /Project Quality Manager)\, Analista de Processos\, Coordenações e Gerenciamento de projetos. \nImplementação e Gerenciamento de processos relacionados a CAPA (Ações Corretivas e Preventivas)\, Auditoria e Avaliação de Fornecedores\, Gerenciamento e aplicação da Qualificação de Infraestrutura /Certificação de Rede\, ISO\, Governança de IT. Participação em implantação de sistemas com impacto em VSC dos projetos dentre outros: MÊS (Manufacturing Execution System)\, Projeto ECM (Enterprise Content Manager)\, Projeto Sales Force.com (área de Call Center)\, Projeto ERP (SAP – TOTVS)\, Projeto GED (Gerenciamento Eletrônico Documento)\, Projeto Divestment de unidade Fabril entre outros.
URL:https://ispe.org.br/evento/treinamento-online-analise-de-risco-para-prevencao-de-contaminacao-cruzada/
LOCATION:ZOOM – Link será enviado posteriormente
ATTACH;FMTTYPE=image/jpeg:https://ispe.org.br/wp-content/uploads/2022/05/t-analise-de-riscos-cont-cruz-1.jpg
END:VEVENT
END:VCALENDAR