BEGIN:VCALENDAR
VERSION:2.0
PRODID:-//ISPE BR - ECPv5.12.2//NONSGML v1.0//EN
CALSCALE:GREGORIAN
METHOD:PUBLISH
X-WR-CALNAME:ISPE BR
X-ORIGINAL-URL:https://ispe.org.br
X-WR-CALDESC:Events for ISPE BR
REFRESH-INTERVAL;VALUE=DURATION:PT1H
X-Robots-Tag:noindex
X-PUBLISHED-TTL:PT1H
BEGIN:VTIMEZONE
TZID:America/Sao_Paulo
BEGIN:STANDARD
TZOFFSETFROM:-0300
TZOFFSETTO:-0300
TZNAME:-03
DTSTART:20220101T000000
END:STANDARD
END:VTIMEZONE
BEGIN:VEVENT
DTSTART;TZID=America/Sao_Paulo:20220808T080000
DTEND;TZID=America/Sao_Paulo:20220809T120000
DTSTAMP:20260423T200050
CREATED:20220614T174724Z
LAST-MODIFIED:20220629T230424Z
UID:1162-1659945600-1660046400@ispe.org.br
SUMMARY:Treinamento Online: Estatística para Validação de Limpeza
DESCRIPTION:Valores:  \nAntecipado até dia 08/07/2022 \nAssociado ISPE: R$ 350\,00 \nNão sócios: R$ 500\,00 \nSem desconto após dia 08/07/2022 \nAssociado ISPE: R$ 450\,00 \nNão sócios: R$ 600\,00 \nEstudantes de Graduação (Sujeito à disponibilidade de vaga): R$ 171\,00 (Necessária documentação comprobatória) \nInspetores Órgãos Reguladores: Cortesia (Necessária documentação comprobatória) \nConteúdo: \nIntrodução ao ciclo de Vida da Validação de Limpeza \nAplicação Estatística na Fase 3: Elaboração do plano de Verificação Continuada \nAnálise Estatística para Validação de Limpeza: \n\nIntrodução à análise de tendência para validação de limpeza: estabilidade via gráficos de CEP e análise de capacidade via índices de capacidade e performance;\nDados de resíduos/ impureza: presença de censura intervalar para tratamento do LD e do LQ;\nDados microbiológicos: dados discretos com censura;\nGráficos de CEP apropriados para dados com censura;\nDefinição do limite de alerta e do limite de ação;\nCálculo dos índices de performance.\n\nObjetivos: \nApresentar estratégias para avaliar tendência em validação de limpeza\, em que os dados podem ser de dois tipos: dados de resíduos ou dados microbiológicos. \nPúblico Alvo:  \nColaboradores da Indústria Farmacêutica ou afins que trabalham diretamente com Validação de Limpeza. \nPalestrantes: \nJamila Delfraro (Especialista em Validação)  \nFormada em 2007 em Farmácia Industrial pela Universidade Federal de Alfenas e MBA em Gestão e Planejamento Estratégico pelo Grupo Uninter (Faculdade Internacional de Curitiba)\, começou a atuar na área farmacêutica em 2005 com projetos científicos. Em 2007 iniciou sua carreira na indústria farmacêutica\, atuando nas áreas de Controle e Garantia da Qualidade\, Gestão de Sistemas da Qualidade\, Qualificação e Validação. \nCom experiência de mais 14 anos no setor\, trabalhando em indústrias farmacêuticas nacionais e multinacionais\, atualmente presta consultorias e ministra treinamentos para indústrias farmacêuticas\, veterinárias\, cosméticas e alimentícias na área de SGQ (Sistema de Gestão da Qualidade) e Validação sendo também membro líder do Comitê de Validação da ISPE Brasil. \nDorival Leão (Doutor em Engenharia Elétrica) \nGraduado em Estatística pela UNICAMP\, mestrado em Engenharia Elétrica pela UNICAMP\, e doutorado em Engenharia Elétrica pela UNICAMP. Além de empresário e consultor\, foi professor da USP – Universidade de São Paulo por mais de 16 anos. Possui sólida experiência na área de Probabilidade e Estatística\, atuando principalmente nos temas: estatística industrial\, fundamentos da teoria de probabilidade e cálculo estocástico. \nAtualmente\, é consultor estatístico e CEO do Grupo EstatCamp\, holding com 25 anos de atuação em desenvolvimento de software para soluções estatísticas (EstatAnalytics\, EstatPharma\, EstatAction\, EstatCloud e Portal Action)\, e colabora com empresas na melhoria de processos e na obtenção de resultados de negócios por meio de ferramentas estatísticas. \nLattes: http://lattes.cnpq.br/9633241446303620 \nAmanda D’Andrea (Doutora em Estatística) \nFormada em Estatística pela UFSCar e mestrado e doutorado em Estatística pela UFSCar e USP. Iniciou sua carreira atuando como professora de Estatística em grandes universidades: UNESP\, UFSCar e USP. \nAtualmente é estaticista no Grupo Estatcamp\, atuando\, principalmente\, no desenvolvimento e implantação de softwares na área de Validação de Processos e Verificação Continuada. \nLattes: http://lattes.cnpq.br/1678613581879501
URL:https://ispe.org.br/evento/treinamento-online-estatistica-para-validacao-de-limpeza/
LOCATION:ZOOM – Link será enviado posteriormente
ATTACH;FMTTYPE=image/jpeg:https://ispe.org.br/wp-content/uploads/2022/06/t-estatistica-para-validacao-de-limpeza.jpg
END:VEVENT
BEGIN:VEVENT
DTSTART;TZID=America/Sao_Paulo:20220812T090000
DTEND;TZID=America/Sao_Paulo:20220812T110000
DTSTAMP:20260423T200050
CREATED:20220801T205700Z
LAST-MODIFIED:20220802T132909Z
UID:1250-1660294800-1660302000@ispe.org.br
SUMMARY:Webinar Gratuito: "Qualidade de Sistema de Água: foco em conformidade BPF"
DESCRIPTION:Conteúdo: Avaliação e discussão dos principais riscos e não conformidades em sistemas de geração e distribuição de água com o objetivo de garantir a conformidade das diretrizes regulatórias. \nPúblico Alvo: Profissionais que atuam nas áreas de qualidade\, controle de qualidade\, qualificação\, validação\, manutenção\, utilidades e engenharia em indústrias de life sciences. \nPalestrante: Carlos Eduardo Sousa (Azbil Telstar) Farmacêutico com mais de 12 anos de experiencia em indústria farmacêutica\, tendo atuado nas áreas de qualificação de utilidades\, equipamentos e sistemas\, validação de processo e limpeza\, validação de sistema computadorizados\, BPF\, reclamação de mercado e CAPA. Gerente de projeto e consultor na Azbil Telstar atuando em projeto de comissionamento e qualificação de instalações\, equipamentos e sistemas para a indústria de Life Sciences. \nModeradora: Kesia Pires de Oliveira (Azbil Telstar) \nPatrocínio: Azbil Telstar
URL:https://ispe.org.br/evento/webinar-gratuito-qualidade-de-sistema-de-agua-foco-em-conformidade-bpf/
ATTACH;FMTTYPE=image/jpeg:https://ispe.org.br/wp-content/uploads/2022/08/w-telstar-qualidade-do-sistema-de-agua.jpg
END:VEVENT
END:VCALENDAR