BEGIN:VCALENDAR
VERSION:2.0
PRODID:-//ISPE BR - ECPv5.12.2//NONSGML v1.0//EN
CALSCALE:GREGORIAN
METHOD:PUBLISH
X-WR-CALNAME:ISPE BR
X-ORIGINAL-URL:https://ispe.org.br
X-WR-CALDESC:Events for ISPE BR
REFRESH-INTERVAL;VALUE=DURATION:PT1H
X-Robots-Tag:noindex
X-PUBLISHED-TTL:PT1H
BEGIN:VTIMEZONE
TZID:America/Sao_Paulo
BEGIN:STANDARD
TZOFFSETFROM:-0300
TZOFFSETTO:-0300
TZNAME:-03
DTSTART:20220101T000000
END:STANDARD
END:VTIMEZONE
BEGIN:VEVENT
DTSTART;TZID=America/Sao_Paulo:20220411T080000
DTEND;TZID=America/Sao_Paulo:20220412T110000
DTSTAMP:20260424T022813
CREATED:20211213T141906Z
LAST-MODIFIED:20220217T133507Z
UID:384-1649664000-1649761200@ispe.org.br
SUMMARY:Treinamento Online: Edifícios de Produção de Sólidos Orais
DESCRIPTION:Valores:Antecipado até dia 15/03/2022Associado ISPE: 350\,00Não sócios: R$ 500\,00 \nSem desconto após dia 15/03/2022Associado ISPE: 450\,00Não sócios: R$ 600\,00 \nEstudantes de Graduação (Sujeito à disponibilidade de vaga): R$ 171\,00 (Necessária documentação comprobatória) \nInspetores Órgãos Reguladores: Cortesia (Necessária documentação comprobatória) \nConteúdo: \nSerão abordados temas como: \n\ntipos e etapas de projeto\nfluxos de processo\nconceitos de contenção\nairlocks e vestiários\nmodulação estrutural\ncirculações\n\nObjetivos: \nO objetivo é auxiliar profissionais no desenvolvimento\, planejamento e gestão de projetos de edifícios para produção de sólidos orais. \nPúblico Alvo: \nTreinamento voltado para profissionais de engenharia\, qualidade e produção. \nCV dos palestrantes \nSilmas Pareico (Nordika do Brasil) Arquiteto de Processos Sênior e Gerente de Design para a indústria farmacêutica e de Life-science\, com 24 anos na indústria farmacêutica\, experiência no design de edifícios produtivos e de suporte à produção farmacêutica. Planejamento e execução de projetos\, gerenciamento de design e equipes multidisciplinares\, interface com o cliente. Projetos Conceituais e Detalhados para áreas de produção de sólidos\, líquidos\, injetáveis\, embalagem e laboratórios. \n\n\n\n\n\n\n\n\n\n\n\n 
URL:https://ispe.org.br/evento/edificios-de-producao-de-solidos-orais/
LOCATION:Auditório da GS1 Brasil – Associação Brasileira de Automação\, localizado na Rua Henrique Monteiro\, 79 – Pinheiros – São Paulo – SP
END:VEVENT
BEGIN:VEVENT
DTSTART;TZID=America/Sao_Paulo:20220412T140000
DTEND;TZID=America/Sao_Paulo:20220412T153000
DTSTAMP:20260424T022813
CREATED:20220322T131516Z
LAST-MODIFIED:20220329T143424Z
UID:1002-1649772000-1649777400@ispe.org.br
SUMMARY:Webinar Gratuito: “Pharma 4.0™: aplicando os conceitos da Indústria 4.0 para a Indústria Farmacêutica\, Ciências da Vida e Biotecnologia”
DESCRIPTION:Conteúdo:  \nComo o Pharma 4.0™ descreve o Modelo Operacional da Indústria 4.0 para a indústria farmacêutica   \nPúblico Alvo:  \nProfissionais da Indústria Farmacêutica\, Biotecnologia e Ciências da Vida   \nObjetivos:  \nDiscutir os conceitos da indústria 4.0 no seguimento de ciências da vida e apresentar brevemente os objetivos do Comitê no Brasil. \n  \nPalestrantes: \nDouglas Mariotoni – Líder Comitê Pharma 4.0 Brasil \nEngenheiro de automação com mais de 14 anos de experiência\, trabalhando para viabilizar e apoiar a transformação digital da indústria no Brasil. \nNORDIKA DO BRASIL – Responsável por desenvolvimento de negócios e consultoria tecnológica para projetos de automação\, digitalização Indústria 4.0 (2021 – presente); \nSIEMENS ≈13 anos de experiência com automação industrial em diversos setores da indústria\, últimos anos responsável pelo desenvolvimento de negócios de projetos e soluções de automação industrial e digitalização para o segmento de Life Science no Brasil (2008 – 2021); \nGraduado em Engenharia de Controle e Automação pela UNESP (2004-2009)\, \nMBA em Gestão Estratégica de Negócios pela FGV (2016 – 2019) \nLíder do Comitê Pharma 4.0 da ISPE Brasil \n  \nRodrigo Alvarez –Vice-líder Comitê Pharma 4.0 Brasil \nResponsável por soluções de TI Industrial na Vertical Farmacêutica na Siemens Industry Software; \n+20 anos de vivência em Indústrias Farmacêuticas com experiência em Implementação de Soluções de TI Industrial (MES\, OEE\, WMS\, LIMS) validadas de acordo com requisitos regulatórios globais como FDA\, EMA\, Anvisa\, Invima entre outros. \nLiderança de equipes multidisciplinares da América Latina em projetos para Indústrias de Ciências da Vida; \nGraduado em Tecnologia da Informação pela Universidade Mackenzie com MBA em Gestão de Projetos pela FGV. \nPresidente do ISPE Brazil (2009 a 2012). Atuou na elaboração do Guia de Validação de Sistemas da Anvisa publicado em 2010; \nProfessor especialista nos cursos de MBA de Gestão Industrial Farmacêutica pela Faculdade Oswaldo Cruz e MBA Indústria Farmacêutica na FIA USP.
URL:https://ispe.org.br/evento/webinar-gratuito-pharma-4-0-conceito-e-comite-ispe-brasil/
LOCATION:Auditório da GS1 Brasil – Associação Brasileira de Automação\, localizado na Rua Henrique Monteiro\, 79 – Pinheiros – São Paulo – SP
END:VEVENT
END:VCALENDAR