BEGIN:VCALENDAR
VERSION:2.0
PRODID:-//ISPE BR - ECPv5.12.2//NONSGML v1.0//EN
CALSCALE:GREGORIAN
METHOD:PUBLISH
X-WR-CALNAME:ISPE BR
X-ORIGINAL-URL:https://ispe.org.br
X-WR-CALDESC:Events for ISPE BR
REFRESH-INTERVAL;VALUE=DURATION:PT1H
X-Robots-Tag:noindex
X-PUBLISHED-TTL:PT1H
BEGIN:VTIMEZONE
TZID:America/Sao_Paulo
BEGIN:STANDARD
TZOFFSETFROM:-0300
TZOFFSETTO:-0300
TZNAME:-03
DTSTART:20220101T000000
END:STANDARD
END:VTIMEZONE
BEGIN:VEVENT
DTSTART;TZID=America/Sao_Paulo:20220405T080000
DTEND;TZID=America/Sao_Paulo:20220406T170000
DTSTAMP:20260424T022741
CREATED:20220207T202207Z
LAST-MODIFIED:20220207T202207Z
UID:812-1649145600-1649264400@ispe.org.br
SUMMARY:Treinamento Online: Validação de Processos com ênfase no Desenvolvimento de Medicamentos.
DESCRIPTION:Valores:  \nAntecipado até dia 10/03/2022 \nAssociado ISPE: 700\,00 \nNão sócios: R$ 1.150\,00 \n  \nSem desconto após 10/03/2022 \nAssociado ISPE: 760\,00 \nNão sócios: R$ 1.255\,00 \nEstudantes de Graduação (Sujeito à disponibilidade de vaga): R$ 330\,00 (Necessária documentação comprobatória) \nInspetores Órgãos Reguladores: Cortesia (Necessária documentação comprobatória) \n  \nConteúdo: \nO treinamento contemplará as 3 fases de validação (1 desenvolvimento\, 2 qualificação do processo e 3 CPV)\, entretanto a ênfase será na fase 1.                     \nDia 1 \n1) Harmonização conceitual \n– Validação com foco no desenvolvimento \n– Papéis e responsabilidades \n– Legislação \n– Mapeamento e Gerenciamento de Riscos na validação \n– Fases da Validação (Fase 1\, 2 e 3) \n– Aspectos de qualidade do ICH dentro do desenvolvimento de produtos \n– Papel dos métodos analíticos no desenvolvimento de formulação e processos dos medicamentos \n  \n2) Fase 1 : Desenvolvimento de um produto no contexto de QbD \n– Fluxo de desenvolvimento de um produto utilizado QbD \n– Conceito e definição dos atributos críticos de qualidade\, parâmetros críticos de processo e parâmetros chave de processo (CQA\, CPP e CKP) \n– Gerenciamento de risco no desenvolvimento de produtos \n– Fundamentos e aplicações do DoE (Desing of Experiments) \n– Definição de Design Space \n– Estratégia de controle \n– Abordagem empírica x método científico para desenvolvimento de produtos \n– Alterações pós-registro com desenvolvimento por QbD \n  \n3) Fase 2 da validação: Qualificação do Processo – Mapeamento oficial do processo (Técnica de Fabricação do Produto) \n– Análise de Risco Oficial do Processo \n– Levantamento dos Pré-Requisitos (como checar os estudos de validação metodologias analíticas\, estudos de qualificação de equipamentos e utilidades\, fornecedores\, etc). \n-Passo a Passo para elaboração do Protocolo de Validação de Processo \n-Definição do Plano de Amostragem (NBR 5426\, PDA Report 59) \n-Definição dos lotes a serem acompanhados \n-Acompanhamento do Processo e retirada de amostras \n  \nDia 2: \n 4) Continuação Fase 2 – Estatística para Validação \n-Conceitos e Fundamentos de Ferramentas Estatísticas (Cp\, CPk\, Carta de Controle\, Histograma) \n-Exemplificação da utilização de ferramentas estatísticas \n-Interpretação dos Resultados de Validação do ponto de vista estatístico \n  \n5) Continuação Fase 2 – Relatório de Validação \n-Avaliação estatística e exemplos de resultados. \n-Elaboração do Relatório de Validação \n  \n6) Fase 3 – (CPV): Avaliação Continuada do Processo \n– Expectativas da Fase 3 (Análise de varáveis) \n– Definição do Plano Amostral \n               -Elaboração de protocolo específico                \n  \nObjetivos: \nHarmonização conceitual do conceito e fases da validação sob abordagem da RDC 301/19 ANVISA com ênfase nas melhores práticas de desenvolvimento farmacêutico.              \n                \nPúblico Alvo: \nProfissionais da indústria farmacêutica que atuam nas áreas de qualidade\, validação de processos e desenvolvimento farmacotécnico. \n  \nCV dos palestrantes \nMirella Melo (ISGroup – Quality Compliance Consultoria)     \nFarmacêutica Industrial\, Pós Graduada em Gestão de Qualidade e Produtividade pelas Faculdades Oswaldo Cruz/SP. \nPossui 15 anos de experiência atuante em validação (Cargos de Gestão e Responsabilidade Técnica de Indústrias Farmacêuticas como Blanver\, Brasterápica e Libbs Farmacêutica); \nAtualmente é Diretora Técnica e sócia da empresa  Quality Compliance Consultoria e docente dos Cursos de Pós Graduação voltado às Indústrias Farmacêuticas – ICTQ (Instituto de Ciência\, Tecnologia e Qualidade e FDTE (Fundação de Apoio à Universidade de São Paulo – USP). \n  \nMichele Alecrim Aguilar (Consultora P&D / CMC) \nBacharel em Química pela Universidade Estadual Paulista (UNESP) e MBA em Gestão Empresarial pela Fundação Getúlio Vargas (FGV). Possui mais de 14 anos de experiência na indústria farmacêutica\, atuando em empresas como Ouro Fino Saúde Animal\, Luper Farmaceutica\, Catalent e Libbs Farmacêutica\, nesta última como Gerente de Desenvolvimento Analítico\, liderando um time com mais de 100 colaboradores. Atualmente é consultora e ministra treinamentos nas áreas de P&D (incluindo QbD)\, troubleshooting de formulações\, dossiês regulatórios para registro e pós-registro de medicamentos e estratégia para atendimento às exigências da Anvisa nessas áreas. \n  \nDorival Leão   Doutor em Engenharia Elétrica;   17 anos como professor de estatística do ICMC-USP;   20 artigos publicados em revistas internacionais;   CEO da Estatcamp;   Lattes: http://lattes.cnpq.br/9633241446303620
URL:https://ispe.org.br/evento/treinamento-online-validacao-de-processos-com-enfase-no-desenvolvimento-de-medicamentos/
LOCATION:Auditório da GS1 Brasil – Associação Brasileira de Automação\, localizado na Rua Henrique Monteiro\, 79 – Pinheiros – São Paulo – SP
END:VEVENT
BEGIN:VEVENT
DTSTART;TZID=America/Sao_Paulo:20220407T080000
DTEND;TZID=America/Sao_Paulo:20220408T120000
DTSTAMP:20260424T022741
CREATED:20220207T205141Z
LAST-MODIFIED:20220210T022141Z
UID:823-1649318400-1649419200@ispe.org.br
SUMMARY:Treinamento Online: Estatística para Validação de Processos
DESCRIPTION:Valores:  \nAntecipado até dia 10/03/2022 \nAssociado ISPE: R$ 350\,00 \nNão sócios: R$ 500\,00 \n  \nSem desconto após dia 10/03/2022 \nAssociado ISPE: R$ 450\,00 \nNão sócios: R$ 600\,00 \nEstudantes de Graduação (Sujeito à disponibilidade de vaga): R$ 171\,00 (Necessária documentação comprobatória) \nInspetores Órgãos Reguladores: Cortesia (Necessária documentação comprobatória) \n  \nConteúdo: \n\nApresentação Inicial\nCiclo de Vida do Produto – Uma abordagem holística\nDefinição de Materiais:\n\nCaracterísticas de Qualidade de Produtos – Perfil-Alvo de Qualidade do Produto/Atributos Críticos de Qualidade/Controles em Processo.\nPopulação e Amostra – O que queremos estudar e nosso material de estudo.\nTipos de Variáveis e Característica de Qualidade – Qual o modo mais adequado de tratar os dados\, partindo de suas características?\nDistribuições de Probabilidade – Como traduzir o comportamento de fenômenos em modelos matemáticos de forma simples e intuitiva.\n\n\nA Estatística nas Fases 2 e 3 – Metodologia e Prática:\n\nO que queremos provar em cada fase da Validação de Processos e como a Estatística pode nos auxiliar?\nControle Estatístico de Processos – Definição conceitual e Objetivo.\nAmostragem – Reduzindo possíveis\nCartas-Controle – Aferindo a estabilidade do processo produtivo e agindo pro ativamente para controlar a variabilidade.\nÍndices de Capabilidade – Comprovando a segurança do processo produtivo em atender às especificações.\nTestes de Comparação de Médias (Equivalência e ANOVA) e Variâncias – Como realizar comparações entre lotes de forma a aferir sua reprodutibilidade.\nRecapitulação da Aplicação das Ferramentas Estatísticas – Entendendo o racional\n\n\nFechamento\n\n  \nObjetivos: \nQualificar profissionais da indústria farmacêutica para entender\, de forma didática e aplicada\, quais e de que forma ferramentas estatísticas são utilizadas para comprovar a adequabilidade da qualificação de performance de processos produtivos e manter seu estado de controle durante o ciclo de vida do produto. \n  \nPúblico Alvo: \nProfissionais da indústria farmacêutica\, particularmente que trabalhem na área de Garantia da Qualidade e Pesquisa e Desenvolvimento. O conteúdo programático e a abordagem permitem que profissionais de outras áreas da indústria com interesse no monitoramento e avaliação de processos produtivos também possam aproveitar o curso. \n  \nPalestrante \nDorival Leão \nDoutor em Engenharia Elétrica; \n17 anos como professor de estatística do ICMC-USP; \n20 artigos publicados em revistas internacionais; \nCEO da Estatcamp; \nLattes: http://lattes.cnpq.br/9633241446303620
URL:https://ispe.org.br/evento/treinamento-online-estatistica-para-validacao-de-processos/
LOCATION:Auditório da GS1 Brasil – Associação Brasileira de Automação\, localizado na Rua Henrique Monteiro\, 79 – Pinheiros – São Paulo – SP
END:VEVENT
END:VCALENDAR