BEGIN:VCALENDAR
VERSION:2.0
PRODID:-//ISPE BR - ECPv5.12.2//NONSGML v1.0//EN
CALSCALE:GREGORIAN
METHOD:PUBLISH
X-WR-CALNAME:ISPE BR
X-ORIGINAL-URL:https://ispe.org.br
X-WR-CALDESC:Events for ISPE BR
REFRESH-INTERVAL;VALUE=DURATION:PT1H
X-Robots-Tag:noindex
X-PUBLISHED-TTL:PT1H
BEGIN:VTIMEZONE
TZID:America/Sao_Paulo
BEGIN:STANDARD
TZOFFSETFROM:-0300
TZOFFSETTO:-0300
TZNAME:-03
DTSTART:20250101T000000
END:STANDARD
END:VTIMEZONE
BEGIN:VEVENT
DTSTART;TZID=America/Sao_Paulo:20250701T080000
DTEND;TZID=America/Sao_Paulo:20250701T100000
DTSTAMP:20260420T045343
CREATED:20250613T120030Z
LAST-MODIFIED:20250616T111537Z
UID:3244-1751356800-1751364000@ispe.org.br
SUMMARY:Webinar Gratuito: "Da Teoria à Prática: Como Simulações Potencializam Projetos e Solucionam Problemas Reais na Indústria Farmacêutica"
DESCRIPTION:Webinar Gratuito \nConteúdo:\n1) Introdução (Apresentação do palestrante e do tema)\n2) Qual o objetivo das Simulações?\n3) Onde as Simulações são aplicadas?\n4) Cases em projetos novos\n5) Cases em Instalações existentes\n6) Perguntas\n7) Encerramento \nPúblico-alvo:\nEngenheiros\, gerentes de projetos e profissionais da indústria farmacêutica. \nObjetivos:\nEste webinar tem como objetivo apresentar\, de forma prática e aplicada\, como o uso de simulações de sistemas em engenharia pode potencializar o desempenho de projetos\, e solucionar problemas em instalações existentes na indústria farmacêutica. O webinar irá demonstrar\, por meio de casos reais em projetos novos e instalações existentes\, como as simulações contribuem para tomadas de decisão mais assertivas\, aumento da eficiência operacional e mitigação de riscos. É uma oportunidade para os profissionais do setor conhecerem o impacto positivo dessa ferramenta na entrega de soluções inovadoras e seguras para o segmento de ciências da vida. \nPalestrante:\nCristina Corsi\nLíder da Disciplina de Processo da Syntegon Telstar – desde 2021.\nCom 34 anos de experiência profissional na área de Engenharia de Processos\, sendo 16 anos dedicados a Projetos e Apoio à Montagem de Instalações Farmacêuticas. Graduada em Engenharia Química pela Universidade Presbiteriana Mackenzie\, em São Paulo.\nPossui ampla experiência no desenvolvimento de projetos de Plantas de Processo\, Utilidades Farmacêuticas e Industriais\, com forte atuação no setor de ciências da vida\, abrangendo as indústrias farmacêutica\, biotecnológica\, de dispositivos médicos\, saúde animal\, farmoquímica\, cosmética e de cuidados pessoais.\nAtualmente\, atua como Líder da Disciplina de Processo\, sendo responsável pela liderança da equipe de processo e pela aplicação das melhores tecnologias de processo e ferramentas de engenharia\, com foco em alcançar maior eficiência e qualidade nos projetos desenvolvidos. \nMediadora:\nRenata Collet Lemos\nGerente de Engenharia Syntegon Telstar\nCom mais de 25 anos de experiência profissional\, é graduada em Arquitetura e Urbanismo pela Universidade Presbiteriana Mackenzie\, com MBA em Gestão de Pessoas pela Fundação Getúlio Vargas.\nEla possui ampla expertise em projetos de engenharia\, especialmente no setor de ciências da vida\, abrangendo as indústrias farmacêutica\, biotecnológica\, de dispositivos médicos\, saúde animal\, farmoquímica\, cosmética e de cuidados pessoais.\nNos primeiros anos de sua carreira\, desenvolveu projetos arquitetônicos para instituições de ensino\, centros de pesquisa e instalações industriais. Essa experiência lhe proporcionou sólidos conhecimentos em desenvolvimento de layouts\, fluxos de produção e Boas Práticas de Fabricação (GMP)\, permitindo sua evolução para funções de coordenação e liderança de equipes\, até alcançar posições de gestão. Trabalhou em grandes empresas EPCistas\, tendo participado de diversos processos de contratação de projetos de engenharia e serviços.\nAtualmente\, atua como Gerente de Engenharia\, liderando as operações da área no setor de ciências da vida. Seu papel envolve supervisão estratégica\, impulsionando inovação e eficiência na execução dos projetos.
URL:https://ispe.org.br/evento/webinar-gratuito-da-teoria-a-pratica-como-simulacoes-potencializam-projetos-e-solucionam-problemas-reais-na-industria-farmaceutica/
LOCATION:Zomm – Link será enviado automaticamente pelo Zoom quando realizar sua inscrição.
ATTACH;FMTTYPE=image/png:https://ispe.org.br/wp-content/uploads/2025/06/da-teoria-ap.png
END:VEVENT
END:VCALENDAR