BEGIN:VCALENDAR
VERSION:2.0
PRODID:-//ISPE BR - ECPv5.12.2//NONSGML v1.0//EN
CALSCALE:GREGORIAN
METHOD:PUBLISH
X-WR-CALNAME:ISPE BR
X-ORIGINAL-URL:https://ispe.org.br
X-WR-CALDESC:Events for ISPE BR
REFRESH-INTERVAL;VALUE=DURATION:PT1H
X-Robots-Tag:noindex
X-PUBLISHED-TTL:PT1H
BEGIN:VTIMEZONE
TZID:America/Sao_Paulo
BEGIN:STANDARD
TZOFFSETFROM:-0300
TZOFFSETTO:-0300
TZNAME:-03
DTSTART:20250101T000000
END:STANDARD
END:VTIMEZONE
BEGIN:VEVENT
DTSTART;TZID=America/Sao_Paulo:20250623T080000
DTEND;TZID=America/Sao_Paulo:20250623T180000
DTSTAMP:20260420T075313
CREATED:20250504T230709Z
LAST-MODIFIED:20250609T133314Z
UID:3162-1750665600-1750701600@ispe.org.br
SUMMARY:1º Simpósio Presencial de Sustentabilidade dos Apoiadores da ISPE Brasil: "Os desafios da agenda ESG na Indústria Farmacêutica"
DESCRIPTION:Carga Horária: 8 horas\nInvestimento: \nAntecipado até 10/06/2025\nAssociado ISPE: R$ 525\,00\nNão sócios: R$ 685\,00 \nSem desconto após 10/06/2025\nAssociado ISPE: R$ 650\,00\nNão sócios: R$ 840\,00 \nEstudantes de Graduação (Sujeito à disponibilidade de vaga): R$ 305\,00 (Necessária documentação comprobatória)\nInspetores Órgãos Reguladores: Cortesia (Sujeito à disponibilidade de vaga / Necessária documentação comprobatória) \nPainéis Temáticos\nPainel 1:\nSustentabilidade na Indústria Farmacêutica – Exposição de cases de sucesso aplicados à indústria farmacêutica e uma rica discussão sobre como o segmento encara as metas globais de sustentabilidade.  \nTemas e Palestrantes:\nCase de Sucesso: Alissandra Lopes Lima (Fundação Butantan)\nCase de Sucesso: Vanessa Jesus (Boehringer Ingelheim)\nCase de Sucesso: André Luiz Barbosa Antunes (Novo Nordisk)  \nMediador:\nArq. Silmas Pareico (Nordika) \nPainel 2:\nSustentabilidade Ambiental e Social – Uma relevante conversa sobre gerenciamento de resíduos\, técnicas disruptivas e benefícios sociais na gestão ambiental.  \nTemas e Palestrantes:\nResíduos de medicamentos na rede hidrográfica: Renata Guimarães Moreira Whitton (Bióloga)\nIniciativas não convencionais de reciclagem: Peter Milko (Horizonte Educação & Comunicação)\nGeração de Energia Solar : Wellington Souza (ONG Alimento Solar) \nMediadora:\nArq. Talita Favarato (Nordika) \nPainel 3:\nGovernança – Uma perspectiva regulatória da gestão ambiental no Brasil\, certificação e um bate papo sobre benefícios para quem investe em sustentabilidade.  \nTemas e Palestrantes:\nMercado livre de energia: Ana Luci Grizzi (Nature & Climate Governance)\nCertificação LEED*: Marcelo Nudel (CA2 Consultores)\nMercado de Carbono: Luma Boufleur (Schneider Electric) \nMediador:\nArq. Silmas Pareico (Nordika) \nPainel 4:\nSustentabilidade Energética – Tecnologia e soluções em projetos industriais\, Jardins Filtrantes\, Bombas de Calor e tecnologia Paperless. \nTemas e Palestrantes:\nPaperless na Indústria Farmacêutica: Adilson Gonçalves Oliveira (Kneat)\nBombas de Calor: Giancarlo Delatore (Trane Technoogies)\nJardins Filtrantes: Maria Estela Ribeiro Mendes (Ecclo) \nMediador:\nArq. Silmas Pareico (Nordika) \nObservações:\nCoffees e Almoço incluídos\nMaterial e Certificado Eletrônicos incluídos\nEstacionamento à parte
URL:https://ispe.org.br/evento/1o-simposio-presencial-de-sustentabilidade-dos-apoiadores-da-ispe-brasil-os-desafios-da-agenda-esg-na-industria-farmaceutica/
LOCATION:Hotel  e-Suítes Transamérica Congonhas by Atlântica – Rua Henrique Fausto Lancelotti – 6333 (em frente ao Aeroporto de Congonhas)\, Rua Henrique Fausto Lancelotti – 6333 (em frente ao Aeroporto de Congonhas)\, São Paulo\, São Paulo\, 04625-005
ATTACH;FMTTYPE=image/jpeg:https://ispe.org.br/wp-content/uploads/2025/05/Divulgacao-Atualizada.jpeg
END:VEVENT
BEGIN:VEVENT
DTSTART;TZID=America/Sao_Paulo:20250624T080000
DTEND;TZID=America/Sao_Paulo:20250627T120000
DTSTAMP:20260420T075313
CREATED:20250217T234640Z
LAST-MODIFIED:20250610T015820Z
UID:2973-1750752000-1751025600@ispe.org.br
SUMMARY:Treinamento Online: "Sistemas de Ar Comprimido"
DESCRIPTION:Carga Horária: 16 horas\nInvestimento: \nAntecipado até 01/05/2025\nAssociado ISPE: R$ 860\,00\nNão sócios: R$ 1.420\,00 \nSem desconto após 01/05/2025\nAssociado ISPE: R$ 1.135\,00\nNão sócios: R$ 1.530\,00 \nEstudantes de Graduação (Sujeito à disponibilidade de vaga): R$ 430\,00 (Necessária documentação comprobatória)\nInspetores Órgãos Reguladores: Cortesia (Sujeito à disponibilidade de vaga) / (Necessária documentação comprobatória) \nConteúdo:\nAprofunde-se no tema que está sempre em foco nas indústrias\, seja pela qualidade\, seja pela eficiência energética.\nConheça ou aprofunde seus conhecimentos sobre as principais características dos sistemas.\nNeste treinamento serão abordadas as principais práticas e tecnologias existentes para emprego nos sistemas de ar comprimido\, bem como:\n 	Normas Aplicáveis\n 	Requerimentos do Usuário\n 	Tipos de Geração / Seleção\n 	Tipos de Distribuição / Seleção\n 	Sistemas de Controle\n 	Tratamentos / Seleção\n 	Redundância\n 	Análise de Riscos / Testes\n 	Pacotes de Fornecimento \nEntenda item a item o que é necessário para especificar\, comprar\, validar\, testar e manter um sistema de ar comprimido eficiente e seguro.	 \nObjetivos:\nDefinir a metodologia para verificação / elaboração de projetos\, bem como\, os requisitos necessários para a elaboração de ERU. Adquirir conhecimentos nas tecnologias disponíveis e requerimentos existentes nas normativas / Boas Práticas. \nPúblico Alvo:\nDestinado aos profissionais da indústria de Ciências da Vida que tem como foco a especificação\, construção\, manutenção e validação dos sistemas de geração\, estocagem e distribuição de ar comprimido.\nTreinamento voltado a profissionais dos departamentos de engenharia\, manutenção e validação. \nInstrutor\nLuiz Alberto da Rocha Torres (Engenews)\nEngenheiro Eletricista e Administrador de Empresas com Pós-Graduação em Engenharia de Segurança do Trabalho e em Estratégia e Gestão Empresarial\, com mais de 30 anos de experiência em Indústrias de Ciências da Vida. Trabalhou como Diretor Técnico da Pharmaplan do Brasil (Empresa Alemã de Engenharia Farmacêutica) em construção de fábricas\, e como Gerente de Engenharia na Schering Plough.\nAtualmente trabalha como Diretor Técnico da Engenews Engenharia Farmacêutica (Validações e Qualificações) e Engefarma (Ensaios em áreas Limpas e Qualificações Térmicas)\nProf. do Curso de Pós-graduação de Tecnologia Ind. Farmacêutica da UFRJ LATFAR (Peru)\, nos módulos de Qualificação de Equipamentos e Sistemas de Apoio Crítico\, Projetos\, Operação\, Certificação e Manutenção de Áreas Limpas.\nRealiza palestra para a ANVISA\, e VISAS estaduais e municipais desde 2004 sobre Qualificação de Equipamentos e Sistemas de Apoio Críticos Farmacêuticos (PW\, WFI\, HVAC\, Ar Comprimido\, Áreas Limpas\, Etc.) conforme a RDC 658/2022; IN35/2019; IN138/2022.\nRealiza cursos internacionais desde 2007 para a América Latina\, sobre desenhos de Fábricas Farmacêuticas\, Qualificação de Equipamentos e Sistemas de Apoio Crítico Farmacêuticos e auditorias de BPF.\nRealizou diversas Palestras em Congressos nacionais e internacionais.\nParticipou de diversas inspeções nacionais e internacionais e FAT´s em fornecedores para indústria farmacêutica.
URL:https://ispe.org.br/evento/treinamento-online-sistemas-de-ar-comprimido-3/
LOCATION:ZOOM – Link será enviado posteriormente
ATTACH;FMTTYPE=image/png:https://ispe.org.br/wp-content/uploads/2025/02/sistema-de-ar-ap.png
END:VEVENT
END:VCALENDAR