BEGIN:VCALENDAR
VERSION:2.0
PRODID:-//ISPE BR - ECPv5.12.2//NONSGML v1.0//EN
CALSCALE:GREGORIAN
METHOD:PUBLISH
X-WR-CALNAME:ISPE BR
X-ORIGINAL-URL:https://ispe.org.br
X-WR-CALDESC:Events for ISPE BR
REFRESH-INTERVAL;VALUE=DURATION:PT1H
X-Robots-Tag:noindex
X-PUBLISHED-TTL:PT1H
BEGIN:VTIMEZONE
TZID:America/Sao_Paulo
BEGIN:STANDARD
TZOFFSETFROM:-0300
TZOFFSETTO:-0300
TZNAME:-03
DTSTART:20260101T000000
END:STANDARD
END:VTIMEZONE
BEGIN:VEVENT
DTSTART;TZID=America/Sao_Paulo:20260520T080000
DTEND;TZID=America/Sao_Paulo:20260521T120000
DTSTAMP:20260419T114649
CREATED:20251123T140730Z
LAST-MODIFIED:20260302T120910Z
UID:3503-1779264000-1779364800@ispe.org.br
SUMMARY:Treinamento Online: Sub tópico GAMP – Visão baseado em risco para Sistemas de Laboratório com impacto BPx (Segunda Edição)
DESCRIPTION:Carga Horária: 8 horas\nInvestimento:\nAntecipado até 10/04/2026\nAssociado ISPE: R$ 460\,00\nNão sócios: R$ 640\,00 \nSem desconto após 10/04/2026\nAssociado ISPE: R$ 620\,00\nNão sócios: R$ 800\,00 \nEstudantes de Graduação (Sujeito à disponibilidade de vaga): R$ 200\,00 (Necessária documentação comprobatória)\nInspetores Órgãos Reguladores: Cortesia (Sujeito à disponibilidade de vaga) / (Necessária documentação comprobatória) \nConteúdo: \nVisão geral do Guia do ISPE intitulado “A Risk-Based Approach to GxP Compliant Laboratory Computerized Systems (Second Edition)”\, provendo uma visão da categorização e dos riscos associados aos processos\, determinando o racional para a Validação de Sistemas Computadorizados de Laboratório.   \nObjetivos: \nAo final do treinamento\, o participante terá uma clara visão do que é necessário para atender ao ciclo de vida de Sistemas de Laboratório\, contemplando as Boas Práticas de Fabricação (BPF)\, as Boas Práticas de Laboratório (BPL) e as Boas Práticas Clínicas (BPC). \nPúblico Alvo: \nProfissionais de Laboratório\, de Qualidade Assegurada\, de Validação de Sistemas Computadorizados\, Técnicos em Informática e Automação que suportam e gerenciam este tipo de sistemas\, desenvolvedores de software e fornecedores de serviços para Laboratório. \nInstrutora:\nJozie Azevedo de Souza (Organon Farmacêutica)\nDiretora responsável pela área de Business Technology\, que contempla as sub-áreas de Informática\, Automação e Validação de Sistemas Computadorizados\, para Latina América na Organon Farmacêutica\, multinacional Americana.\nAnalista de Sistemas e Eletrotécnica e com mais de 25 anos de experiência em Indústria Farmacêutica\, com participação ativa em diversos tipos de sistemas\, entre eles e-WM\, ERP\, GED\, LIMS\, SAC e Supervisórios.\nLíder do Comitê GAMP da ISPE Brasil.\nLíder do Comitê de Tecnologia e Validação da SINDUSFARMA.\nLiderou o grupo responsável pelo capítulo de Validação de Sistemas do Guia de Qualificação e Validação do SINDUSFARMA.\nLiderou o grupo responsável pela elaboração do Guia de Integridade de Dados da SINDUSFARMA.\nCo-Autora do livro Mulheres na Liderança – O poder de uma mentoria – volume 3\nParticipou da elaboração do Guia de Validação de Sistemas Computadorizados junto com profissionais da ANVISA publicado em abril de 2010.
URL:https://ispe.org.br/evento/treinamento-online-sub-topico-gamp-visao-baseado-em-risco-para-sistemas-de-laboratorio-com-impacto-bpx-segunda-edicao-2/
LOCATION:ZOOM – Link será enviado posteriormente
ATTACH;FMTTYPE=image/png:https://ispe.org.br/wp-content/uploads/2025/11/sub-visao-ap-2.png
END:VEVENT
END:VCALENDAR