BEGIN:VCALENDAR
VERSION:2.0
PRODID:-//ISPE BR - ECPv5.12.2//NONSGML v1.0//EN
CALSCALE:GREGORIAN
METHOD:PUBLISH
X-WR-CALNAME:ISPE BR
X-ORIGINAL-URL:https://ispe.org.br
X-WR-CALDESC:Events for ISPE BR
REFRESH-INTERVAL;VALUE=DURATION:PT1H
X-Robots-Tag:noindex
X-PUBLISHED-TTL:PT1H
BEGIN:VTIMEZONE
TZID:America/Sao_Paulo
BEGIN:STANDARD
TZOFFSETFROM:-0300
TZOFFSETTO:-0300
TZNAME:-03
DTSTART:20260101T000000
END:STANDARD
END:VTIMEZONE
BEGIN:VEVENT
DTSTART;TZID=America/Sao_Paulo:20260511T080000
DTEND;TZID=America/Sao_Paulo:20260513T120000
DTSTAMP:20260419T114808
CREATED:20251205T132054Z
LAST-MODIFIED:20260302T120331Z
UID:3543-1778486400-1778673600@ispe.org.br
SUMMARY:Treinamento Online: "Introdução do Processo Asséptico: Produção de Injetáveis"
DESCRIPTION:Carga Horária: 12 horas\nInvestimento: \nAntecipado até 10/04/2026\nAssociado ISPE: R$ 700\,00\nNão sócios: R$ 970\,00 \nSem desconto após 10/04/2026\nAssociado ISPE: R$ 920\,00\nNão sócios: R$ 1.200\,00 \nEstudantes de Graduação (Sujeito à disponibilidade de vaga): R$ 300\,00 (Necessária documentação comprobatória)\nInspetores Órgãos Reguladores: Cortesia (Sujeito à disponibilidade de vaga) / (Necessária documentação comprobatória) \nConteúdo: \nOverview sobre as técnicas assépticas\, requisitos das áreas\, aspectos de projeto\, monitoramento ambiental\, limpeza/sanitização e media fill. \nTópicos:\n– Conceitos básicos de área limpa/classificação de áreas\n– Conceito de processamento asséptico\n– Classificação de áreas\n– Paramentação\n– Monitoramento ambiental\n– Conceito de sistemas de barreira (RABS e isoladores)\n– Projeto: Arquitetura de processo\, fluxo de pessoas e materiais\, HVAC\n– Métodos de esterilização\n– Tecnologias Single-Use \nObjetivos:\nO treinamento tem como objetivo fornecer o conhecimento básico necessário para qualquer profissional que participa da cadeia de processo asséptico na indústria farmacêutica\, incluindo conceitos de área limpa\, classificação de áreas\, monitoramento ambiental\, arquitetura de processo\, tipos de sistemas de produção e métodos de esterilização. \nInstrutor:\nFernando A. Martin Gonçalves (MGC Life Science)\nEngenheiro Industrial Mecânico – UNIMEP\nPós-graduado em Administração de Empresas – FGV\nMBA em Gestão de Projetos – FGV\nPós-graduado em tecnologia de produção e gestão farmacêutica – Oswaldo Cruz\nLíder do Comitê de Contenção e Barreira Asséptica da ISPE Brasil\nPosição atual:\nGerente Técnico Comercial e especialista em contenção e barreira asséptica na empresa MGC Life Science.\nExperiência:\nDimensionamento e retrofit de linhas de envase de injetáveis; Qualificação de áreas e equipamentos industriais; Dimensionamento de equipamentos de processo para as indústrias farmacêutica\, farmoquímica\, química e alimentícia; Dimensionamento e adaptação de sistemas de contenção (“alta contenção” e barreira asséptica)\, soluções rígidas e flexíveis; Análise de risco para projeto de linhas de produção de compostos potentes (HPAPI); Projeto de sistemas de filtragem tangencial (MF\, UF\, NF e OR); Gestão de projetos industriais.
URL:https://ispe.org.br/evento/treinamento-online-introducao-do-processo-asseptico-producao-de-injetaveis/
LOCATION:ZOOM – Link será enviado posteriormente
ATTACH;FMTTYPE=image/png:https://ispe.org.br/wp-content/uploads/2025/12/introducao-do-processo-ap-2.png
END:VEVENT
BEGIN:VEVENT
DTSTART;TZID=America/Sao_Paulo:20260511T130000
DTEND;TZID=America/Sao_Paulo:20260514T170000
DTSTAMP:20260419T114808
CREATED:20251126T215309Z
LAST-MODIFIED:20260302T120525Z
UID:3520-1778504400-1778778000@ispe.org.br
SUMMARY:Treinamento Online: “Inteligência Artificial Aplicada à Indústria – Da Teoria à Prática”
DESCRIPTION:Carga Horária: 16 horas\nInvestimento:\nAntecipado até 10/04/2026\nAssociado ISPE: R$ 920\,00\nNão sócios: R$ 1.520\,00 \nSem desconto após 10/04/2026\nAssociado ISPE: R$ 1.250\,00\nNão sócios: R$ 1.650\,00 \nEstudantes de Graduação (Sujeito à disponibilidade de vaga): R$ 400\,00 (Necessária documentação comprobatória)\nInspetores Órgãos Reguladores: Cortesia (Sujeito à disponibilidade de vaga) / (Necessária documentação comprobatória) \nConteúdo: \nAprendizado de máquina\, Desenvolvendo Ferramentas com IA (Análise de Dados\, Comparativo de Documentos\, Relatórios Automatizados\, Automação de Estudos Bibliográficos e outros)\, Quimioinformática (Extrair insights com dados químicos)\, Aplicando IA na indústria e em outros segmentos. \nObjetivos: \nMostrar aplicações e ensinar a desenvolver modelos de inteligência artificial no dia a dia\, otimizando tarefas e obtendo insights a partir dos dados. \nPúblico Alvo: \nEste treinamento destina-se a todos os profissionais de ciências da vida que desejem possuir o conhecimento básico de inteligência artificial que já está em aplicação nas indústrias bem como conhecer a revolução que esta tecnologia traz nas metodologias existentes\n– Profissionais da Qualidade\n– Profissionais de Validação\n– Profissionais de Automação Industrial\n– Profissionais de Informática \nInstrutor:\nDiullio Pereira dos Santos (Msc. em Química – Cientista de Dados)\nDoutorando em Química pela UFG com ênfase na modelagem de inteligência artificial para predição de propriedades físico-químicas na degradação de IFAs. Mestre em Química pela UnB\, Bacharel em Química Industrial pela UEG e pós-graduado em Controle de Qualidade e Desenvolvimento Analítico. Bacharel em Ciência de Dados pela Estácio e pós-graduado em Docência no ensino médio e superior.\nExperiências em desenvolvimento e validação de métodos analíticos\, estudos de dissolução\, estudo de compatibilidade\, análises de risco de nitrosaminas\, documentações COA e DMF\, investigações de pré-formulação\, estudo de permeação cutânea\, mudanças pós registro\, PATE\, dentre outros. Experiencias em análise de dados\, modelagem de banco de dados\, dashboards e desenvolvimento de softwares desktop\, web e mobile.
URL:https://ispe.org.br/evento/treinamento-online-inteligencia-artificial-aplicada-a-industria-da-teoria-a-pratica-2/
LOCATION:ZOOM – Link será enviado posteriormente
ATTACH;FMTTYPE=image/png:https://ispe.org.br/wp-content/uploads/2025/11/inteligencia-ap-2.png
END:VEVENT
END:VCALENDAR