BEGIN:VCALENDAR
VERSION:2.0
PRODID:-//ISPE BR - ECPv5.12.2//NONSGML v1.0//EN
CALSCALE:GREGORIAN
METHOD:PUBLISH
X-WR-CALNAME:ISPE BR
X-ORIGINAL-URL:https://ispe.org.br
X-WR-CALDESC:Events for ISPE BR
REFRESH-INTERVAL;VALUE=DURATION:PT1H
X-Robots-Tag:noindex
X-PUBLISHED-TTL:PT1H
BEGIN:VTIMEZONE
TZID:America/Sao_Paulo
BEGIN:STANDARD
TZOFFSETFROM:-0300
TZOFFSETTO:-0300
TZNAME:-03
DTSTART:20250101T000000
END:STANDARD
END:VTIMEZONE
BEGIN:VEVENT
DTSTART;TZID=America/Sao_Paulo:20251126T080000
DTEND;TZID=America/Sao_Paulo:20251127T120000
DTSTAMP:20260419T234729
CREATED:20250616T211258Z
LAST-MODIFIED:20251012T221407Z
UID:3269-1764144000-1764244800@ispe.org.br
SUMMARY:Treinamento Online: Revisão Periódica  (Manutenção Estado Validado - Sistemas Computadorizados /Planilhas Eletrônicas)
DESCRIPTION:Carga Horária: 8 horas\nInvestimento:\nAntecipado até 30/09/2025\nAssociado ISPE: R$ 430\,00\nNão sócios: R$ 600\,00 \nSem desconto após 30/09/2025\nAssociado ISPE: R$ 570\,00\nNão sócios: R$ 750\,00 \nEstudantes de Graduação (Sujeito à disponibilidade de vaga): R$ 215\,00 (Necessária documentação comprobatória)\nInspetores Órgãos Reguladores: Cortesia (Sujeito à disponibilidade de vaga) / (Necessária documentação comprobatória) \nConteúdo:\nEste processo analisa a última etapa do processo de validação\, a revisão periódica. Quando um sistema é validado\, os procedimentos de controle devem garantir que ele continue a operar conforme a Validação de Sistemas Computadorizados/Planilhas Eletrônicas. No entanto\, pequenas mudanças ao longo do tempo podem afetar cumulativamente o desempenho de um sistema.\nO Sistema Computadorizado/Planilhas Eletrônicas deve\, portanto\, ser revisado periodicamente para fornecer garantia adicional de validação. O intervalo entre as revisões dependerá do nível de uso do SC/Planilhas Eletrônicas e de sua criticidade\, impacto e que devem ser revisados anualmente. É de responsabilidade do proprietário do usuário /sistema /aplicativo garantir a revisão periódica.\nO gerenciamento dos requisitos de revisão periódica para todos os SC /Planilhas Eletrônicas será alcançado por meio do Plano Mestre de Validação da planta e da área responsável. \nObjetivos:\nAo final do curso o participante será capaz de identificar e operacionalizar os procedimentos e ações necessárias para manter um sistema validado e funcionando\, adequadamente\, de acordo com sua especificação e requerimentos regulatórios.     \nPúblico-alvo:\nTreinamento voltado a todos os estudantes\, colaboradores e fornecedores de empresas de ciências da vida\, com maior destaque às seguintes áreas de atuação:\n• Validação de Sistemas Computadorizados\n• Assuntos Regulatórios\n• Farmacovigilância\n• Pesquisa Clínica\n• Amostragem de Materiais\n• Estoque\n• Pesagem\n• Produção\n• Controle de Qualidade\n• Garantia da Qualidade\n• SAC\n• Recebimento/Distribuição\n• Tecnologia da Informação \nInstrutora:\nMarcele Guidastre (MG Consultoria)\nPós-graduada em Tecnologia da Informação\, Desenvolvimento e Gerência de Projetos de Sistemas pela Uni Lins (Centro Universitário de Lins)\, e de Gestão da Qualidade em (Validação de Sistema Computadorizados) com 28 anos de experiência\, nas atividades relacionadas\, adquiridos em empresas dos segmentos farmacêutico\, financeiro\, industrial\, entre outras.\nFormação DPO Master (Data Protection Officer)\, Certificada Faculdade FaCiencias e TIEXAMES.\nCursando Pós-graduação em Neurociência\, Comunicação e Desenvolvimento Humano\, Certificado Lato Sensu pela Faculdade Centro de Mediadores.\nVoluntaria – Casa Ronald McDonald – MISSÃO: Apoiar e Humanizar o tratamento de câncer infantojuvenil.\n• Auditora em Sistemas de Gestão da Qualidade;\n• Auditoria em Fornecedores;\n• Especialista em Governança de TI;\n• Especialista em Validação de Sistema Computadorizados;\n• Especialista em Validação de Planilhas Eletrônicas;\n• Especialista em Qualificação de Infraestrutura de TI;\n• Especialista em Quality by Design desde a construção civil\, seguido de processos;\n• Especialista em Comissionamento /Qualificação de Equipamentos;\n• Gestão de Projetos de todos os segmentos;\n• Implementadora da ISO 9001:2015 /Família ISO 27000;\n• Gerenciamento de projetos para implantação LGPD – Lei Geral de Proteção de Dados;\n• Membro do ISPE – Comitê de Risk Mapp\, Comitê Women In Pharma\, Comitê GAMP.\n• Membro do ISPE – Líder do Comitê de RID – Registro e Integridade de Dados.\n• Membro AP® (Associação Nacional dos Profissionais de Privacidade de Dados)  – Comitê de Governança\, Segurança da Informação e Jurídico.
URL:https://ispe.org.br/evento/treinamento-online-revisao-periodica-manutencao-estado-validado-sistemas-computadorizados-planilhas-eletronicas/
LOCATION:ZOOM – Link será enviado posteriormente
ATTACH;FMTTYPE=image/png:https://ispe.org.br/wp-content/uploads/2025/06/Revisao.png
END:VEVENT
END:VCALENDAR