BEGIN:VCALENDAR
VERSION:2.0
PRODID:-//ISPE BR - ECPv5.12.2//NONSGML v1.0//EN
CALSCALE:GREGORIAN
METHOD:PUBLISH
X-WR-CALNAME:ISPE BR
X-ORIGINAL-URL:https://ispe.org.br
X-WR-CALDESC:Events for ISPE BR
REFRESH-INTERVAL;VALUE=DURATION:PT1H
X-Robots-Tag:noindex
X-PUBLISHED-TTL:PT1H
BEGIN:VTIMEZONE
TZID:America/Sao_Paulo
BEGIN:STANDARD
TZOFFSETFROM:-0300
TZOFFSETTO:-0300
TZNAME:-03
DTSTART:20250101T000000
END:STANDARD
END:VTIMEZONE
BEGIN:VEVENT
DTSTART;TZID=America/Sao_Paulo:20251112T100000
DTEND;TZID=America/Sao_Paulo:20251112T110000
DTSTAMP:20260419T234727
CREATED:20251021T181736Z
LAST-MODIFIED:20251107T193002Z
UID:3430-1762941600-1762945200@ispe.org.br
SUMMARY:Webinar Gratuito: "Medição e monitoramento de pressão diferencial em áreas limpas"
DESCRIPTION:Webinar Gratuito \nConteúdo\nNesse webinar\, apresentaremos os principais conceitos relacionados à medição e monitoramento de pressão diferencial em áreas limpas. Após uma revisão regulatória e dos guias de boas práticas a respeito do tema\, discutiremos os aspectos técnicos relevantes como tipos de transmissor de pressão\, formas de instalação e posicionamento\, alarmes e sistemas de controle e monitoramento. Além disso\, discutiremos os erros comuns na criação de uma Especificação de Requisitos de Usuário (URS) e tiraremos dúvidas dos participantes. \nObjetivos\nApresentar as principais estratégias para a especificação de um sistema de medição e monitoramento de pressão ambiental para garantir conformidade regulatória. \nPúblico Alvo\nEste webinar destina-se a todos os profissionais de ciências da vida que queiram ampliar seus conhecimentos sobre sistemas de medição e monitoramento de pressão diferencial para controle de contaminação em áreas limpas. Profissionais de utilidades e HVAC\, profissionais de automação industrial\, profissionais de qualidade. \nPalestrante\nBruno Albuquerque – VAISALA\nEngenheiro eletricista com 15 anos de experiência nas indústrias de instrumentação e automação de sistemas\, com enfoque em instrumentação ambiental e sistemas de aquisição de dados.\nAtua na Vaisala como gerente de vendas e aplicações de sistemas de monitoramento ambiental para a indústria de Life Sciences\, desenvolvendo projetos de sistemas para grandes e médias empresas farmacêuticas em toda a América Latina.\nDesde 2020 é membro da ISPE\, com participação ativa em palestras e eventos promovidos pela Afiliada Brasil.
URL:https://ispe.org.br/evento/wwbinar-gratuito-medicao-e-monitoramento-de-pressao-diferencial-em-areas-limpas/
LOCATION:Zomm – Link será enviado automaticamente pelo Zoom quando realizar sua inscrição.
ATTACH;FMTTYPE=image/png:https://ispe.org.br/wp-content/uploads/2025/10/medicao-ap-1.png
END:VEVENT
END:VCALENDAR