BEGIN:VCALENDAR
VERSION:2.0
PRODID:-//ISPE BR - ECPv5.12.2//NONSGML v1.0//EN
CALSCALE:GREGORIAN
METHOD:PUBLISH
X-WR-CALNAME:ISPE BR
X-ORIGINAL-URL:https://ispe.org.br
X-WR-CALDESC:Events for ISPE BR
REFRESH-INTERVAL;VALUE=DURATION:PT1H
X-Robots-Tag:noindex
X-PUBLISHED-TTL:PT1H
BEGIN:VTIMEZONE
TZID:America/Sao_Paulo
BEGIN:STANDARD
TZOFFSETFROM:-0300
TZOFFSETTO:-0300
TZNAME:-03
DTSTART:20250101T000000
END:STANDARD
END:VTIMEZONE
BEGIN:VEVENT
DTSTART;TZID=America/Sao_Paulo:20251110T080000
DTEND;TZID=America/Sao_Paulo:20251111T170000
DTSTAMP:20260419T234727
CREATED:20241119T092201Z
LAST-MODIFIED:20250910T225838Z
UID:2832-1762761600-1762880400@ispe.org.br
SUMMARY:Treinamento Online: "Sub tópico GAMP – Gerenciamento e Qualificação de Infraestrutura envolvendo princípios de computação em nuvem e seus impactos"
DESCRIPTION:Carga Horária: 12 horas\nInvestimento: \nAntecipado até 30/09/2025\nAssociado ISPE: R$ 650\,00\nNão sócios: R$ 910\,00 \nSem desconto após 30/09/2025\nAssociado ISPE: R$ 850\,00\nNão sócios: R$ 1.100\,00 \nEstudantes de Graduação (Sujeito à disponibilidade de vaga): R$ 325\,00 (Necessária documentação comprobatória)\nInspetores Órgãos Reguladores: Cortesia (Sujeito à disponibilidade de vaga) / (Necessária documentação comprobatória) \nConteúdo: \nConforme determinado na IN Nº 134\, DE 30 DE MARÇO DE 2022 que Dispõe sobre as Boas Práticas de Fabricação complementares aos sistemas computadorizados utilizados na fabricação de medicamentos\, Art. 6º A infraestrutura de tecnologia da informação deve ser qualificada.\nO conteúdo deste treinamento está focado na visão geral do Guia do ISPE entitulado “IT Infrastructure – Control and Compliance (Second Edition)”\, enfatizando os impactos da terceirização e da tão atual\, computação em nuvem\, provendo uma visão dos componentes e controles necessários\, bem como do importante papel dos fornecedores neste ciclo\, tudo isto baeando-se nos riscos associados aos processos na indústria de ciências da vida\, determinando o racional para a Qualificação de Infraestrutura com impacto GxP/ BPx. \nPúblico Alvo: \nProfissionais de Qualidade Assegurada\, de Validação de Sistemas Computadorizados\, Técnicos em Informática\, Automação e Engenharia que suportam infraestrutura e sistemas computadorizados . Desenvolvedores de software e fornecedores de serviços para indústria de ciências da vida. \nObjetivos: \nAo final do treinamento\, o participante terá uma clara visão do que é necessário para atender ao ciclo de vida de Infraestrutura e o quanto somente a validação de sistemas do aplicativo não garante a qualidade dos processos e nem atende as regulamentações vinculadas as Boas Práticas de Fabricação (BPF) e as demais Boas Práticas (BPx)\, envolvidas com a indústria farmacêutica. \nInstrutora:\nJozie Azevedo de Souza (Organon)\nDiretora responsável pela área de Business Technology\, que contempla as sub áreas de informática\, automação e validação de sistemas computadorizados\, para Latin América.\nEngenheira Eletrotécnica e Analista de Sistemas com mais de 20 anos de experiência em Indústria Farmacêutica.\nParticipou da elaboração do Guia de Validação de Sistemas Computadorizados junto com profissionais da ANVISA publicado em Abril de 2010.\nLiderou o grupo responsável pelo capítulo de Validação de Sistemas do Guia de Qualificação e Validação do SINDUSFARMA.\nLiderou o grupo responsável pela elaboração do Guia de Integridade de Dados do SINDUSFARMA.\nLíder do Comitê GAMP da ISPE Brasil.
URL:https://ispe.org.br/evento/treinamento-online-qualificacao-e-gerenciamento-de-infraestrutura-de-ti-4/
LOCATION:ZOOM – Link será enviado posteriormente
ATTACH;FMTTYPE=image/png:https://ispe.org.br/wp-content/uploads/2024/11/sub-ap.png
END:VEVENT
END:VCALENDAR