BEGIN:VCALENDAR
VERSION:2.0
PRODID:-//ISPE BR - ECPv5.12.2//NONSGML v1.0//EN
CALSCALE:GREGORIAN
METHOD:PUBLISH
X-WR-CALNAME:ISPE BR
X-ORIGINAL-URL:https://ispe.org.br
X-WR-CALDESC:Events for ISPE BR
REFRESH-INTERVAL;VALUE=DURATION:PT1H
X-Robots-Tag:noindex
X-PUBLISHED-TTL:PT1H
BEGIN:VTIMEZONE
TZID:America/Sao_Paulo
BEGIN:STANDARD
TZOFFSETFROM:-0300
TZOFFSETTO:-0300
TZNAME:-03
DTSTART:20250101T000000
END:STANDARD
END:VTIMEZONE
BEGIN:VEVENT
DTSTART;TZID=America/Sao_Paulo:20251103T080000
DTEND;TZID=America/Sao_Paulo:20251105T120000
DTSTAMP:20260419T234653
CREATED:20250428T154640Z
LAST-MODIFIED:20250910T224253Z
UID:3155-1762156800-1762344000@ispe.org.br
SUMMARY:Treinamento Online: “Ferramentas da Qualidade Farmacêutica Visão Prática e Utilização em Investigações Farmacêuticas”
DESCRIPTION:Carga Horária: 12 horas \nInvestimento:  \nAntecipado até 30/09/2025 \nAssociado ISPE: R$ 650\,00 \nNão sócios: R$ 910\,00 \nSem desconto após 30/09/2025 \nAssociado ISPE: R$ 850\,00 \nNão sócios: R$ 1.100\,00 \nEstudantes de Graduação (Sujeito à disponibilidade de vaga): R$ 325\,00 (Necessária documentação comprobatória) \nInspetores Órgãos Reguladores: Cortesia (Sujeito à disponibilidade de vaga) / (Necessária documentação comprobatória) \nEmenta:\nO treinamento de “Ferramentas da Qualidade Farmacêutica Visão Prática e Utilização em Investigações Farmacêuticas” provê ao público a capacitação teórica (metodologia e funcionalidade) e utilização prática das Ferramentas da Qualidade\, através de uma visão de Risco e enfoque Lean & 6 Sigma\, habilitando os participantes à sua aplicação em diversas situações\, como análise de Não Conformidades\, Investigações\, Controle de Mudanças\, Priorizações de Ações Corretivas e Preventivas\, etc.\, além da redução do tempo despendido e aumento da performance das análises estatístico-farmacêuticas através do uso de técnicas comprovadas no mundo das Ciências da Vida. \nObjetivos:\n* Capacitar os participantes na compreensão e aplicação das Ferramentas de Qualidade Farmacêutica nos diversos setores das empresas.\n* Conhecer as principais ferramentas e escolha das mais efetivas em função da situação em análise.\n* Utilização das ferramentas\, através de templates\, que serão fornecidos\, em casos reais da indústria farmacêutica.\n* Mesa Redonda Virtual. \nConteúdo Programático:\n• Conceitos das Ferramentas de Qualidade\n• Ciclo PDCA\n• Brainstorming (*)\n• Fluxograma & Mapeamento de Processos (*)\n• Histograma (*)\n• Diagrama de Pareto (*)\n• Folha de Verificação (*)\n• Diagrama de Dispersão (*)\n• Diagrama de Causa e Efeito (*)\n• 5 Porquês (*)\n• Matriz de Decisão (*)\n• Matriz GUT (*)\n• 5W2H (*)\n• SIPOC (*)\n• As novas Ferramentas da Qualidade\n• Lean & 6 Sigma\n(*) TEORIA & PRÁTICA \nInstrutor:\nRicardo Miranda (RM Consulting)\nFarmacêutico Bioquímico\, formado pela Universidade de São Paulo\, Pós-graduação CEAG- Fundação Getúlio Vargas; MBA em Gestão Econômica e Estratégica de Projetos\, Certificação como CPIM pelo APICS ® Institute e Formação Black Belt pelo Instituto Vanzolini – USP.\nAtuou por mais de 35 anos em várias áreas técnicas da indústria farmacêutica (qualidade\, desenvolvimento\, produção\, engenharia\, excelência operacional\, logística e supply).\nMais de 20 anos atuando na área de logística de temperatura controlada nas Américas e Presidente do Comitê de Cadeia Fria ISPE Brasil.\nPresidente da ISPE Brasil.\nProfessor de Pós-graduação.\nConsultor Sênior na RM Consulting. \nVagas Esgotadas!
URL:https://ispe.org.br/evento/treinamento-online/
LOCATION:ZOOM – Link será enviado posteriormente
ATTACH;FMTTYPE=image/png:https://ispe.org.br/wp-content/uploads/2025/04/ferramentas-ap.png
END:VEVENT
BEGIN:VEVENT
DTSTART;TZID=America/Sao_Paulo:20251103T130000
DTEND;TZID=America/Sao_Paulo:20251106T170000
DTSTAMP:20260419T234653
CREATED:20250217T233421Z
LAST-MODIFIED:20250910T225211Z
UID:2969-1762174800-1762448400@ispe.org.br
SUMMARY:Treinamento Online: "Inteligência Artificial Aplicada à Indústria: Da Teoria à Prática"
DESCRIPTION:Carga Horária: 16 horas\nInvestimento: \nAntecipado até 30/09/2025\nAssociado ISPE: R$ 860\,00\nNão sócios: R$ 1.420\,00 \nSem desconto após 30/09/2025\nAssociado ISPE: R$ 1.135\,00\nNão sócios: R$ 1.530\,00 \nEstudantes de Graduação (Sujeito à disponibilidade de vaga): R$ 430\,00 (Necessária documentação comprobatória)\nInspetores Órgãos Reguladores: Cortesia (Sujeito à disponibilidade de vaga) / (Necessária documentação comprobatória) \nConteúdo:\nAprendizado de máquina\, Desenvolvendo Ferramentas com IA (Análise de Dados\, Comparativo de Documentos\, Relatórios Automatizados\, Automação de Estudos Bibliográficos e outros)\, Quimioinformática (Extrair insights com dados químicos)\, Aplicando IA na indústria e em outros segmentos. \nObjetivos: \nMostrar aplicações e ensinar a desenvolver modelos de inteligência artificial no dia a dia\, otimizando tarefas e obtendo insights a partir dos dados. \nPúblico Alvo: \nEste treinamento destina-se a todos os profissionais de ciências da vida que desejem possuir o conhecimento básico de inteligência artificial que já está em aplicação nas indústrias bem como conhecer a revolução que esta tecnologia traz nas metodologias existentes\n– Profissionais da Qualidade\n– Profissionais de Validação\n– Profissionais de Automação Industrial\n– Profissionais de Informática \nInstrutor:\nDiullio Pereira dos Santos (Msc. em Química – Cientista de Dados) \nDoutorando em Química pela UFG com ênfase na modelagem de inteligência artificial para predição de propriedades físico-químicas na degradação de IFAs. Mestre em Química pela UnB\, Bacharel em Química Industrial pela UEG e pós-graduado em Controle de Qualidade e Desenvolvimento Analítico. Bacharel em Ciência de Dados pela Estácio e pós-graduado em Docência no ensino médio e superior.  \nExperiências em desenvolvimento e validação de métodos analíticos\, estudos de dissolução\, estudo de compatibilidade\, análises de risco de nitrosaminas\, documentações COA e DMF\, investigações de pré-formulação\, estudo de permeação cutânea\, mudanças pós registro\, PATE\, dentre outros. Experiencias em análise de dados\, modelagem de banco de dados\, dashboards e desenvolvimento de softwares desktop\, web e mobile.
URL:https://ispe.org.br/evento/treinamento-online-inteligencia-artificial-aplicada-a-industria-da-teoria-a-pratica/
LOCATION:ZOOM – Link será enviado posteriormente
ATTACH;FMTTYPE=image/png:https://ispe.org.br/wp-content/uploads/2025/02/inteligencia-ap-2.png
END:VEVENT
END:VCALENDAR