BEGIN:VCALENDAR
VERSION:2.0
PRODID:-//ISPE BR - ECPv5.12.2//NONSGML v1.0//EN
CALSCALE:GREGORIAN
METHOD:PUBLISH
X-WR-CALNAME:ISPE BR
X-ORIGINAL-URL:https://ispe.org.br
X-WR-CALDESC:Events for ISPE BR
REFRESH-INTERVAL;VALUE=DURATION:PT1H
X-Robots-Tag:noindex
X-PUBLISHED-TTL:PT1H
BEGIN:VTIMEZONE
TZID:America/Sao_Paulo
BEGIN:STANDARD
TZOFFSETFROM:-0300
TZOFFSETTO:-0300
TZNAME:-03
DTSTART:20250101T000000
END:STANDARD
END:VTIMEZONE
BEGIN:VEVENT
DTSTART;TZID=America/Sao_Paulo:20250929T080000
DTEND;TZID=America/Sao_Paulo:20251001T120000
DTSTAMP:20260420T013445
CREATED:20241120T111103Z
LAST-MODIFIED:20250910T225412Z
UID:2856-1759132800-1759320000@ispe.org.br
SUMMARY:Treinamento Online: "Introdução do Processo Asséptico: Produção de Injetáveis"
DESCRIPTION:Carga Horária: 12 horas\nInvestimento: \nAntecipado até 31/08/2025\nAssociado ISPE: R$ 650\,00\nNão sócios: R$ 910\,00 \nSem desconto após 31/08/2025\nAssociado ISPE: R$ 850\,00\nNão sócios: R$ 1.100\,00 \nEstudantes de Graduação (Sujeito à disponibilidade de vaga): R$ 325\,00 (Necessária documentação comprobatória)\nInspetores Órgãos Reguladores: Cortesia (Sujeito à disponibilidade de vaga) / (Necessária documentação comprobatória) \nConteúdo: \nOverview sobre as técnicas assépticas\, requisitos das áreas\, aspectos de projeto\, monitoramento ambiental\, limpeza/sanitização e media fill. \nTópicos:\n– Conceitos básicos de área limpa/classificação de áreas\n– Conceito de processamento asséptico\n– Classificação de áreas\n– Paramentação\n– Monitoramento ambiental\n– Conceito de sistemas de barreira (RABS e isoladores)\n– Projeto: Arquitetura de processo\, fluxo de pessoas e materiais\, HVAC\n– Métodos de esterilização\n– Tecnologias Single-Use \nObjetivos:\nO treinamento tem como objetivo fornecer o conhecimento básico necessário para qualquer profissional que participa da cadeia de processo asséptico na indústria farmacêutica\, incluindo conceitos de área limpa\, classificação de áreas\, monitoramento ambiental\, arquitetura de processo\, tipos de sistemas de produção e métodos de esterilização. \nInstrutor:\nFernando A. Martin Gonçalves (MGC Life Science)\nEngenheiro Industrial Mecânico – UNIMEP\nPós-graduado em Administração de Empresas – FGV\nMBA em Gestão de Projetos – FGV\nPós-graduado em tecnologia de produção e gestão farmacêutica – Oswaldo Cruz\nLíder do Comitê de Contenção e Barreira Asséptica da ISPE Brasil\nPosição atual:\nGerente Técnico Comercial e especialista em contenção e barreira asséptica na empresa MGC Life Science.\nExperiência:\nDimensionamento e retrofit de linhas de envase de injetáveis; Qualificação de áreas e equipamentos industriais; Dimensionamento de equipamentos de processo para as indústrias farmacêutica\, farmoquímica\, química e alimentícia; Dimensionamento e adaptação de sistemas de contenção (“alta contenção” e barreira asséptica)\, soluções rígidas e flexíveis; Análise de risco para projeto de linhas de produção de compostos potentes (HPAPI); Projeto de sistemas de filtragem tangencial (MF\, UF\, NF e OR); Gestão de projetos industriais.
URL:https://ispe.org.br/evento/treinamento-online-estereis-areas-assepticas-3/
LOCATION:ZOOM – Link será enviado posteriormente
ATTACH;FMTTYPE=image/png:https://ispe.org.br/wp-content/uploads/2024/11/introducao-ap-2.png
END:VEVENT
BEGIN:VEVENT
DTSTART;TZID=America/Sao_Paulo:20250929T133000
DTEND;TZID=America/Sao_Paulo:20251001T173000
DTSTAMP:20260420T013445
CREATED:20250723T144119Z
LAST-MODIFIED:20250910T223311Z
UID:3297-1759152600-1759339800@ispe.org.br
SUMMARY:Treinamento Online: "Águas para Indústria Farmacêutica"
DESCRIPTION:Carga Horária: 12 horas\nInvestimento: \nAntecipado até 31/08/2025\nAssociado ISPE: R$ 650\,00\nNão sócios: R$ 910\,00 \nSem desconto após 31/08/2025\nAssociado ISPE: R$ 850\,00\nNão sócios: R$ 1.100\,00 \nEstudantes de Graduação (Sujeito à disponibilidade de vaga): R$ 325\,00 (Necessária documentação comprobatória)\nInspetores Órgãos Reguladores: Cortesia (Sujeito à disponibilidade de vaga) / (Necessária documentação comprobatória) \nConteúdo: \nNeste treinamento serão abordados os principais temas relacionados ao projeto\, especificação\, instalação e qualificação dos sistemas de Águas para Indústria Farmacêutica\, com aprofundamento nas principais tecnologias de geração e configurações dos sistemas de armazenamento e distribuição.\nSerão abordados os seguintes temas:\n• Uso de água na Indústria Farmacêutica;\n• Normas e regulamentos;\n• Contaminantes;\n• Tipos de águas;\n• Monitoramento e limites de alerta;\n• Sanitização;\n• Componentes do Sistema (Pré-tratamento\, Tratamento\, Polimento\, Armazenamento\, Distribuição e Monitoramento);\n• Exemplos de configurações de loops de águas;\n• Vapor Puro;\n• Ciclo da documentação (Etapas de qualificação e URS). \nObjetivos: \nProfissionais que desejam adquirir conhecimento sobre as boas práticas no desenvolvimento de projetos de águas e vapor puro\, apresentando as tecnologias mais aplicadas para geração e pontos de atenção no desenvolvimento das configurações do sistema de geração\, estocagem e distribuição. \nPúblico Alvo:\nTreinamento voltado a profissionais dos departamentos de engenharia\, manutenção e validação. \nInstrutora:\nAnnelise Gitti Costa de Campos – Nordika do Brasil\nGraduada em Engenharia Química pela FASB. Possui 10 anos de experiência em desenvolvimentos de projetos nacionais e internacionais de engenharia conceitual\, básico e detalhado. É especializada em projetos da área de processos\, utilidades limpas e utilidades industriais. Já atuou em projetos para indústrias farmacêuticas (Eurofarma\, Cristália\, Instituto Butantan\, Brainfarma\, entre outras)\, alimentícia (Recofarma) e cosmética (Natura\, Colgate).\nHoje Annelise é Engenheira de Processo da Nordika do Brasil.
URL:https://ispe.org.br/evento/treinamento-online-aguas-para-industria-farmaceutica/
LOCATION:ZOOM – Link será enviado posteriormente
ATTACH;FMTTYPE=image/png:https://ispe.org.br/wp-content/uploads/2025/07/aguas-ap.png
END:VEVENT
END:VCALENDAR