BEGIN:VCALENDAR
VERSION:2.0
PRODID:-//ISPE BR - ECPv5.12.2//NONSGML v1.0//EN
CALSCALE:GREGORIAN
METHOD:PUBLISH
X-WR-CALNAME:ISPE BR
X-ORIGINAL-URL:https://ispe.org.br
X-WR-CALDESC:Events for ISPE BR
REFRESH-INTERVAL;VALUE=DURATION:PT1H
X-Robots-Tag:noindex
X-PUBLISHED-TTL:PT1H
BEGIN:VTIMEZONE
TZID:America/Sao_Paulo
BEGIN:STANDARD
TZOFFSETFROM:-0300
TZOFFSETTO:-0300
TZNAME:-03
DTSTART:20250101T000000
END:STANDARD
END:VTIMEZONE
BEGIN:VEVENT
DTSTART;TZID=America/Sao_Paulo:20250811T080000
DTEND;TZID=America/Sao_Paulo:20250812T120000
DTSTAMP:20260420T045327
CREATED:20241110T110349Z
LAST-MODIFIED:20250716T111608Z
UID:2782-1754899200-1755000000@ispe.org.br
SUMMARY:Treinamento Online: "Qualificação e Gestão de Fornecedores Farmacêuticos - Visão de Gerenciamento de Riscos e Ciclo de Vida do Fornecedor"
DESCRIPTION:Carga Horária: 8 horas\nInvestimento:\nAntecipado até 10/07/2025\nAssociado ISPE: R$ 430\,00\nNão sócios: R$ 600\,00 \nSem desconto após 10/07/2025\nAssociado ISPE: R$ 570\,00\nNão sócios: R$ 750\,00 \nEstudantes de Graduação (Sujeito à disponibilidade de vaga): R$ 215\,00 (Necessária documentação comprobatória)\nInspetores Órgãos Reguladores: Cortesia (Sujeito à disponibilidade de vaga) / (Necessária documentação comprobatória) \nEmenta:\nO treinamento de “Qualificação e Gestão de Fornecedores Farmacêuticos – Visão de Gerenciamento de Riscos e Ciclo de Vida do Fornecedor” provê ao público a capacitação para desenvolver o programa de qualificação (de acordo com as RDCs Anvisa\, ICH Q8\, Q9\, Q10 e ISO 9001)\, qualificar\, auditar e selecionar os fornecedores baseados em ferramenta de análise de risco\, além de gerir a performance dos fornecedores farmacêuticos qualificados através de indicadores de desempenho\, otimizando as relações entre as empresas e disponibilizando materiais e produtos de qualidade nos prazos acordados.  \nObjetivos:\n* Capacitar os participantes na elaboração e gestão do programa de qualificação de fornecedores farmacêuticos.\n* Conhecer as principais legislações aplicáveis.\n* Utilização de ferramenta de análise de risco para seleção de fornecedores.\n* Utilização das ferramentas de auditoria e indicadores de performance.\n* Mesa Redonda Virtual. \nConteúdo Programático:\n• Abertura\n• Conceitos da Qualificação de Fornecedores\n• Requisitos Regulatórios\n• Visão de Gerenciamento de Riscos do Fornecedor & Processo\n• Seleção de fornecedores baseada em Ferramenta de Análise de Risco\n• Elaboração do Programa de Certificação de Fornecedores\n• A Equipe de Auditoria\n• Auditoria Documental e Seus Riscos\n• Auditoria In-loco\, quando se faz necessária\n• Auditoria Remota (Virtual)\n• Desenvolvimento dos Modelos de Avaliação dos Fornecedores\n• Homologação dos Fornecedores\n• Indicadores de Performance\n• Critérios Para Manutenção da Certificação\n• Programas Automatizados de Gestão de Fornecedores\n• Mesa Redonda\n• Encerramento \nInstrutor:\nRicardo Miranda (RM Consulting)\nFarmacêutico Bioquímico\, formado pela Universidade de São Paulo\, Pós-graduação CEAG- Fundação Getúlio Vargas; MBA em Gestão Econômica e Estratégica de Projetos\, Certificação como CPIM pelo APICS ® Institute e Formação Black Belt pelo Instituto Vanzolini – USP.\nAtuou por mais de 35 anos em várias áreas técnicas da indústria farmacêutica (qualidade\, desenvolvimento\, produção\, engenharia\, excelência operacional\, logística e supply).\nMais de 25 anos atuando na área de logística de temperatura controlada nas Américas e Presidente do Comitê de Cadeia Fria ISPE Brasil.\nPresidente da ISPE Brasil.\nProfessor e Coordenador de cursos de Pós-graduação e MBA.\nConsultor Sênior na RM Consulting.
URL:https://ispe.org.br/evento/treinamento-online-qualificacao-e-gestao-de-fornecedores-farmaceuticos-visao-de-gerenciamento-de-riscos-e-ciclo-de-vida-do-fornecedor-3/
ATTACH;FMTTYPE=image/png:https://ispe.org.br/wp-content/uploads/2024/11/Qualificacao-e-Homologacao-2.png
END:VEVENT
END:VCALENDAR