BEGIN:VCALENDAR
VERSION:2.0
PRODID:-//ISPE BR - ECPv5.12.2//NONSGML v1.0//EN
CALSCALE:GREGORIAN
METHOD:PUBLISH
X-WR-CALNAME:ISPE BR
X-ORIGINAL-URL:https://ispe.org.br
X-WR-CALDESC:Events for ISPE BR
REFRESH-INTERVAL;VALUE=DURATION:PT1H
X-Robots-Tag:noindex
X-PUBLISHED-TTL:PT1H
BEGIN:VTIMEZONE
TZID:America/Sao_Paulo
BEGIN:STANDARD
TZOFFSETFROM:-0300
TZOFFSETTO:-0300
TZNAME:-03
DTSTART:20250101T000000
END:STANDARD
END:VTIMEZONE
BEGIN:VEVENT
DTSTART;TZID=America/Sao_Paulo:20250807T080000
DTEND;TZID=America/Sao_Paulo:20250807T100000
DTSTAMP:20260420T062416
CREATED:20250722T143335Z
LAST-MODIFIED:20250723T105739Z
UID:3293-1754553600-1754560800@ispe.org.br
SUMMARY:Webinar Gratuito: "Qualificação de Infraestrutura"
DESCRIPTION:Webinar Gratuito \nConteúdo:\nEstratégias para a Qualificação de Infraestrutura de TI no Setor de Ciências da Vida: Conformidade\, Eficiência e Segurança \nObjetivos:\nApresentar os fundamentos regulatórios aplicáveis à qualificação de infraestrutura de TI em ambientes GxP\, com foco em requisitos nacionais (ANVISA) e internacionais (FDA\, EMA\, PIC/S).\nExplorar estratégias práticas e escaláveis para a qualificação de componentes de infraestrutura (servidores\, redes\, sistemas operacionais\, virtualização\, banco de dados\, etc.) com base em abordagem baseada em risco\, conforme o GAMP 5® – Segunda Edição.\nDiscutir o papel da TI como parte crítica da cadeia de integridade dos dados\, destacando controles que assegurem confiabilidade\, rastreabilidade\, disponibilidade e segurança da informação. \nPúblico Alvo:\nProfissionais das áreas de Qualidade\, Validação\, Tecnologia da Informação\, Engenharia e Assuntos Regulatórios que atuam no setor de Ciências da Vida — incluindo indústrias farmacêuticas\, fabricantes de insumos farmacêuticos ativos (IFA)\, biotecnologia\, cosméticos e distribuidoras — com responsabilidades diretas ou indiretas na implementação\, qualificação e manutenção de infraestrutura de TI em ambientes regulados. \nPalestrante:\nFabiana Maia Toledo  (Syntegon Telstar)\nProfissional Farmacêutica\, pós-graduada em Gestão de Projetos\, com experiência em indústrias farmacêuticas e cosméticas nacionais e multinacionais.\nAtua em projetos relacionados com Validação de Sistemas Computadorizados como gerente de projetos especializada em COTS\, embarcados\, supervisórios e sistemas de gestão. \nMediador:\nMarcelo Nublie (Syntegon Telstar)
URL:https://ispe.org.br/evento/webinar-gratuito-qualificacao-de-infraestrutura/
LOCATION:Zomm – Link será enviado automaticamente pelo Zoom quando realizar sua inscrição.
ATTACH;FMTTYPE=image/png:https://ispe.org.br/wp-content/uploads/2025/07/qualificacao-de-infraestrutura-agosto-ap.png
END:VEVENT
END:VCALENDAR