BEGIN:VCALENDAR
VERSION:2.0
PRODID:-//ISPE BR - ECPv5.12.2//NONSGML v1.0//EN
CALSCALE:GREGORIAN
METHOD:PUBLISH
X-WR-CALNAME:ISPE BR
X-ORIGINAL-URL:https://ispe.org.br
X-WR-CALDESC:Events for ISPE BR
REFRESH-INTERVAL;VALUE=DURATION:PT1H
X-Robots-Tag:noindex
X-PUBLISHED-TTL:PT1H
BEGIN:VTIMEZONE
TZID:America/Sao_Paulo
BEGIN:STANDARD
TZOFFSETFROM:-0300
TZOFFSETTO:-0300
TZNAME:-03
DTSTART:20250101T000000
END:STANDARD
END:VTIMEZONE
BEGIN:VEVENT
DTSTART;TZID=America/Sao_Paulo:20250521T080000
DTEND;TZID=America/Sao_Paulo:20250523T130000
DTSTAMP:20260420T112426
CREATED:20221123T144732Z
LAST-MODIFIED:20250317T224019Z
UID:1475-1747814400-1748005200@ispe.org.br
SUMMARY:Treinamento Online: Boas Práticas de Engenharia em Projetos para Life Science
DESCRIPTION:Carga Horária: 13 horas\nInvestimento: \nAntecipado até 01/04/2025\nAssociado ISPE: R$ 650\,00\nNão sócios: R$ 910\,00 \nSem desconto após 01/04/2025\nAssociado ISPE: R$ 850\,00\nNão sócios: R$ 1.100\,00 \nEstudantes de Graduação (Sujeito à disponibilidade de vaga): R$ 325\,00 (Necessária documentação comprobatória)\nInspetores Órgãos Reguladores: Cortesia (Sujeito à disponibilidade de vaga) / (Necessária documentação comprobatória) \nConteúdo:\nDia 1 (5 horas)\nIntrodução (1 hora) Talita Favarato\nPrincipais requisitos da RDC658 e RDC69 para projetos de áreas limpas \nISPE – Good Engineering Practices (1 hora) Talita Favarato\nFases do Projeto\, Principais Conceitos\, Plano de Qualidade do Projeto\, Avaliação BPx\, Definição de Barreiras\, Especificações de Requisitos do Usuário\, Revisão de Design\, Comissionamento \nISPE Baseline – Volume 6 Biopharmaceutical Manufacturing Facilities (3 horas) Elaine Pechnicki\nPrincipais Conceitos\, Operações\, Layouts e Estratégias\, Arquitetura\, HVAC \nDia 2 (4 horas)\nISPE Baseline – Volume 3 Sterile Product Manufacturing Facilities (4 horas) Elaine Pechnicki\nPrincipais Conceitos\, Considerações de Processo\, Considerações de Arquitetura\, Layout e Paramentação\, Considerações de HVAC \nDia 3 (4 horas)\nISPE Baseline – Volume 2 Oral Solid Dosage Forms (2 horas) Talita Favarato\nPrincipais Conceitos\, Operações\, Layouts e Estratégias\, Arquitetura\, HVAC \nISPE Baseline – Volume 4 Water and Steam Systems (2 horas) Eduardo Pereira\nPrincipais Conceitos\, Água Pré-Tratada\, Água Purificada\, Água Para Injetáveis\, Vapor Limpo\, Sistemas de Estocagem e Distribuição \nObjetivos:\nO Objetivo desse treinamento é demonstrar as técnicas e boas práticas dos guias ISPE – Good Engineering Practices\, ISPE Baseline – Volume 2 Oral Solid Dosage Forms\, ISPE Baseline – Volume 3 Sterile Product Manufacturing Facilities\, ISPE Baseline – Volume 6 Biopharmaceutical Manufacturing Facilities e ISPE Baseline – Volume 4 Water and Steam Systems para promover a integração das atividades engenharia com os requisitos regulatórios vigentes.  \nPúblico Alvo:\nEngenheiros e farmacêuticos que atuam em projetos para Life Science nas áreas de consultoria\, engenharia\, industrial\, manutenção\, produção\, controle e garantia da qualidade \nInstrutores:\nTalita Pagung Favarato (Nordika Advanced Engineering)\nArquiteta e Urbanista com especialização em Sustentabilidade Corporativa pela Oxford University e MBA em Gestão Estratégica e Econômica de Projetos pela Fundação Getúlio Vargas. Com 15 anos de experiência em gerenciamento de projetos e portfólios nos setores farmacêutico\, biotecnológico\, alimentício\, de bebidas e cosméticos\, ela possui amplo conhecimento em layouts de produção\, normas de GMP e conceitos de ESG. Liderou projetos certificados em sustentabilidade e trabalhou em projetos para clientes como Novo Nordisk\, Instituto Butantan\, AstraZeneca\, Sanofi\, P&G\, Coca-Cola\, Takeda e Libbs Biotecnologia\, entre outros. \nElaine Pechnicki (Nordika Advanced Engineering)\nEngenheira Química pela Universidade Federal do Paraná (UFPR) e Pós-graduada em Gestão de Projetos pela FAE Business School. Atua no mercado Life Sciences há mais de 12 anos\, em projetos nos setores farmacêutico\, biotecnológico\, alimentício e cosméticos.\nPossui experiência em construção de layouts de produção\, normas de GMP e conceitos aplicados à engenharia de Processos e Utilidades. Participou e liderou diversos projetos (CD\, BD\, DD\, comissionamento e qualificação) para clientes como Novo Nordisk\, AstraZeneca\, Sanofi\, Green Cross\, Roche\, Boehringer Ingelheim\, entre outros clientes\, no Brasil e no exterior. \nEduardo Pereira (Nordika Advanced Engineering)\nEngenheiro Químico graduado pela Escola de Engenharia Mauá. Com 20 anos de experiência em projetos de engenharia de diversos setores produtivos. Mais de 12 anos atuando como gestor de disciplina e especialista em projetos de Utilidades Limpas e Industriais de níveis conceitual\, básico e detalhado para a indústria de Life Sciences dos setores farmacêutico\, biotecnológico\, alimentício e cosméticos. Atuou em projetos do Instituto Butantan\, Novo Nordisk\, Novozymes\, Coca-Cola\, Bionovis\, Colgate\, Septodont\, Merial (atual Boehringer Ingelheim)\, Fresenius\, Blau\, Abbott\, Takeda\, AstraZeneca\, Libbs\, Prati Donaduzzi\, Boticário entre outros.
URL:https://ispe.org.br/evento/treinamento-online-boas-praticas-de-engenharia-em-projetos-para-life-science-2/
LOCATION:ZOOM – Link será enviado posteriormente
ATTACH;FMTTYPE=image/png:https://ispe.org.br/wp-content/uploads/2022/11/BPE-ap-2.png
END:VEVENT
END:VCALENDAR