BEGIN:VCALENDAR
VERSION:2.0
PRODID:-//ISPE BR - ECPv5.12.2//NONSGML v1.0//EN
CALSCALE:GREGORIAN
METHOD:PUBLISH
X-WR-CALNAME:ISPE BR
X-ORIGINAL-URL:https://ispe.org.br
X-WR-CALDESC:Events for ISPE BR
REFRESH-INTERVAL;VALUE=DURATION:PT1H
X-Robots-Tag:noindex
X-PUBLISHED-TTL:PT1H
BEGIN:VTIMEZONE
TZID:America/Sao_Paulo
BEGIN:STANDARD
TZOFFSETFROM:-0300
TZOFFSETTO:-0300
TZNAME:-03
DTSTART:20250101T000000
END:STANDARD
END:VTIMEZONE
BEGIN:VEVENT
DTSTART;TZID=America/Sao_Paulo:20250411T080000
DTEND;TZID=America/Sao_Paulo:20250411T100000
DTSTAMP:20260420T144417
CREATED:20250405T010116Z
LAST-MODIFIED:20250407T122836Z
UID:3071-1744358400-1744365600@ispe.org.br
SUMMARY:Webinar Gratuito: Processo de Liofilização
DESCRIPTION:Webinar Gratuito:\nConteúdo:\n1. Noções Básicas de Liofilização\n2. Processos de Liofilização\n3. Conceitos-chave das fases de liofilização \nPúblico-alvo: \nPessoas que estão começando no processo de liofilização ou que desejam revisar os pontos-chave mais importantes do processo. \nObjetivos: \nFornecer uma visão geral completa e clara do processo de liofilização em uma base técnica.  \nPalestrantes:\nMaria Santafé Villarroya – Syntegon Telstar Espanha\nEngenheira química formada pela Universitat Autònoma de Barcelona (UAB)\, na Espanha. Especialista em tecnologia de liofilização\, atua como engenheira de laboratório de processos e\, desde 2020\, lidera o laboratório de processos na Telstar\, sendo responsável por todos os projetos de clientes nessa área.\nAlém disso\, integra a equipe de P&D\, contribuindo ativamente com sua expertise para o desenvolvimento de novos processos e inovações tecnológicas. \nMediador: \nRenato Marques – Syntegon Telstar Brasil \nObs: \nO Webinar será apresentado em Inglês e não haverá tradução simultânea.
URL:https://ispe.org.br/evento/webinar-gratuito-processo-de-liofilizacao/
LOCATION:Zomm – Link será enviado automaticamente pelo Zoom quando realizar sua inscrição.
ATTACH;FMTTYPE=image/png:https://ispe.org.br/wp-content/uploads/2025/04/processo-ap.png
END:VEVENT
END:VCALENDAR