BEGIN:VCALENDAR
VERSION:2.0
PRODID:-//ISPE BR - ECPv5.12.2//NONSGML v1.0//EN
CALSCALE:GREGORIAN
METHOD:PUBLISH
X-WR-CALNAME:ISPE BR
X-ORIGINAL-URL:https://ispe.org.br
X-WR-CALDESC:Events for ISPE BR
REFRESH-INTERVAL;VALUE=DURATION:PT1H
X-Robots-Tag:noindex
X-PUBLISHED-TTL:PT1H
BEGIN:VTIMEZONE
TZID:America/Sao_Paulo
BEGIN:STANDARD
TZOFFSETFROM:-0300
TZOFFSETTO:-0300
TZNAME:-03
DTSTART:20250101T000000
END:STANDARD
END:VTIMEZONE
BEGIN:VEVENT
DTSTART;TZID=America/Sao_Paulo:20250328T080000
DTEND;TZID=America/Sao_Paulo:20250328T093000
DTSTAMP:20260420T144422
CREATED:20250224T205816Z
LAST-MODIFIED:20250308T010803Z
UID:2984-1743148800-1743154200@ispe.org.br
SUMMARY:Webinar Gratuito: CSV vs. CSA: GAMP 5’s Actionable Steps to Transitioning Your Validation as a third-party
DESCRIPTION:Webinar Gratuito\nConteúdo:\nCSV ou CSA? Algumas empresas ainda estão debatendo qual abordagem é a certa para elas e algumas não têm certeza de como começar a transição. “Basta procurar o guia GAMP 5” – Amy Wilhite\, especialista em CSV da Kneat\, explica neste webinar doa ISPE Brasil. \nPúblico Alvo:\nProfissionais de Comissionamento/Qualificação/Validação e profissionais de GAMP/Sistemas de TI/Automação \nObjetivos:\n• As principais diferenças entre CSA e CSV\n• O que o guia GAMP 5 da ISPE diz sobre validação baseada em risco\n• As etapas práticas que você pode tomar para fazer a transição de seus programas de validação \nPalestrante:\nAmy Wilhite (Kneat)\nEngenheira de validação altamente experiente com um histórico comprovado de excelência na indústria de biotecnologia.\nEspecialista em operações de laboratório\, fabricação de bioprocessos e equipamentos/instalações/utilidades CQV/CSV. \nMediadora:\nKesia Pires de Oliveira (Telstar Syntegon) \nIdioma que será utilizado para apresentação do Webinar: Inglês\nNão haverá tradução simultânea \nPatrocínio: Kneat
URL:https://ispe.org.br/evento/webinar-gratuito-csv-vs-csa-gamp-5s-actionable-steps-to-transitioning-your-validation-as-a-third-party/
LOCATION:Zomm – Link será enviado automaticamente pelo Zoom quando realizar sua inscrição.
ATTACH;FMTTYPE=image/png:https://ispe.org.br/wp-content/uploads/2025/02/CSV-AP.png
END:VEVENT
END:VCALENDAR