BEGIN:VCALENDAR
VERSION:2.0
PRODID:-//ISPE BR - ECPv5.12.2//NONSGML v1.0//EN
CALSCALE:GREGORIAN
METHOD:PUBLISH
X-WR-CALNAME:ISPE BR
X-ORIGINAL-URL:https://ispe.org.br
X-WR-CALDESC:Events for ISPE BR
REFRESH-INTERVAL;VALUE=DURATION:PT1H
X-Robots-Tag:noindex
X-PUBLISHED-TTL:PT1H
BEGIN:VTIMEZONE
TZID:America/Sao_Paulo
BEGIN:STANDARD
TZOFFSETFROM:-0300
TZOFFSETTO:-0300
TZNAME:-03
DTSTART:20250101T000000
END:STANDARD
END:VTIMEZONE
BEGIN:VEVENT
DTSTART;TZID=America/Sao_Paulo:20250127T090000
DTEND;TZID=America/Sao_Paulo:20250127T103000
DTSTAMP:20260420T230616
CREATED:20241110T095045Z
LAST-MODIFIED:20250107T110007Z
UID:2766-1737968400-1737973800@ispe.org.br
SUMMARY:Webinar Gratuito: “Feedback Eficaz e o Guia para Conversas Difíceis com Confiança”
DESCRIPTION:Webinar Gratuito \nVocê já sentiu a pressão de ter uma conversa difícil?\nAprender a dar e receber feedback de forma eficaz é essencial para o seu crescimento profissional e para a melhoria da equipe. \nJunte-se a nós para um webinar gratuito onde você irá:\n– Descobrir técnicas práticas para abordar conversas desafiadoras.\n– Aprender a transformar feedback em uma ferramenta poderosa de desenvolvimento.\n– Desenvolver a confiança necessária para enfrentar qualquer situação. \nNão perca essa oportunidade de aprimorar suas habilidades de comunicação! \nInscreva-se agora e comece a trilhar o caminho para conversas mais assertivas e construtivas. \nPalestrante:\nCarolina Körting\nDiretora de Gestão de Gerentes Clínicos | Empreendedora | Master Coach | Consteladora | Especialista em Eneagrama\nProfissional com mais de 20 anos de experiência na área farmacêutica\, especializada em pesquisa clínica. Desde 2014\, atuo como líder de equipe e atualmente sou Diretora de Gestão de Gerentes Clínicos na Thermo Fisher Scientific. Em dezembro de 2022\, ampliei minha atuação como empreendedora na CK Coaching tornando-me Master Coach\, Consteladora e Especialista em Eneagrama. Sou apaixonada pelo desenvolvimento humano e acredito que “Nós somos a história que decidimos contar da nossa história” Que história você anda cobrando sobre a sua história?” \nMediadora:\nLiana Montemor (Grupo Polar)
URL:https://ispe.org.br/evento/webinar-gratuito-feedback-eficaz-e-o-guia-para-conversas-dificeis-com-confianca/
LOCATION:Zomm – Link será enviado automaticamente pelo Zoom quando realizar sua inscrição.
ATTACH;FMTTYPE=image/png:https://ispe.org.br/wp-content/uploads/2024/11/feedback.png
END:VEVENT
END:VCALENDAR