BEGIN:VCALENDAR
VERSION:2.0
PRODID:-//ISPE BR - ECPv5.12.2//NONSGML v1.0//EN
CALSCALE:GREGORIAN
METHOD:PUBLISH
X-WR-CALNAME:ISPE BR
X-ORIGINAL-URL:https://ispe.org.br
X-WR-CALDESC:Events for ISPE BR
REFRESH-INTERVAL;VALUE=DURATION:PT1H
X-Robots-Tag:noindex
X-PUBLISHED-TTL:PT1H
BEGIN:VTIMEZONE
TZID:America/Sao_Paulo
BEGIN:STANDARD
TZOFFSETFROM:-0300
TZOFFSETTO:-0300
TZNAME:-03
DTSTART:20240101T000000
END:STANDARD
END:VTIMEZONE
BEGIN:VEVENT
DTSTART;TZID=America/Sao_Paulo:20241031T080000
DTEND;TZID=America/Sao_Paulo:20241101T120000
DTSTAMP:20260421T041218
CREATED:20240326T133156Z
LAST-MODIFIED:20241021T102333Z
UID:2466-1730361600-1730462400@ispe.org.br
SUMMARY:Treinamento Online: Especificação de Requerimentos de Usuários
DESCRIPTION:Carga Horária: 8 horas\nInvestimento:\nAntecipado até 01/09/2024\nAssociado ISPE: R$ 410\,00\nNão sócios: R$ 578\,00 \nSem desconto após 01/09/2024\nAssociado ISPE: R$ 540\,00\nNão sócios: R$ 700\,00 \nEstudantes de Graduação (Sujeito à disponibilidade de vaga): R$ 205\,00 (Necessária documentação comprobatória)\nInspetores Órgãos Reguladores: Cortesia (Sujeito à disponibilidade de vaga) / (Necessária documentação comprobatória) \nConteúdo:\nAtravés de dois guias que abordam sólidos conceitos de Boas Práticas de Engenharia e Boas Práticas de Fabricação\, aliados às necessidades de cada área e de regulamentações este treinamento inclui:\n   • Bases normativas e conceituais\n   • Aspectos importantes na elaboração\n   • Responsabilidades de cada área\n   • Importância do Requisito de Usuários\n   • Impactos de não se ter um Requisito de Usuários ou de se ter um documento pobre \nObjetivos:\nEste treinamento abordará conceitos de como elaborar um Requisito de Usuários atendendo às necessidades da Indústria de Ciências da Vida. \nPúblico Alvo:\nTodas as áreas da Indústria de Ciências da Vida. \nInstrutora:\nAna Marie Kaneto\nEngenheira Elétrica e Tecnóloga em Construção Civil\, atua na indústria farmacêutica há 16 anos\, com experiência em comissionamento e qualificação de equipamentos\, sistemas de utilidades\, sistemas de automação\, validação de sistemas computadorizados\, qualificação de projetos.\nNos últimos oito anos coordena\, gerencia projetos e ministra treinamentos e palestras de Boas Práticas de Documentação\, Qualificação de Equipamentos\, Validação de Sistemas de Computadorizados para Automação.\nFaz parte dos CoPs de Comissionamento e Qualificação\, GAMP e Women in Pharma®.\nDiretora Vice-Presidente e Tesoureira ISPE Brasil – 2019/2020 e 2021/2022 e Reeleita para 2023/2024.
URL:https://ispe.org.br/evento/treinamento-online-especificacao-de-requerimentos-de-usuarios-4/
LOCATION:ZOOM – Link será enviado posteriormente
ATTACH;FMTTYPE=image/png:https://ispe.org.br/wp-content/uploads/2024/03/especificacao-ap-out-nov.png
END:VEVENT
END:VCALENDAR