BEGIN:VCALENDAR
VERSION:2.0
PRODID:-//ISPE BR - ECPv5.12.2//NONSGML v1.0//EN
CALSCALE:GREGORIAN
METHOD:PUBLISH
X-WR-CALNAME:ISPE BR
X-ORIGINAL-URL:https://ispe.org.br
X-WR-CALDESC:Events for ISPE BR
REFRESH-INTERVAL;VALUE=DURATION:PT1H
X-Robots-Tag:noindex
X-PUBLISHED-TTL:PT1H
BEGIN:VTIMEZONE
TZID:America/Sao_Paulo
BEGIN:STANDARD
TZOFFSETFROM:-0300
TZOFFSETTO:-0300
TZNAME:-03
DTSTART:20240101T000000
END:STANDARD
END:VTIMEZONE
BEGIN:VEVENT
DTSTART;TZID=America/Sao_Paulo:20241023T090000
DTEND;TZID=America/Sao_Paulo:20241024T160000
DTSTAMP:20260421T053858
CREATED:20221124T001038Z
LAST-MODIFIED:20240816T135843Z
UID:1566-1729674000-1729785600@ispe.org.br
SUMMARY:Treinamento Online: Comissionamento e Qualificação
DESCRIPTION:Carga Horária: 14 horas\nInvestimento:\nAntecipado até 30/08/2024\nAssociado ISPE: R$ 820\,00\nNão sócios: R$ 1.350\,00 \nSem desconto após 30/08/2024\nAssociado ISPE: R$ 1.080\,00\nNão sócios: R$ 1.460\,00 \nEstudantes de Graduação (Sujeito à disponibilidade de vaga): R$ 410\,00 (Necessária documentação comprobatória)\nInspetores Órgãos Reguladores: Cortesia (Sujeito à disponibilidade de vaga) / (Necessária documentação comprobatória) \nConteúdo:\nAtravés de um guia que aborda sólidos conceitos de Boas Práticas de Engenharia e Boas Práticas de Fabricação\, aliada ao conceito de comissionamento + qualificação este treinamento inclui:\n* Bases normativas e conceituais\n* Ciclo de Vida de Validação somando comissionamento e qualificação\n* Manutenção do estado validado \nObjetivos:\nEste treinamento abordará conceitos de como aplicar comissionamento e qualificação em um único ciclo de vida de validação. \nPúblico Alvo:\nProfissionais das áreas de engenharia\, prestadores de serviço\, consultores\, analista de validação e garantia da qualidade. \nInstrutora:\nAna Marie Kaneto\nEngenheira Elétrica e Tecnóloga em Construção Civil\, atua na indústria farmacêutica há 16 anos\, com experiência em comissionamento e qualificação de equipamentos\, sistemas de utilidades\, sistemas de automação\, validação de sistemas computadorizados\, qualificação de projetos.\nNos últimos oito anos coordena\, gerencia projetos e ministra treinamentos e palestras de Boas Práticas de Documentação\, Qualificação de Equipamentos\, Validação de Sistemas de Computadorizados para Automação.\nFaz parte dos CoPs de Comissionamento e Qualificação\, GAMP e Women in Pharma®.\nDiretora Vice-Presidente e Tesoureira ISPE Brasil – 2019/2020 e 2021/2022 e Reeleita para 2023/2024.
URL:https://ispe.org.br/evento/treinamento-online-comissionamento-e-qualificacao-3/
LOCATION:ZOOM – Link será enviado posteriormente
ATTACH;FMTTYPE=image/png:https://ispe.org.br/wp-content/uploads/2022/11/comissionamento-outubro-ap-1.png
END:VEVENT
END:VCALENDAR