BEGIN:VCALENDAR
VERSION:2.0
PRODID:-//ISPE BR - ECPv5.12.2//NONSGML v1.0//EN
CALSCALE:GREGORIAN
METHOD:PUBLISH
X-WR-CALNAME:ISPE BR
X-ORIGINAL-URL:https://ispe.org.br
X-WR-CALDESC:Events for ISPE BR
REFRESH-INTERVAL;VALUE=DURATION:PT1H
X-Robots-Tag:noindex
X-PUBLISHED-TTL:PT1H
BEGIN:VTIMEZONE
TZID:America/Sao_Paulo
BEGIN:STANDARD
TZOFFSETFROM:-0300
TZOFFSETTO:-0300
TZNAME:-03
DTSTART:20240101T000000
END:STANDARD
END:VTIMEZONE
BEGIN:VEVENT
DTSTART;TZID=America/Sao_Paulo:20241021T080000
DTEND;TZID=America/Sao_Paulo:20241022T120000
DTSTAMP:20260421T055430
CREATED:20230731T150226Z
LAST-MODIFIED:20240906T123539Z
UID:1989-1729497600-1729598400@ispe.org.br
SUMMARY:Treinamento Online: Validação de Planilhas Eletrônicas
DESCRIPTION:Carga Horária: 8 horas\nInvestimento:\nAntecipado até 30/08/2024\nAssociado ISPE: R$ 410\,00\nNão sócios: R$ 578\,00 \nSem desconto após 30/08/2024\nAssociado ISPE: R$ 540\,00\nNão sócios: R$ 700\,00 \nEstudantes de Graduação (Sujeito à disponibilidade de vaga): R$ 205\,00 (Necessária documentação comprobatória)\nInspetores Órgãos Reguladores: Cortesia (Sujeito à disponibilidade de vaga) / (Necessária documentação comprobatória) \nConteúdo:\nConheça as principais estratégias e metodologias relativas à Validação de Planilhas Eletrônicas e a aceitação ou não das autoridades regulatórias sobre o tema. \nComo podemos validar Planilhas Eletrônicas e diminuir o risco do uso das mesmas em termos de Segurança do Paciente\, Qualidade do Produto\, Integridade da Informação e sua Rastreabilidade:\n    • Metodologia\n    • Gerenciamento\n    • Segurança  \nSerão abordados neste treinamento: • Metodologia\, • Tipos de Planilhas (Usos de planilhas nas empresas da ciências da vida\, • Motivos relevantes para validar Planilhas Eletrônicas)\, • Estrutura de Gerenciamento\, • Papeis e Responsabilidades\, • Qualificação /Testes\, • Análise (Impacto)\, • Documentação\, • Classificação do Risco\, • Dicas de Segurança\, • Exercícios\, • Manutenção do Estado de Validado e • Aposentadoria. \nObjetivos:\nO objetivo é auxiliar profissionais no Desenvolvimento\, Operação e Manutenção de Validação de Planilhas Eletrônicas que estejam envolvidas no processual de pesquisa\, desenvolvimento\, manufatura\, controle da qualidade\, importação\, armazenagem e distribuição de produtos médicos de consumo humano\, das indústrias de Ciências da Vida\, no segmento: • Fabricação de Insumos Farmacêuticos Ativos; • Fabricação de Medicamentos; • Fabricação para Produtos Saneantes; • Fabricação para Produtos de Higiene Pessoal\, Cosméticos e Perfumes entre outros. Referência as normativas GAMP 5 /2008; Guia n° 33/2020 – Validação de Sistemas Computadorizados. \nPúblico-alvo:\nTreinamento voltado a todos os estudantes\, colaboradores e fornecedores de empresas de ciências da vida\, com maior destaque às seguintes áreas de atuação:\n• Validação de Sistemas Computadorizados.\n• Assuntos Regulatórios.\n• Farmacovigilância.\n• Pesquisa Clínica.\n• Amostragem de Materiais.\n• Estoque.\n• Pesagem.\n• Produção.\n• Controle de Qualidade.\n• Garantia da Qualidade.\n• SAC.\n• Recebimento / Distribuição. \nInstrutora:\nMarcele Guidastre (MG Consultoria)\nPós-graduada em Análise de Sistemas pela Uni Lins (Centro Universitário de Lins)\, e de Gestão da Qualidade em (Validação de Sistema Computadorizados) com 26 anos de experiência\, nas atividades relacionadas\, adquiridos em empresas dos segmentos farmacêutico\, financeiro\, industrial\, entre outras.\n• Auditora em Sistemas de Gestão da Qualidade • Auditoria em Fornecedores •  Especialista em Governança de TI • Especialista em Validação de Sistema Computadorizados • Especialista em Validação de Planilhas Eletrônicas • Especialista em Qualificação de Infraestrutura de TI • Especialista em Quality by Design desde a construção civil\, seguido de processos • Especialista em Comissionamento /Qualificação de Equipamentos • Gerenciamento de projetos para implantação de sistemas • Gestão de Projetos de todos os segmentos • Implementadora da ISO 9001:2015 • Analista de Processos.
URL:https://ispe.org.br/evento/treinamento-online-validacao-de-planilhas-eletronicas-4/
LOCATION:ZOOM – Link será enviado posteriormente
ATTACH;FMTTYPE=image/png:https://ispe.org.br/wp-content/uploads/2023/07/validacao-de-planilhas-outubro-ap.png
END:VEVENT
END:VCALENDAR