BEGIN:VCALENDAR
VERSION:2.0
PRODID:-//ISPE BR - ECPv5.12.2//NONSGML v1.0//EN
CALSCALE:GREGORIAN
METHOD:PUBLISH
X-WR-CALNAME:ISPE BR
X-ORIGINAL-URL:https://ispe.org.br
X-WR-CALDESC:Events for ISPE BR
REFRESH-INTERVAL;VALUE=DURATION:PT1H
X-Robots-Tag:noindex
X-PUBLISHED-TTL:PT1H
BEGIN:VTIMEZONE
TZID:America/Sao_Paulo
BEGIN:STANDARD
TZOFFSETFROM:-0300
TZOFFSETTO:-0300
TZNAME:-03
DTSTART:20240101T000000
END:STANDARD
END:VTIMEZONE
BEGIN:VEVENT
DTSTART;TZID=America/Sao_Paulo:20240924T080000
DTEND;TZID=America/Sao_Paulo:20240925T120000
DTSTAMP:20260421T073235
CREATED:20230628T145516Z
LAST-MODIFIED:20240816T194617Z
UID:1943-1727164800-1727265600@ispe.org.br
SUMMARY:Treinamento Online: "Qualificação e Gerenciamento de Infraestrutura de TI"
DESCRIPTION:Carga Horária: 8 horas\nInvestimento:\nAntecipado até 01/07/2024\nAssociado ISPE: R$ 410\,00\nNão sócios: R$ 578\,00 \nSem desconto após 01/07/2024\nAssociado ISPE: R$ 540\,00\nNão sócios: R$ 700\,00 \nEstudantes de Graduação (Sujeito à disponibilidade de vaga): R$ 205\,00 (Necessária documentação comprobatória)\nInspetores Órgãos Reguladores: Cortesia (Sujeito à disponibilidade de vaga) / (Necessária documentação comprobatória) \nAbordagem:\nCloud\, SAAS\, Data Center\, Automação\, M.E.S. e Data Integrity: venha conhecer como a metodologia GAMP pode auxiliá-lo com esses temas. \nComo garantir o atendimento das demandas regulatórias provendo uma infraestrutura adequada e segura para os sistemas de Automação e Gestão?\n* Integridade de Dados\n* Gerenciamento de Infraestrutura\n* Metodologias e Controles \nAlém da metodologia GAMP 5\, com foco em Análise de Riscos\, este treinamento também aborda os conceitos de 21 CFR Part 11 e segurança da informação\, Data Integrity e uso de outras metodologias similares\, como PMI\, Cobit\, Itil\, ISO 27000. \nO guia ISPE “IT Infrastructure Control and Compliance” provê suporte consistente e robusto para o cumprimento das demandas regulatórias em Infraestruturas de TI.	 \nObjetivos:\nApresentar o ciclo de vida para qualificação da infraestrutura de Informática e Automação\, bem como\, os diversos controles para um completo gerenciamento dos componentes e softwares desta infraestrutura. \nPúblico Alvo:\nProfissionais de Informática e Automação.\nMembros das equipes da Qualidade e Validação.\nFornecedores de soluções de sistemas de gestão e automação.\nProvedores de serviços de TI e automação\, incluindo data center\, Cloud Computing\, SAAS e IAAS. \nInstrutora:\nJozie Azevedo de Souza (Organon)\nResponsável pela área de Informática para as Fábricas de Saúde Humana da Organon do Brasil e na Argentina.\nEngenheira Eletrotécnica e Analista de Sistemas com mais de 20 anos de experiência em Indústria Farmacêutica.\nParticipou da elaboração do Guia de Validação de Sistemas Computadorizados junto com profissionais da ANVISA publicado em Abril de 2010.\nLiderou o grupo responsável pelo capítulo de Validação de Sistemas do Guia de Qualificação e Validação do SINDUSFARMA.\nLiderou o grupo responsável pela elaboração do Guia de Integridade de Dados do SINDUSFARMA.\nLíder do Comitê GAMP da ISPE Brasil
URL:https://ispe.org.br/evento/treinamento-online-qualificacao-e-gerenciamento-de-infraestrutura-de-ti-3/
LOCATION:ZOOM – Link será enviado posteriormente
ATTACH;FMTTYPE=image/png:https://ispe.org.br/wp-content/uploads/2023/06/qualificacao-e-gerenciamento.png
END:VEVENT
END:VCALENDAR