BEGIN:VCALENDAR
VERSION:2.0
PRODID:-//ISPE BR - ECPv5.12.2//NONSGML v1.0//EN
CALSCALE:GREGORIAN
METHOD:PUBLISH
X-WR-CALNAME:ISPE BR
X-ORIGINAL-URL:https://ispe.org.br
X-WR-CALDESC:Events for ISPE BR
REFRESH-INTERVAL;VALUE=DURATION:PT1H
X-Robots-Tag:noindex
X-PUBLISHED-TTL:PT1H
BEGIN:VTIMEZONE
TZID:America/Sao_Paulo
BEGIN:STANDARD
TZOFFSETFROM:-0300
TZOFFSETTO:-0300
TZNAME:-03
DTSTART:20240101T000000
END:STANDARD
END:VTIMEZONE
BEGIN:VEVENT
DTSTART;TZID=America/Sao_Paulo:20240812T080000
DTEND;TZID=America/Sao_Paulo:20240813T120000
DTSTAMP:20260421T135853
CREATED:20230505T132216Z
LAST-MODIFIED:20240415T125918Z
UID:1837-1723449600-1723550400@ispe.org.br
SUMMARY:Treinamento Online: Qualificação e Gestão de Fornecedores Farmacêuticos – Visão de Gerenciamento de Riscos e Ciclo de Vida do Fornecedor
DESCRIPTION:Carga Horária: 8 horas\nInvestimento:\nAntecipado até 15/06/2024\nAssociado ISPE: R$ 410\,00\nNão sócios: R$ 578\,00 \nSem desconto após 15/06/2024\nAssociado ISPE: R$ 540\,00\nNão sócios: R$ 700\,00 \nEstudantes de Graduação (Sujeito à disponibilidade de vaga): R$ 205\,00 (Necessária documentação comprobatória)\nInspetores Órgãos Reguladores: Cortesia (Sujeito à disponibilidade de vaga) / (Necessária documentação comprobatória) \nEmenta:\nO treinamento de “Qualificação e Gestão de Fornecedores Farmacêuticos – Visão de Gerenciamento de Riscos e Ciclo de Vida do Fornecedor” provê ao público a capacitação para desenvolver o programa de qualificação (de acordo com as RDCs Anvisa\, ICH Q8 e Q9 e ISO 9001)\, qualificar e auditar\, além de gerir a performance dos fornecedores farmacêuticos qualificados através de indicadores de desempenho\, otimizando as relações entre as empresas e disponibilizando materiais e produtos de qualidade nos prazos acordados.  \nObjetivos:\n* Capacitar os participantes na elaboração e gestão do programa de qualificação de fornecedores farmacêuticos.\n* Conhecer as principais legislações aplicáveis.\n* Utilização das ferramentas de auditoria e indicadores de performance.\n* Mesa Redonda Virtual. \nConteúdo Programático:\n• Abertura\n• Conceitos da Qualificação de Fornecedores\n• Requisitos Regulatórios\n• Visão de Gerenciamento de Riscos do Fornecedor & Processo\n• Elaboração do Programa de Certificação de Fornecedores\n• A Equipe de Auditoria\n• Auditoria Documental e Seus Riscos\n• Auditoria In-loco\, quando se faz necessária\n• Auditoria Remota (Virtual)\n• Desenvolvimento dos Modelos de Avaliação dos Fornecedores\n• Homologação dos Fornecedores\n• Indicadores de Performance\n• Critérios Para Manutenção da Certificação\n• Programas Automatizados de Gestão de Fornecedores\n• Mesa Redonda\n• Encerramento \nInstrutor:\nRicardo Miranda (RM Consulting)\nFarmacêutico Bioquímico\, formado pela Universidade de São Paulo\, Pós-graduação CEAG- Fundação Getúlio Vargas; MBA em Gestão Econômica e Estratégica de Projetos\, Certificação como CPIM pelo APICS ® Institute e Formação Black Belt pelo Instituto Vanzolini – USP.\nAtuou por mais de 35 anos em várias áreas técnicas da indústria farmacêutica (qualidade\, desenvolvimento\, produção\, engenharia\, excelência operacional\, logística e supply).\nMais de 20 anos atuando na área de logística de temperatura controlada nas Américas e Presidente do Comitê de Cadeia Fria ISPE Brasil.\nPresidente da ISPE Brasil.\nProfessor de Pós-graduação.\nConsultor Sênior na RM Consulting.
URL:https://ispe.org.br/evento/treinamento-online-qualificacao-e-gestao-de-fornecedores-farmaceuticos-visao-de-gerenciamento-de-riscos-e-ciclo-de-vida-do-fornecedor-2/
LOCATION:ZOOM – Link será enviado posteriormente
ATTACH;FMTTYPE=image/png:https://ispe.org.br/wp-content/uploads/2023/05/qualificacao-e-gestao-de-fornecedores-12-de-agosto.png
END:VEVENT
END:VCALENDAR