BEGIN:VCALENDAR
VERSION:2.0
PRODID:-//ISPE BR - ECPv5.12.2//NONSGML v1.0//EN
CALSCALE:GREGORIAN
METHOD:PUBLISH
X-WR-CALNAME:ISPE BR
X-ORIGINAL-URL:https://ispe.org.br
X-WR-CALDESC:Events for ISPE BR
REFRESH-INTERVAL;VALUE=DURATION:PT1H
X-Robots-Tag:noindex
X-PUBLISHED-TTL:PT1H
BEGIN:VTIMEZONE
TZID:America/Sao_Paulo
BEGIN:STANDARD
TZOFFSETFROM:-0300
TZOFFSETTO:-0300
TZNAME:-03
DTSTART:20240101T000000
END:STANDARD
END:VTIMEZONE
BEGIN:VEVENT
DTSTART;TZID=America/Sao_Paulo:20240520T080000
DTEND;TZID=America/Sao_Paulo:20240521T120000
DTSTAMP:20260421T223337
CREATED:20240202T115028Z
LAST-MODIFIED:20240508T143323Z
UID:2287-1716192000-1716292800@ispe.org.br
SUMMARY:Seminário Online: Climatização em áreas controladas: Análise de Risco\, Sistemas\, Antecâmaras\, Filtros e Testes
DESCRIPTION:Carga Horária: 8 horas\nInvestimento:\nAntecipado até 10/04/2024\nAssociado ISPE: R$ 410\,00\nNão sócios: R$ 578\,00 \nSem desconto após 10/04/2024\nAssociado ISPE: R$ 540\,00\nNão sócios: R$ 700\,00 \nEstudantes de Graduação (Sujeito à disponibilidade de vaga): R$ 205\,00 (Necessária documentação comprobatória)\nInspetores Órgãos Reguladores: Cortesia (Sujeito à disponibilidade de vaga) / (Necessária documentação comprobatória) \nAbordagem:\nTécnica\, operacional trazendo o atualmente disponível no mercado. \nObjetivo: \nPossibilitar uma visão ampla do ciclo da instalação de HVAC/AVAC para Áreas Estéreis Instalações Novas e Existentes\nEsclarecer dúvidas\nDespertar ideias \nPúblico Alvo:\nUsuários\, Equipe Técnica\, Equipe de Manutenção\, e Garantia da qualidade\, Pessoas que e estejam interessadas em aumentar o conhecimento visando da climatização para Sala Limpa. \nPrograma Dia 1:\n8h\nIntrodução  \n8h30min\nAnálise de Risco na Qualidade\nMarcos Pereira – Johnson & Johnson \n9h45min\nSistemas de Climatização para áreas controladas \nJoão Carlos Corrêa da Silva – RAC Sistemas\nTópicos: \n•Uma visão estratégica sobre o futuro.\n•Descarbonização e Sustentabilidade.\n•Conceito de Sala Limpa e Grandezas controladas.\n•Conceitos: Renovação de ar\, Número de trocas\, Cascata/Fluxo.\n•Tipos de sistema: Água gelada x Expansão direta.\n•Vida Útil. \n11h – 11h10min\nCoffee break \n11h10min\nConceitos de utilização de Antecâmaras (Pessoas e Materiais) sob GMP.\nCarlos Eduardo Rein – Reintech\nTópicos: \n•Conceitos de utilização de Antecâmaras (Pessoas e Materiais)\, sob ponto de vista de GMP\n•Lógica de antecâmaras\, tipos de classificações\, pressurizações e aplicações práticas \n12h25min – Término do 1º. dia \nPrograma Dia 2:\n8h30min\nFiltros Absolutos –  Filtragem de ar\nJosé Augusto S. Senatore- American Air Filter\nTópicos: \nSistemas de filtragem do ar:\n•Atualizações das normas de filtros e o impacto da ISO16890.\n•Desafios e oportunidades de redução de consumo de energia.\n•Integridade\, Conformidade e redução de risco. \n9h15min\nTestes\, Comissionamento\nCélio S. Martin – Consultor\nTópicos: \n•A perspectiva do projeto\n•Requisitos do usuário\n•Definições e etapas\n•Avaliação de impacto (ISPE)\n•Gestão de critérios críticos\n•Ensaios estáticos e dinâmicos  \n10h40min – 10h55min\nCoffee break \n10h55min\nMesa redonda com todos os palestrantes para esclarecimentos de dúvidas. \nNota: \nEsperamos neste momento esclarecer e debater todas as dúvidas levantadas inclusive as enviadas por escrito ao longo do evento.\nAs respostas serão priorizadas pelos palestrantes em função da relevância aos temas apresentados e dúvidas coincidentes. \n12h\nEncerramento \nPalestrantes:\nMarcos Pereira – Johnson & Johnson\nJoão Carlos Corrêa da Silva – RAC Sistemas\nCarlos Eduardo Rein – Reintech\nJosé Augusto S. Senatore- American Air Filter\nCélio S. Martin – Consultor
URL:https://ispe.org.br/evento/seminario-tecnico-climatizacao-em-areas-controladas-antecamaras-sistemas-filtros-testes-e-relatos-reais/
LOCATION:ZOOM – Link será enviado posteriormente
ATTACH;FMTTYPE=image/png:https://ispe.org.br/wp-content/uploads/2024/02/climatizacao-ap.png
END:VEVENT
END:VCALENDAR