BEGIN:VCALENDAR
VERSION:2.0
PRODID:-//ISPE BR - ECPv5.12.2//NONSGML v1.0//EN
CALSCALE:GREGORIAN
METHOD:PUBLISH
X-WR-CALNAME:ISPE BR
X-ORIGINAL-URL:https://ispe.org.br
X-WR-CALDESC:Events for ISPE BR
REFRESH-INTERVAL;VALUE=DURATION:PT1H
X-Robots-Tag:noindex
X-PUBLISHED-TTL:PT1H
BEGIN:VTIMEZONE
TZID:America/Sao_Paulo
BEGIN:STANDARD
TZOFFSETFROM:-0300
TZOFFSETTO:-0300
TZNAME:-03
DTSTART:20240101T000000
END:STANDARD
END:VTIMEZONE
BEGIN:VEVENT
DTSTART;TZID=America/Sao_Paulo:20240517T090000
DTEND;TZID=America/Sao_Paulo:20240517T103000
DTSTAMP:20260421T224848
CREATED:20240413T230247Z
LAST-MODIFIED:20240417T103207Z
UID:2514-1715936400-1715941800@ispe.org.br
SUMMARY:Webinar Gratuito: "Dual mode Isolators Aseptic and containment"
DESCRIPTION:“Nova tecnologia relacionada a utilização de um único Sistema de Isolador capaz de operar para fins de Contenção ou Assépticos”  \nConteúdo:\nA Telstar apresentará uma nova tecnologia relacionada a utilização de um único Sitema de Isolador combinando perfeitamente os modos operacionais assépticos e de contenção. Explore os recursos de design inovadores com o John Williams\, gerente de produto para sistemas de isoladores de contenção\, enquanto ele fornece uma visão geral abrangente dessa tecnologia flexível. Incluindo motivos pelos quais você pode considerar este isolador e destacando suas vantagens e capacidades:\n• Mesclando os modos asséptico e de contenção.\n• Explicação de design flexível.\n• Abordagem rentável.\n• Conformidade com os padrões da indústria de equipamentos farmacêuticos. \nPúblico Alvo:\nGerentes de fábrica\, gerente de esterilização e área afins. \nPalestrante:\nJohn Williams (Telstar UK)\nGerente de Produto de Sistemas de Contenção na Telstar UK e possui  bacharelado em Tecnologia de Design de Produto e Mestrado em Cibercrafts na Staffordshire University\, no Reino Unido.\nJohn passou os últimos 10 anos trabalhando principalmente na indústria de isoladores assépticos e de contenção. É responsável por supervisionar a melhoria contínua dos padrões de produtos da Telstar UK\, ao mesmo tempo que melhora a rastreabilidade\, o controle de alterações e os sistemas de implementação para aumentar a eficácia.\nJohn também se envolve apoiando grandes projetos para clientes em todo o mundo\, além de projetos de pesquisa e desenvolvimento. \nMediadora:\nKesia Pires de Oliveira (Azbil Telstar) \nO Webinar será ministrado em inglês e não haverá tradução simultânea. \nPatrocínio:\nAzbil Telstar
URL:https://ispe.org.br/evento/webinar-gratuito-dual-mode-isolators-aseptic-and-containment/
LOCATION:Online
ATTACH;FMTTYPE=image/png:https://ispe.org.br/wp-content/uploads/2024/04/Dual-mode-ap.png
END:VEVENT
END:VCALENDAR