BEGIN:VCALENDAR
VERSION:2.0
PRODID:-//ISPE BR - ECPv5.12.2//NONSGML v1.0//EN
CALSCALE:GREGORIAN
METHOD:PUBLISH
X-WR-CALNAME:ISPE BR
X-ORIGINAL-URL:https://ispe.org.br
X-WR-CALDESC:Events for ISPE BR
REFRESH-INTERVAL;VALUE=DURATION:PT1H
X-Robots-Tag:noindex
X-PUBLISHED-TTL:PT1H
BEGIN:VTIMEZONE
TZID:America/Sao_Paulo
BEGIN:STANDARD
TZOFFSETFROM:-0300
TZOFFSETTO:-0300
TZNAME:-03
DTSTART:20240101T000000
END:STANDARD
END:VTIMEZONE
BEGIN:VEVENT
DTSTART;TZID=America/Sao_Paulo:20240509T090000
DTEND;TZID=America/Sao_Paulo:20240509T120000
DTSTAMP:20260421T223547
CREATED:20240413T224818Z
LAST-MODIFIED:20240416T135808Z
UID:2510-1715245200-1715256000@ispe.org.br
SUMMARY:Webinar Gratuito: ISPE Brasil e UNIFAR: "Como a Validação de Sistema Remota está sendo aplicada na Indústria Farmacêutica?"
DESCRIPTION:Conteúdo e Objetivo: \nO Webinar “Como a Validação de Sistema Remota está sendo aplicada na Indústria Farmacêutica?” abordará princípios e práticas de validação\, diretrizes regulatórias e como algumas empresas estão executando suas validações de forma remota bem como ferramentas utilizadas. Além disso\, os participantes terão a oportunidade de entender como a agência regulatória está auditando estas validações e suas experiências de auditoria\, fornecendo insights valiosos sobre conformidade regulatória e melhores práticas. \nPúblico-alvo:\nEngenheiros que desenvolvem sistemas; Proprietários de sistemas e proprietários de dados para sistemas; Especialistas em garantia e controle de qualidade; Especialistas em validação; Pessoal de suporte técnico; Todos os níveis de gestão que necessitam de uma compreensão fundamental da conformidade do sistema;  Fornecedores ou consultores de sistemas de computadorizados. \nPalestrantes:\nFabiana Maia Toledo (Azbil Telstar)\nProfissional Farmacêutica\, pós-graduada em Gestão de Projetos\, com experiência em indústrias farmacêuticas e cosméticas nacionais e multinacionais. Atuando em projetos relacionados com Validação de Sistemas Computadorizados como consultora técnica especializada em COTS\, embarcados\, supervisórios e sistemas de gestão. \nTatiana Oliveira da Silva (COVISA – SP)\nFarmacêutica\, graduada pela UNICAMP. Especialista em Vigilância Sanitária e Gestão em Saúde pela FIOCRUZ/RJ\, Especialista em Vigilância em Saúde Ambiental pela UFRJ e atualmente cursando especialização em Direito Sanitário pela FIOCRUZ/DF. Diversos cursos na área de Boas Práticas de Fabricação\, destacando BPF Fase II Mercosul\, Virtual cGMP Training Marathon for Vaccine Manufacturing: Sustaining a GMP – Compliant Environment (WHO) e Virtual cGMP Training Marathon for Vaccine Manufacturing (WHO). Possui 12 anos de experiência em Vigilância Sanitária\, atuando na realização de inspeções sanitárias em indústrias farmacêuticas e insumos farmacêuticos ativos nacionais\, participação em inspeções internacionais de IFA compondo a equipe da ANVISA. Atualmente ocupa o cargo de Coordenadora no Núcleo de Vigilância de Medicamentos na COVISA na Prefeitura do Município da Cidade de São Paulo. Palestrante em eventos de Boas Práticas de Fabricação e Boas Práticas Regulatórias em entidades como PDA Chapter Brazil\, ISPE Brasil\, SBCC\, UNIFAR\, Congresso CONIFA e CRF-SP. Membro Fundador do capítulo PDA Brazil. Docente convidada pela Faculdade de Ciências Farmacêuticas – Unicamp e Instituto Racine. \nMediadora:\nKesia Pires de Oliveira (Azbil Telstar) \nPatrocínio:\nAzbil Telstar
URL:https://ispe.org.br/evento/webinar-gratuito-ispe-brasil-e-unifar-como-a-validacao-de-sistema-remota-esta-sendo-aplicada-na-industria-farmaceutica/
LOCATION:Online
ATTACH;FMTTYPE=image/png:https://ispe.org.br/wp-content/uploads/2024/04/como-a-validacao-ap.png
END:VEVENT
END:VCALENDAR