BEGIN:VCALENDAR
VERSION:2.0
PRODID:-//ISPE BR - ECPv5.12.2//NONSGML v1.0//EN
CALSCALE:GREGORIAN
METHOD:PUBLISH
X-WR-CALNAME:ISPE BR
X-ORIGINAL-URL:https://ispe.org.br
X-WR-CALDESC:Events for ISPE BR
REFRESH-INTERVAL;VALUE=DURATION:PT1H
X-Robots-Tag:noindex
X-PUBLISHED-TTL:PT1H
BEGIN:VTIMEZONE
TZID:America/Sao_Paulo
BEGIN:STANDARD
TZOFFSETFROM:-0300
TZOFFSETTO:-0300
TZNAME:-03
DTSTART:20230101T000000
END:STANDARD
END:VTIMEZONE
BEGIN:VEVENT
DTSTART;TZID=America/Sao_Paulo:20230811T140000
DTEND;TZID=America/Sao_Paulo:20230811T150000
DTSTAMP:20260422T162825
CREATED:20230724T120140Z
LAST-MODIFIED:20230724T120140Z
UID:1971-1691762400-1691766000@ispe.org.br
SUMMARY:Webinar Gratuito: Validação de Sistemas Computadorizados GAMP 5®\, CSA e Métodos Ágeis
DESCRIPTION:Objetivo:\nDurante a palestra\, nossos especialistas abordarão os principais desafios enfrentados nesses setores e compartilhará estratégias inovadoras para superá-los.\nVocê conseguirá ter uma visão macro das diferenças entre o GAMP 5® primeira e segunda edições\, assim como o guia FDA CSA e como utilizá-los para agilizar a conformidade na validação de sistemas. \nPúblico-Alvo:\nEsse evento se destina a Diretores\, Gerentes\, Supervisores\, Farmacêuticos\, Farmoquímicos\, Químicos e Engenheiros dos departamentos de Desenvolvimento\, Produção\, Garantia da Qualidade\, Controle da Qualidade\, Validação\, Engenharia\, Manutenção\, Projetos e Tecnologia da Informação. \nAbertura e boas-vindas:\nJozie Azevedo de Souza – Líder Comitê GAMP no Brasil\nRicardo Miranda – Presidente da ISPE Brasil \nPalestrantes:\nAndré Goto – AstraZeneca\nFarmacêutico com habilitação em Indústria pela Universidade Estadual de Londrina.\nAtuação na indústria de ciências da vida há 18 anos\, com experiência em validação de sistemas de gerenciamento de informações\, laboratório\, automação\, qualificação de equipamentos e utilidades.\nAtuação em projetos ágeis de validação de sistemas globais nas áreas de Operações\, Comercial e R&D.\nPalestrante na Conferência Internacional de Integridade de Dados do ISPE Brasil em 2017.\nDiretor Executivo da ISPE Brasil desde 2019.\nAtualmente Gerente de IT Quality & Compliance na empresa AstraZeneca. \nSilvia Martins – Five Validation\nEngenheira eletricista\, mais de 20 anos de experiência na área de Validação de Sistemas. Treinada na Inglaterra em GAMP 5® e FDA 21 CFR Part11\, na Alemanha em validação de SAP e na Dinamarca em Data Integrity e Data Governance. Coordenou grupo que elaborou o 1º Guia para Validação de Sistemas Computadorizados em conjunto com a ANVISA pelo ISPE\, Manual de Integridade de Dados e Manual de Qualificação de Fornecedores em Nuvem\, ambos no Sindufarma. Ministra cursos de capacitação para os inspetores de VISA e ANVISA. Sócia-proprietária da FIVE Validation.
URL:https://ispe.org.br/evento/webinar-gratuito-validacao-de-sistemas-computadorizados-gamp-5-csa-e-metodos-ageis/
ATTACH;FMTTYPE=image/png:https://ispe.org.br/wp-content/uploads/2023/07/validacao-csa-ap.png
END:VEVENT
END:VCALENDAR